From mboxrd@z Thu Jan 1 00:00:00 1970 Return-Path: Received: from mails.dpdk.org (mails.dpdk.org [217.70.189.124]) by inbox.dpdk.org (Postfix) with ESMTP id 8F47248AF9 for ; Thu, 13 Nov 2025 12:46:37 +0100 (CET) Received: from mails.dpdk.org (localhost [127.0.0.1]) by mails.dpdk.org (Postfix) with ESMTP id 8ACEE40151; Thu, 13 Nov 2025 12:46:37 +0100 (CET) Received: from mail-ua1-f99.google.com (mail-ua1-f99.google.com [209.85.222.99]) by mails.dpdk.org (Postfix) with ESMTP id EC64440151 for ; Thu, 13 Nov 2025 12:46:36 +0100 (CET) Received: by mail-ua1-f99.google.com with SMTP id a1e0cc1a2514c-93518a78d0aso394486241.3 for ; Thu, 13 Nov 2025 03:46:36 -0800 (PST) DKIM-Signature: v=1; a=rsa-sha256; c=relaxed/relaxed; d=iol.unh.edu; s=unh-iol; t=1763034396; x=1763639196; darn=dpdk.org; h=references:in-reply-to:cc:to:from:subject:message-id:date:from:to :cc:subject:date:message-id:reply-to; bh=izhIujxLNfmL4dLDjAsWJkYvu6MAavFjC8Avz/1PLvA=; b=OjfEF1OX8HWhyrpBr4vj65485OGsayGXXcSsMk4c3lCK5p/iZqy8NV1pIfyKMbUpwe EEtzaqkGEY5qH2s3E6g910TXM9KUnHdunaFfCyC/6r64nRZkMSP9WmlIS7o5XxQ7cYj2 hXWOhHNZcXBhqFDpQ+oA44KSWpHv+JoZO6eUI= X-Google-DKIM-Signature: v=1; a=rsa-sha256; c=relaxed/relaxed; d=1e100.net; s=20230601; t=1763034396; x=1763639196; h=references:in-reply-to:cc:to:from:subject:message-id:date:x-gm-gg :x-gm-message-state:from:to:cc:subject:date:message-id:reply-to; bh=izhIujxLNfmL4dLDjAsWJkYvu6MAavFjC8Avz/1PLvA=; b=pgmPA0mvwdHO6fh7X24KayxJO4v5iT5hT/VLm2SpiK13au1CJ3Iw70wjrBNq0gMnkw mLjSmCtDUuiAG02VWbi+BcCGS2fJQZazfjaLYQhN2tUCaHgxxBjpeuc/pD5Eorjax2kn +SMcteFIe7RnsDlN/AIhVQObQHaKW9i2sX2qEts8cqqdZ4/xfv73ntkNvLhpK6W7jT9V SnriNgsatTXxEkibkzI7ay/mbrC8SgQqBYx0HmDmxLGUU48xtHZuxr2QiMOjKTcwZjcy 1hNS3CYGycUKSNeEagPYqBr66T0hvVYmxnsPHjKOcd1A3HBdg2Hq1nuEFLP/pMqn4xyv yohg== X-Gm-Message-State: AOJu0YzQZ5setq9XlFXggxk28bXO1eUmSlS+BfPGjmS0pkG+PjYvtdUE ceEUAseeWpH9gxwH0ZbrBjsNT9icEhfMJFT9KwZsJl2Jf3FnE3hbuF8AyNFtFO5drtX+AdOXi0O TPc+TjDNHIJeFCL4xo1iwTGiN54cbQDAWg7Jicu83FYqMmx5NbmwoMbw+Irwi X-Gm-Gg: ASbGncu3QtykkePt2ZbbwUKOtWiOJCv5qTuv7J+lJa8NgxSJ+cERE4o12fhd7SFgWRK RIJ1Auxh0qLEJmO65kfOul2jqTZAY+jqDO6jES5aYwoduwy/8a7BA6OCM/jffEjKXnsjkThZZld qwvAckTdNlzagg5mC9xjeh6B5Le2YqecIRUuLI1uTB2nco9hsvVxSdwspWfTqaBPDo+3e0LPIDN y+CotZwj13utwiRSEZXVxItsW3zST+uZMZrzZCWbH+Jd6DkIhqHkuOyUh3VJTZ/+UpBn6SbvGFH kQiojgfLchstLJDfojHFFa9MeguffLujXuPEMLPHOiGiWy3WNAvgqof/7hncEk5sO2jclMyYJEA 7iBvk/AU8 X-Google-Smtp-Source: AGHT+IH0zXbhtetAxDwKnXByaRJuNj6yFNQ3EhIkMZyq4aV3ybSt7yEJrVikWUgjL68Kb56r3eWFSPwfhPPc X-Received: by 2002:a05:6102:c4d:b0:5db:ef3f:6c7d with SMTP id ada2fe7eead31-5de07d57ddcmr2319887137.14.1763034396257; Thu, 13 Nov 2025 03:46:36 -0800 (PST) Received: from postal.iol.unh.edu (postal.iol.unh.edu. [2606:4100:3880:1234::84]) by smtp-relay.gmail.com with ESMTPS id ada2fe7eead31-5dfb71d92aesm165667137.3.2025.11.13.03.46.36 (version=TLS1_2 cipher=ECDHE-ECDSA-AES128-GCM-SHA256 bits=128/128); Thu, 13 Nov 2025 03:46:36 -0800 (PST) X-Relaying-Domain: iol.unh.edu Date: Thu, 13 Nov 2025 03:46:36 -0800 (PST) Message-ID: <6915c51c.050a0220.1e94.7fe8SMTPIN_ADDED_MISSING@mx.google.com> Received: from [172.21.0.3] (unknown [172.18.0.240]) by postal.iol.unh.edu (Postfix) with ESMTP id E05136051830; Thu, 13 Nov 2025 06:46:35 -0500 (EST) Subject: |SUCCESS| pw158746 [PATCH] app/proc-info: allow overriding defaults From: dpdklab@iol.unh.edu To: Test Report Cc: dpdk-test-reports@iol.unh.edu In-Reply-To: <20251112130326.2674728-1-mprajapat@marvell.com> References: <20251112130326.2674728-1-mprajapat@marvell.com> Content-Type: text/plain X-BeenThere: test-report@dpdk.org X-Mailman-Version: 2.1.29 Precedence: list List-Id: automatic DPDK test reports List-Unsubscribe: , List-Archive: List-Post: List-Help: List-Subscribe: , Errors-To: test-report-bounces@dpdk.org Test-Label: iol-unit-amd64-testing Test-Status: SUCCESS http://dpdk.org/patch/158746 _Testing PASS_ Submitter: Mohit Kumar Parjapat Date: Wednesday, November 12 2025 13:03:13 DPDK git baseline: Repo:dpdk Branch: master CommitID:be0112878b4fc3a1b918370ed2fe615c52039d77 158746 --> testing pass Upstream job id: Generic-Unit-Test-DPDK#391962 Test environment and result as below: +-------------------------------+----------------+ | Environment | dpdk_unit_test | +===============================+================+ | Debian GNU/Linux 12 | PASS | +-------------------------------+----------------+ | Fedora Linux 40 | PASS | +-------------------------------+----------------+ | Fedora Linux 41 | PASS | +-------------------------------+----------------+ | CentOS Stream 9 | PASS | +-------------------------------+----------------+ | CentOS Stream 10 | PASS | +-------------------------------+----------------+ | Red Hat Enterprise Linux 8.10 | PASS | +-------------------------------+----------------+ | Fedora Linux 42 | PASS | +-------------------------------+----------------+ | Ubuntu 24.04 | PASS | +-------------------------------+----------------+ | Ubuntu 22.04 | PASS | +-------------------------------+----------------+ | Red Hat Enterprise Linux 9.5 | PASS | +-------------------------------+----------------+ | Ubuntu 20.04 | PASS | +-------------------------------+----------------+ Debian GNU/Linux 12 Kernel: 5.15 Compiler: gcc gcc (Debian 12.2.0-14+deb12u1) 12.2.0 Fedora Linux 40 Kernel: 5.15 Compiler: clang gcc (GCC) 14.2.1 20240912 (Red Hat 14.2.1-3) Fedora Linux 41 Kernel: 5.15 Compiler: gcc gcc (GCC) 14.3.1 20250523 (Red Hat 14.3.1-1) CentOS Stream 9 Kernel: 5.15 Compiler: gcc gcc (GCC) 11.5.0 20240719 (Red Hat 11.5.0-11) CentOS Stream 10 Kernel: 5.15 Compiler: gcc gcc (GCC) 14.2.1 20250110 (Red Hat 14.2.1-8) Red Hat Enterprise Linux 8.10 Kernel: 5.15 Compiler: gcc gcc (GCC) 8.5.0 20210514 (Red Hat 8.5.0-22) Fedora Linux 42 Kernel: 5.15 Compiler: gcc gcc (GCC) 15.2.1 20250808 (Red Hat 15.2.1-1) Ubuntu 24.04 Kernel: 5.15 Compiler: gcc gcc (Ubuntu 13.3.0-6ubuntu2~24.04) 13.3.0 Ubuntu 22.04 Kernel: 5.15 Compiler: gcc gcc (Ubuntu 11.4.0-1ubuntu1~22.04) 11.4.0 Red Hat Enterprise Linux 9.5 Kernel: 5.15 Compiler: gcc gcc (GCC) 11.5.0 20240719 (Red Hat 11.5.0-2) Ubuntu 20.04 Kernel: 5.15 Compiler: gcc gcc (Ubuntu 9.4.0-1ubuntu1~20.04.2) 9.4.0 To view detailed results, visit: https://lab.dpdk.org/results/dashboard/patchsets/34566/ UNH-IOL DPDK Community Lab To manage your email subscriptions, visit: https://lab.dpdk.org/results/dashboard/preferences/subscriptions/