From mboxrd@z Thu Jan 1 00:00:00 1970 Return-Path: Received: from mails.dpdk.org (mails.dpdk.org [217.70.189.124]) by inbox.dpdk.org (Postfix) with ESMTP id 9F70E48AF9 for ; Thu, 13 Nov 2025 13:06:21 +0100 (CET) Received: from mails.dpdk.org (localhost [127.0.0.1]) by mails.dpdk.org (Postfix) with ESMTP id 9A04640151; Thu, 13 Nov 2025 13:06:21 +0100 (CET) Received: from mail-yx1-f99.google.com (mail-yx1-f99.google.com [74.125.224.99]) by mails.dpdk.org (Postfix) with ESMTP id ADE6040151 for ; Thu, 13 Nov 2025 13:06:19 +0100 (CET) Received: by mail-yx1-f99.google.com with SMTP id 956f58d0204a3-63f9beb27b9so655387d50.1 for ; Thu, 13 Nov 2025 04:06:19 -0800 (PST) DKIM-Signature: v=1; a=rsa-sha256; c=relaxed/relaxed; d=iol.unh.edu; s=unh-iol; t=1763035579; x=1763640379; darn=dpdk.org; h=references:in-reply-to:cc:to:from:subject:message-id:date:from:to :cc:subject:date:message-id:reply-to; bh=xwcBXoVCBw073EYnhDA6xZVoXPWnlE3f9/DKuUQEvwE=; b=RBxOLe3g0fb3igZ+jsLcdu8/+cWc4L1njsm/wURM4aQ6nBZ5j10GhPWFu6BpBTu/2Q RZC4wlFAczYWBI5UpU2dUtQzkyQQuzHw8t+4Nrp2Q7HIwCu8c8coj/ouHyzST120BmA6 4Ke0/gNFpMLtBh2u38F+M35pUJrRrO5R3iJPw= X-Google-DKIM-Signature: v=1; a=rsa-sha256; c=relaxed/relaxed; d=1e100.net; s=20230601; t=1763035579; x=1763640379; h=references:in-reply-to:cc:to:from:subject:message-id:date:x-gm-gg :x-gm-message-state:from:to:cc:subject:date:message-id:reply-to; bh=xwcBXoVCBw073EYnhDA6xZVoXPWnlE3f9/DKuUQEvwE=; b=NvIpBy7IbANSIp8yW5YBiNC2sf31Gcp1S7jQYfoEWPQ2t20c2cyLzy7vIGtRcI1f2n OAgbNcEM1lZsC5gqZtP97Zw6Q2tjcPmZkqDIgGlzEH6GaNXyMA6g8p9/SFbIl4omsIU7 OK6hWgfYsYHzh//v+PsKDyBLjM2CaCC5P8LC0MQHvAfUQeDddp38daJNKklDzfT5tnRt M9bJjhXhqQs+07cWSZz9bKKXOoVsfyE3yiEjgRO+oBpIAnk3+t4jCpmf8nB/PRAg52j2 mSf85wGjHe+pE/yWwKLjbD/kAdJdt2ZmgI68ike/yM+EX9MvPtrjOqo6B0FL0d0GD0gZ IGpg== X-Gm-Message-State: AOJu0Yz3IyaqWJgShlWnhzsOV2ZMNg3qvrF0f9QfQRiWH76gmjO+nR8M x9cDMGPe6zTWUJnh8PTOmvQHeRrxPZuaV1j8d1ZjVojp6WOoYTptGvxgI5s+HptSk3ZxkkJB2+/ dBAc+3lbY175lUvY8183pNUDv4lVxbKWVysAe5KAgG660 X-Gm-Gg: ASbGnctN1DyZ0Dkrl3x0N6LfJpIk67v7pSvLz5oED0OlakHfWIr1H1b0KA0EY4spKAn G1iHZET6ewANH0ioQAvAJ+5+JurKfDFODoaX7BtrvlPZAbGjaxa21hkTFlnQvz5CKNxreVHg2M4 JRtk8p+vDhSQYjFKC7JikIqp4aHQH/yru/xMn9SVpfymTWLFLiSP4Ri5lWG6/vqgmPGFLV0i3Pk Uiqpu2qFUn57dYh7fc3xfiCtJLUjZZ9a8PTlUu3JfPfrfTsreIIP8xQ14UmT0u2qIF6ZubaZtqV a8e3DK8CeiPXOFAGEA1iBLyjrLuefj+kY6YnpKmmXac7A9G9Plx1R0RDWf0slfqJ6cqmWs7jADq Q3B32bj+9cJLlLgIoNqdVqtRObfhhhnI= X-Google-Smtp-Source: AGHT+IHnLdWDpD3rluTw9QgNjym0gAmB55R1dB7t1b602bOtIXzovl5LtghFbCRVkmeHxw8vvrH9QSlZ2i0A X-Received: by 2002:a05:690c:9993:b0:788:20a1:485c with SMTP id 00721157ae682-78820a15820mr25838717b3.66.1763035579014; Thu, 13 Nov 2025 04:06:19 -0800 (PST) Received: from postal.iol.unh.edu (postal.iol.unh.edu. [132.177.123.84]) by smtp-relay.gmail.com with ESMTPS id 00721157ae682-78821e33f9fsm936437b3.13.2025.11.13.04.06.18 (version=TLS1_2 cipher=ECDHE-ECDSA-AES128-GCM-SHA256 bits=128/128); Thu, 13 Nov 2025 04:06:19 -0800 (PST) X-Relaying-Domain: iol.unh.edu Date: Thu, 13 Nov 2025 04:06:19 -0800 (PST) Message-ID: <6915c9bb.810a0220.123258.489eSMTPIN_ADDED_MISSING@mx.google.com> Received: from [172.21.0.2] (unknown [172.18.0.240]) by postal.iol.unh.edu (Postfix) with ESMTP id ABC266051830; Thu, 13 Nov 2025 07:06:18 -0500 (EST) Subject: |SUCCESS| pw158747-158750 [PATCH] [v3,4/4] bus/fslmc: add support fo From: dpdklab@iol.unh.edu To: Test Report Cc: dpdk-test-reports@iol.unh.edu, Stephen Hemminger In-Reply-To: <20251113095917.1973514-4-hemant.agrawal@nxp.com> References: <20251113095917.1973514-4-hemant.agrawal@nxp.com> Content-Type: text/plain X-BeenThere: test-report@dpdk.org X-Mailman-Version: 2.1.29 Precedence: list List-Id: automatic DPDK test reports List-Unsubscribe: , List-Archive: List-Post: List-Help: List-Subscribe: , Errors-To: test-report-bounces@dpdk.org Test-Label: iol-unit-amd64-testing Test-Status: SUCCESS http://dpdk.org/patch/158750 _Testing PASS_ Submitter: Hemant Agrawal Date: Thursday, November 13 2025 09:59:17 DPDK git baseline: Repo:dpdk-next-net Branch: master CommitID:29807269854f9bfc72f1323273de8e23adc724d4 158747-158750 --> testing pass Upstream job id: Generic-Unit-Test-DPDK#392036 Test environment and result as below: +-------------------------------+----------------+ | Environment | dpdk_unit_test | +===============================+================+ | Fedora Linux 40 | PASS | +-------------------------------+----------------+ | CentOS Stream 9 | PASS | +-------------------------------+----------------+ | Debian GNU/Linux 12 | PASS | +-------------------------------+----------------+ | CentOS Stream 10 | PASS | +-------------------------------+----------------+ | Fedora Linux 41 | PASS | +-------------------------------+----------------+ | Ubuntu 20.04 | PASS | +-------------------------------+----------------+ | Fedora Linux 42 | PASS | +-------------------------------+----------------+ | Red Hat Enterprise Linux 8.10 | PASS | +-------------------------------+----------------+ | Red Hat Enterprise Linux 9.5 | PASS | +-------------------------------+----------------+ | Ubuntu 24.04 | PASS | +-------------------------------+----------------+ | Ubuntu 22.04 | PASS | +-------------------------------+----------------+ Fedora Linux 40 Kernel: 5.15 Compiler: gcc gcc (GCC) 14.2.1 20240912 (Red Hat 14.2.1-3) CentOS Stream 9 Kernel: 5.15 Compiler: gcc gcc (GCC) 11.5.0 20240719 (Red Hat 11.5.0-11) Debian GNU/Linux 12 Kernel: 5.15 Compiler: gcc gcc (Debian 12.2.0-14+deb12u1) 12.2.0 CentOS Stream 10 Kernel: 5.15 Compiler: gcc gcc (GCC) 14.2.1 20250110 (Red Hat 14.2.1-8) Fedora Linux 41 Kernel: 5.15 Compiler: gcc gcc (GCC) 14.3.1 20250523 (Red Hat 14.3.1-1) Ubuntu 20.04 Kernel: 5.15 Compiler: gcc gcc (Ubuntu 9.4.0-1ubuntu1~20.04.2) 9.4.0 Fedora Linux 42 Kernel: 5.15 Compiler: gcc gcc (GCC) 15.2.1 20250808 (Red Hat 15.2.1-1) Red Hat Enterprise Linux 8.10 Kernel: 5.15 Compiler: gcc gcc (GCC) 8.5.0 20210514 (Red Hat 8.5.0-22) Red Hat Enterprise Linux 9.5 Kernel: 5.15 Compiler: gcc gcc (GCC) 11.5.0 20240719 (Red Hat 11.5.0-2) Ubuntu 24.04 Kernel: 5.15 Compiler: gcc gcc (Ubuntu 13.3.0-6ubuntu2~24.04) 13.3.0 Ubuntu 22.04 Kernel: 5.15 Compiler: gcc gcc (Ubuntu 11.4.0-1ubuntu1~22.04) 11.4.0 To view detailed results, visit: https://lab.dpdk.org/results/dashboard/patchsets/34568/ UNH-IOL DPDK Community Lab To manage your email subscriptions, visit: https://lab.dpdk.org/results/dashboard/preferences/subscriptions/