From mboxrd@z Thu Jan 1 00:00:00 1970 Return-Path: Received: from mails.dpdk.org (mails.dpdk.org [217.70.189.124]) by inbox.dpdk.org (Postfix) with ESMTP id 116CB48AF9 for ; Thu, 13 Nov 2025 13:17:44 +0100 (CET) Received: from mails.dpdk.org (localhost [127.0.0.1]) by mails.dpdk.org (Postfix) with ESMTP id 0BEC340151; Thu, 13 Nov 2025 13:17:44 +0100 (CET) Received: from mail-pl1-f226.google.com (mail-pl1-f226.google.com [209.85.214.226]) by mails.dpdk.org (Postfix) with ESMTP id 16B8440151 for ; Thu, 13 Nov 2025 13:17:43 +0100 (CET) Received: by mail-pl1-f226.google.com with SMTP id d9443c01a7336-2958db8ae4fso7173705ad.2 for ; Thu, 13 Nov 2025 04:17:43 -0800 (PST) DKIM-Signature: v=1; a=rsa-sha256; c=relaxed/relaxed; d=iol.unh.edu; s=unh-iol; t=1763036262; x=1763641062; darn=dpdk.org; h=references:in-reply-to:cc:to:from:subject:message-id:date:from:to :cc:subject:date:message-id:reply-to; bh=FIxxqUcT3mlXNIK/Fc2GDaTdW3J/2Awu5bvyRKh6JJo=; b=TEu351d3E7MXRnc0wYCNYgBcykz0FfHQeIXyZa52aLQ/QbussNdFHnbtcADDu2E+ck KwYdYkjU3XGOkJuMGeL66s1OYVfgpMHl58zUK/mzIjOo3q5dCbOKhJRaZ0eLpHhJuDFe ux+iYbjVXYLRj+97FTWz5YZfGRYzCdDUlYlKo= X-Google-DKIM-Signature: v=1; a=rsa-sha256; c=relaxed/relaxed; d=1e100.net; s=20230601; t=1763036262; x=1763641062; h=references:in-reply-to:cc:to:from:subject:message-id:date:x-gm-gg :x-gm-message-state:from:to:cc:subject:date:message-id:reply-to; bh=FIxxqUcT3mlXNIK/Fc2GDaTdW3J/2Awu5bvyRKh6JJo=; b=ADdwpqAtvZfaDFh4Ea1TM3LkyYextdHWi6pDM9J/zxMY4yhspgY7MMTO3V+Z91x2FR U3E5rhHnDS8zNLzw+o11O76UcIcIulxHXJwTBoBFsFxaYFBi4G+7W1/U78UTicNVCfu9 0/aejSuwzybSGBsMSIq7pwzJItqLm1vOYauxvwMo7BaCILAieho7yktpm7wwTA2yWRE6 6bqN0zDzOpaoSldgJlhohDgeTosyyToNdhagg2ne9y7+nmhMx6dJBMGTzyepu8VSZ8CI G/fOmufYdTiSCDQfojshB47ICuJ7tF8BNm0q6zXEWwJlkLX0CxunePEzUzxMvpPtHYhe WRvA== X-Gm-Message-State: AOJu0Yx8ztM8KAJjuOeix/hOJ7UmSVAFSKk4rREmw+S+70sokNCSydYD wKsj4qHcizWxGw2ecRB8lsLxKWHH3ArC0H+UMTlK97dStLZUwbhJRDW4ubywzgSjjmwLoNZei10 v6Hbsl8UcBjeq16OaECMTNmMWOPdEi8A4+H6N4Dc9INe4 X-Gm-Gg: ASbGncuDjT3qCf3BtUimYfiQIsYlpSDcjm6GW1albjH1f4z0znLXkCYpN2YAUVm71Rv ure+uJAQ3Oj2b6GE6x1G8yQPMNwyyiAIdRzHYnedOF89QL4fJDi4PG93mFbHgkc7/UkQJKq6hl9 i3129arjd2GlJn/V7zlLqMYlybYSpg1ESQeSMxVL9DE+/EWiOKkiTIR2OgwIUGMzC7V1W+PDvxc 4DG77Y71GwHtaoBLhRUH9N5tDAyFQkpRVyyPNssCCaJI2sXwyBHY0hVYmnVsgI+EOOxwm8bkbq5 I5NRO1aj42Ru6fbf+jvfNYm7Ms4xK/4s4mJWEfg9nC4Gm4CYuoAjKXpJohXMyUF+Qyh9uCWt2YT LQO9IwZuYYKd1tmz0owcT1dxY9FzN+NM= X-Google-Smtp-Source: AGHT+IFuJH6Wm52MJVzyKGMjMcWQKm+Ksr9RGfo7+Z0l5uC+h6WHaUDGvcXPEpt34RV8ZRvuF87YztJxx9rq X-Received: by 2002:a17:903:3d10:b0:298:60d5:d272 with SMTP id d9443c01a7336-29860d5d2bbmr10399005ad.17.1763036262216; Thu, 13 Nov 2025 04:17:42 -0800 (PST) Received: from postal.iol.unh.edu (postal.iol.unh.edu. [132.177.123.84]) by smtp-relay.gmail.com with ESMTPS id d9443c01a7336-2985c2a8b47sm1986925ad.40.2025.11.13.04.17.42 (version=TLS1_2 cipher=ECDHE-ECDSA-AES128-GCM-SHA256 bits=128/128); Thu, 13 Nov 2025 04:17:42 -0800 (PST) X-Relaying-Domain: iol.unh.edu Date: Thu, 13 Nov 2025 04:17:42 -0800 (PST) Message-ID: <6915cc66.170a0220.1c235c.9dfeSMTPIN_ADDED_MISSING@mx.google.com> Received: from [172.21.0.2] (unknown [172.18.0.240]) by postal.iol.unh.edu (Postfix) with ESMTP id 731AB6051830; Thu, 13 Nov 2025 07:17:41 -0500 (EST) Subject: |SUCCESS| pw158690-158694 [PATCH] [v2,5/5] bus/fslmc: remove raw dev From: dpdklab@iol.unh.edu To: Test Report Cc: dpdk-test-reports@iol.unh.edu In-Reply-To: <20251112091049.2669481-6-david.marchand@redhat.com> References: <20251112091049.2669481-6-david.marchand@redhat.com> Content-Type: text/plain X-BeenThere: test-report@dpdk.org X-Mailman-Version: 2.1.29 Precedence: list List-Id: automatic DPDK test reports List-Unsubscribe: , List-Archive: List-Post: List-Help: List-Subscribe: , Errors-To: test-report-bounces@dpdk.org Test-Label: iol-compile-amd64-testing Test-Status: SUCCESS http://dpdk.org/patch/158694 _Testing PASS_ Submitter: David Marchand Date: Wednesday, November 12 2025 09:10:48 DPDK git baseline: Repo:dpdk Branch: master CommitID:be0112878b4fc3a1b918370ed2fe615c52039d77 158690-158694 --> testing pass Upstream job id: Windows-Compile-DPDK-VS#7512 Test environment and result as below: +-------------------------------+--------------------+------------------+-------------------+ | Environment | dpdk_meson_compile | dpdk_compile_ovs | dpdk_msvc_compile | +===============================+====================+==================+===================+ | Ubuntu 20.04 | PASS | SKIPPED | SKIPPED | +-------------------------------+--------------------+------------------+-------------------+ | FreeBSD 14.2 | PASS | SKIPPED | SKIPPED | +-------------------------------+--------------------+------------------+-------------------+ | CentOS Stream 9 | PASS | SKIPPED | SKIPPED | +-------------------------------+--------------------+------------------+-------------------+ | CentOS Stream 10 | PASS | SKIPPED | SKIPPED | +-------------------------------+--------------------+------------------+-------------------+ | Debian GNU/Linux 12 | PASS | SKIPPED | SKIPPED | +-------------------------------+--------------------+------------------+-------------------+ | Fedora Linux 42 | PASS | PASS | SKIPPED | +-------------------------------+--------------------+------------------+-------------------+ | openSUSE Leap 15.6 | PASS | SKIPPED | SKIPPED | +-------------------------------+--------------------+------------------+-------------------+ | Red Hat Enterprise Linux 8.10 | PASS | SKIPPED | SKIPPED | +-------------------------------+--------------------+------------------+-------------------+ | Red Hat Enterprise Linux 9.5 | PASS | SKIPPED | SKIPPED | +-------------------------------+--------------------+------------------+-------------------+ | Ubuntu 22.04 | PASS | SKIPPED | SKIPPED | +-------------------------------+--------------------+------------------+-------------------+ | Ubuntu 24.04 | PASS | PASS | SKIPPED | +-------------------------------+--------------------+------------------+-------------------+ | Alpine Linux 3.22.0 | PASS | SKIPPED | SKIPPED | +-------------------------------+--------------------+------------------+-------------------+ | Windows Server 2022 | SKIPPED | SKIPPED | PASS | +-------------------------------+--------------------+------------------+-------------------+ Ubuntu 20.04 Kernel: 4.19 Compiler: gcc gcc (Ubuntu 9.4.0-1ubuntu1~20.04.2) 9.4.0 FreeBSD 14.2 Kernel: 14.2-RELEASE Compiler: clang 18.1.6 CentOS Stream 9 Kernel: 5.15 Compiler: gcc gcc (GCC) 11.5.0 20240719 (Red Hat 11.5.0-11) CentOS Stream 10 Kernel: 5.15 Compiler: gcc gcc (GCC) 14.2.1 20250110 (Red Hat 14.2.1-8) Debian GNU/Linux 12 Kernel: 5.15 Compiler: gcc gcc (Debian 12.2.0-14+deb12u1) 12.2.0 Fedora Linux 42 Kernel: 5.15 Compiler: clang gcc (GCC) 15.2.1 20250808 (Red Hat 15.2.1-1) openSUSE Leap 15.6 Kernel: 5.15 Compiler: gcc gcc (SUSE Linux) 7.5.0 Red Hat Enterprise Linux 8.10 Kernel: 5.15 Compiler: gcc gcc (GCC) 8.5.0 20210514 (Red Hat 8.5.0-22) Red Hat Enterprise Linux 9.5 Kernel: 5.15 Compiler: gcc gcc (GCC) 11.5.0 20240719 (Red Hat 11.5.0-2) Ubuntu 22.04 Kernel: 5.15 Compiler: gcc gcc (Ubuntu 11.4.0-1ubuntu1~22.04) 11.4.0 Ubuntu 24.04 Kernel: 5.15 Compiler: gcc gcc (Ubuntu 13.3.0-6ubuntu2~24.04) 13.3.0 Alpine Linux 3.22.0 Kernel: 5.15 Compiler: gcc gcc (Alpine 14.2.0) 14.2.0 Windows Server 2022 Kernel: 10.0.20348.2031 Compiler: clang 15.0.7, gcc 14.1.0 (MinGW), and MSVC VS 19.39.33521 To view detailed results, visit: https://lab.dpdk.org/results/dashboard/patchsets/34543/ UNH-IOL DPDK Community Lab To manage your email subscriptions, visit: https://lab.dpdk.org/results/dashboard/preferences/subscriptions/