From mboxrd@z Thu Jan 1 00:00:00 1970 Return-Path: Received: from mails.dpdk.org (mails.dpdk.org [217.70.189.124]) by inbox.dpdk.org (Postfix) with ESMTP id 8DD4548AF9 for ; Thu, 13 Nov 2025 13:21:08 +0100 (CET) Received: from mails.dpdk.org (localhost [127.0.0.1]) by mails.dpdk.org (Postfix) with ESMTP id 8619A40151; Thu, 13 Nov 2025 13:21:08 +0100 (CET) Received: from mail-io1-f98.google.com (mail-io1-f98.google.com [209.85.166.98]) by mails.dpdk.org (Postfix) with ESMTP id BEBE940151 for ; Thu, 13 Nov 2025 13:21:07 +0100 (CET) Received: by mail-io1-f98.google.com with SMTP id ca18e2360f4ac-9489dc9845dso32795839f.0 for ; Thu, 13 Nov 2025 04:21:07 -0800 (PST) DKIM-Signature: v=1; a=rsa-sha256; c=relaxed/relaxed; d=iol.unh.edu; s=unh-iol; t=1763036467; x=1763641267; darn=dpdk.org; h=references:in-reply-to:cc:to:from:subject:message-id:date:from:to :cc:subject:date:message-id:reply-to; bh=BeN64M7O/sh6JCqnFhY9hoTuMve6SpQuWLRmF/gN57c=; b=Pe76Hv5M7pTteyrKBhbwIM2KWbXiLyYWr1T7qSIDWVM9vmR4HlkGyk7AyCytMNPcFm tc+i2RjNPBWtYZYQs8I1kWuRN5lguxLSoOTY7ddgNBhSwXaUGIN10v+jFwPkqn/aPTYv gHtwNL2yGocvMVzmATnQ4ooQZAuFvH5kzWKJc= X-Google-DKIM-Signature: v=1; a=rsa-sha256; c=relaxed/relaxed; d=1e100.net; s=20230601; t=1763036467; x=1763641267; h=references:in-reply-to:cc:to:from:subject:message-id:date:x-gm-gg :x-gm-message-state:from:to:cc:subject:date:message-id:reply-to; bh=BeN64M7O/sh6JCqnFhY9hoTuMve6SpQuWLRmF/gN57c=; b=sLut2LDwCKPeTneRXVyrVez39F6nD519oq+ZH0PXxlAzxI1QLW5xVaHLjXc5o4mZlg 9WMi5UA0h82AjCGHi2bu+M5UMjQYR63SsVzlQLP3V0XXQ0NK2BXT6JcNK8/HU0H9yIHy fi4CEwjD94DWqeL7mp0Y3zf9xiP/QmIgaJXykIrl3c+O2fcEgqh+07v/GvbJYFcKLAeq 7gMXtH6hwwID80IncMRF+c9td3L1LIfiHCTDrJF8XqsW5t1vWMEEaXPrXJqWenk4gTFX Kz2zL1AJYKZiAOeqr0EwLhx5auZKqFvkztAAwcH5sTRCpBzyNmXBptNXl1TR8HQGTvxL Zo1A== X-Gm-Message-State: AOJu0YyuQUyJ7BPZ1Xjojbvu/ruBpOuTjry7X5UoYwOSAIYNq5MAP7Xw cgsNjRZ7IG8W3YpSVQrjlzFZpq4ewIiJRENPVyocU+voSEcXLuslZI2fxNWmpgG2B1J9c12oWe4 7ZlQFq6OIxEnwJOmtjtnjPnB1sK4i8tplM6AqqMznex4A X-Gm-Gg: ASbGncuVrcwnyx8rJx5CrmpBtkWCPRdqlPGEjIfBK4N491PTDJZ1qypoLEqdfPZl5TT /KTmQ6w8QTQHjC6oMXUEiGtlV/P/kqeAN1HT7LHqKF87mAnnY5vkNrGlFvm+Kmfd41wUAR2o+/a ZZeG2qRAP0P1R3zG+txwnFZVo65zLmWTpK/wx4DiUhC08XG2ftuGpI4B1vLpRLu5fC8GlBQ45L9 mehp2nEMMGjZ/GxcsfrH2x3IMt6gmMgbm/Jgw7z+ddY+Jc5h8B8mukHAtxGVF2XyHlsZRZN2q/Z 12hRHxsKZWEoamxeBNnNnaITFJU3sQXjaXvDMPu5bJIjneSTyLoZTEND8n+lr4OZfVIYwWfufYR Q8pPH3rYESTu5dUINkpEdFQ/UyXxzhqs= X-Google-Smtp-Source: AGHT+IGxd/VNXaVnQQYY7OjScmzQ8zUVTi4waGKsZ/TRo+YFoRfSNBOm6tGZNtSKyh61n5tTtrVozHFhxkFV X-Received: by 2002:a05:6602:486:b0:945:8eeb:14ab with SMTP id ca18e2360f4ac-948c463df05mr858555939f.9.1763036466951; Thu, 13 Nov 2025 04:21:06 -0800 (PST) Received: from postal.iol.unh.edu (postal.iol.unh.edu. [132.177.123.84]) by smtp-relay.gmail.com with ESMTPS id ca18e2360f4ac-948d2ba338dsm10242039f.4.2025.11.13.04.21.06 (version=TLS1_2 cipher=ECDHE-ECDSA-AES128-GCM-SHA256 bits=128/128); Thu, 13 Nov 2025 04:21:06 -0800 (PST) X-Relaying-Domain: iol.unh.edu Date: Thu, 13 Nov 2025 04:21:06 -0800 (PST) Message-ID: <6915cd32.6b0a0220.2121c.4ed5SMTPIN_ADDED_MISSING@mx.google.com> Received: from [172.21.0.2] (unknown [172.18.0.240]) by postal.iol.unh.edu (Postfix) with ESMTP id 650746051830; Thu, 13 Nov 2025 07:21:06 -0500 (EST) Subject: |SUCCESS| pw158658-158662 [PATCH] [v4,5/5] vhost_user: Increase numb From: dpdklab@iol.unh.edu To: Test Report Cc: dpdk-test-reports@iol.unh.edu, Chenbo Xia , Maxime Coquelin In-Reply-To: <20251111114002.2902696-6-pravin.bathija@dell.com> References: <20251111114002.2902696-6-pravin.bathija@dell.com> Content-Type: text/plain X-BeenThere: test-report@dpdk.org X-Mailman-Version: 2.1.29 Precedence: list List-Id: automatic DPDK test reports List-Unsubscribe: , List-Archive: List-Post: List-Help: List-Subscribe: , Errors-To: test-report-bounces@dpdk.org Test-Label: iol-compile-amd64-testing Test-Status: SUCCESS http://dpdk.org/patch/158662 _Testing PASS_ Submitter: Bathija, Pravin Date: Tuesday, November 11 2025 11:40:02 DPDK git baseline: Repo:dpdk-next-virtio Branch: master CommitID:6b37c26a95388aa41bb5267c7c42f604fd571a38 158658-158662 --> testing pass Upstream job id: Windows-Compile-DPDK-Native#32290 Test environment and result as below: +-------------------------------+--------------------+------------------+-------------------+-------------------------+----------------------+ | Environment | dpdk_meson_compile | dpdk_compile_ovs | dpdk_msvc_compile | dpdk_llvm_clang_compile | dpdk_mingw64_compile | +===============================+====================+==================+===================+=========================+======================+ | Ubuntu 20.04 | PASS | SKIPPED | SKIPPED | SKIPPED | SKIPPED | +-------------------------------+--------------------+------------------+-------------------+-------------------------+----------------------+ | FreeBSD 14.2 | PASS | SKIPPED | SKIPPED | SKIPPED | SKIPPED | +-------------------------------+--------------------+------------------+-------------------+-------------------------+----------------------+ | CentOS Stream 9 | PASS | SKIPPED | SKIPPED | SKIPPED | SKIPPED | +-------------------------------+--------------------+------------------+-------------------+-------------------------+----------------------+ | CentOS Stream 10 | PASS | SKIPPED | SKIPPED | SKIPPED | SKIPPED | +-------------------------------+--------------------+------------------+-------------------+-------------------------+----------------------+ | Debian GNU/Linux 12 | PASS | SKIPPED | SKIPPED | SKIPPED | SKIPPED | +-------------------------------+--------------------+------------------+-------------------+-------------------------+----------------------+ | Fedora Linux 42 | PASS | PASS | SKIPPED | SKIPPED | SKIPPED | +-------------------------------+--------------------+------------------+-------------------+-------------------------+----------------------+ | openSUSE Leap 15.6 | PASS | SKIPPED | SKIPPED | SKIPPED | SKIPPED | +-------------------------------+--------------------+------------------+-------------------+-------------------------+----------------------+ | Red Hat Enterprise Linux 8.10 | PASS | SKIPPED | SKIPPED | SKIPPED | SKIPPED | +-------------------------------+--------------------+------------------+-------------------+-------------------------+----------------------+ | Red Hat Enterprise Linux 9.5 | PASS | SKIPPED | SKIPPED | SKIPPED | SKIPPED | +-------------------------------+--------------------+------------------+-------------------+-------------------------+----------------------+ | Ubuntu 22.04 | PASS | SKIPPED | SKIPPED | SKIPPED | SKIPPED | +-------------------------------+--------------------+------------------+-------------------+-------------------------+----------------------+ | Ubuntu 24.04 | PASS | PASS | SKIPPED | SKIPPED | SKIPPED | +-------------------------------+--------------------+------------------+-------------------+-------------------------+----------------------+ | Alpine Linux 3.22.0 | PASS | SKIPPED | SKIPPED | SKIPPED | SKIPPED | +-------------------------------+--------------------+------------------+-------------------+-------------------------+----------------------+ | Windows Server 2022 | SKIPPED | SKIPPED | PASS | PASS | PASS | +-------------------------------+--------------------+------------------+-------------------+-------------------------+----------------------+ Ubuntu 20.04 Kernel: 4.19 Compiler: gcc gcc (Ubuntu 9.4.0-1ubuntu1~20.04.2) 9.4.0 FreeBSD 14.2 Kernel: 14.2-RELEASE Compiler: clang 18.1.6 CentOS Stream 9 Kernel: 5.15 Compiler: gcc gcc (GCC) 11.5.0 20240719 (Red Hat 11.5.0-11) CentOS Stream 10 Kernel: 5.15 Compiler: gcc gcc (GCC) 14.2.1 20250110 (Red Hat 14.2.1-8) Debian GNU/Linux 12 Kernel: 5.15 Compiler: gcc gcc (Debian 12.2.0-14+deb12u1) 12.2.0 Fedora Linux 42 Kernel: 5.15 Compiler: clang gcc (GCC) 15.2.1 20250808 (Red Hat 15.2.1-1) openSUSE Leap 15.6 Kernel: 5.15 Compiler: gcc gcc (SUSE Linux) 7.5.0 Red Hat Enterprise Linux 8.10 Kernel: 5.15 Compiler: gcc gcc (GCC) 8.5.0 20210514 (Red Hat 8.5.0-22) Red Hat Enterprise Linux 9.5 Kernel: 5.15 Compiler: gcc gcc (GCC) 11.5.0 20240719 (Red Hat 11.5.0-2) Ubuntu 22.04 Kernel: 5.15 Compiler: gcc gcc (Ubuntu 11.4.0-1ubuntu1~22.04) 11.4.0 Ubuntu 24.04 Kernel: 5.15 Compiler: gcc gcc (Ubuntu 13.3.0-6ubuntu2~24.04) 13.3.0 Alpine Linux 3.22.0 Kernel: 5.15 Compiler: gcc gcc (Alpine 14.2.0) 14.2.0 Windows Server 2022 Kernel: 10.0.20348.2031 Compiler: clang 15.0.7, gcc 14.1.0 (MinGW), and MSVC VS 19.39.33521 To view detailed results, visit: https://lab.dpdk.org/results/dashboard/patchsets/34533/ UNH-IOL DPDK Community Lab To manage your email subscriptions, visit: https://lab.dpdk.org/results/dashboard/preferences/subscriptions/