From mboxrd@z Thu Jan 1 00:00:00 1970 Return-Path: Received: from mails.dpdk.org (mails.dpdk.org [217.70.189.124]) by inbox.dpdk.org (Postfix) with ESMTP id D514A48AF9 for ; Thu, 13 Nov 2025 13:28:56 +0100 (CET) Received: from mails.dpdk.org (localhost [127.0.0.1]) by mails.dpdk.org (Postfix) with ESMTP id CEA0040DD6; Thu, 13 Nov 2025 13:28:56 +0100 (CET) Received: from mail-yx1-f99.google.com (mail-yx1-f99.google.com [74.125.224.99]) by mails.dpdk.org (Postfix) with ESMTP id 80D8940DD6 for ; Thu, 13 Nov 2025 13:28:55 +0100 (CET) Received: by mail-yx1-f99.google.com with SMTP id 956f58d0204a3-63fbbad0ac3so664691d50.1 for ; Thu, 13 Nov 2025 04:28:55 -0800 (PST) DKIM-Signature: v=1; a=rsa-sha256; c=relaxed/relaxed; d=iol.unh.edu; s=unh-iol; t=1763036935; x=1763641735; darn=dpdk.org; h=references:in-reply-to:cc:to:from:subject:message-id:date:from:to :cc:subject:date:message-id:reply-to; bh=oVsfI35nKm11Xb6o2tJ+CuNW226PkkQSYDofeNR044Y=; b=Rc3kKRuG0E2V8C/8pogxPFUQYjlw9hNxtOw8MaR0Hsg786JWZhn9cYfOdTvg+mGKiO Aj3DzqbOQWnhjMkIB9+O2T7c7s0b2HUwu4V2U+8aOLqU005Nqsq+YEwPI6RILE4WelbP cefWsXpYHqxy14QX4VL68QCPNcTuiggVKwFkI= X-Google-DKIM-Signature: v=1; a=rsa-sha256; c=relaxed/relaxed; d=1e100.net; s=20230601; t=1763036935; x=1763641735; h=references:in-reply-to:cc:to:from:subject:message-id:date:x-gm-gg :x-gm-message-state:from:to:cc:subject:date:message-id:reply-to; bh=oVsfI35nKm11Xb6o2tJ+CuNW226PkkQSYDofeNR044Y=; b=Y4K0qI9X9coZ7JzsWzDTA76La2G+beJ77oSu01h2qclsWQ3yIeHoiGZu0AWvbVBNF8 7LrvXpnPQlarQqrmNlMR3tP77I3b82ycY9yw3Dd/lAe2z3l1nSvkwr55Ab3I+iXE2XOK 2HKqyIfBKNbuLDRmudyEAAv90c+j913tLT7yzAKzWj6WAMFmq/h29cArPgNgvz51ioO8 lPZkC6MFHcipjUk+GbJEhwuVUmXZ5YB+r+yndv7vqWItWcPdoGu2zG0dyCiyuZokHEM/ Sir96G0YoBVEjkFeudBKyBymel7wiCuiJgPXlFU1AtyJPt6KQSXvrmu86+uWfn6oaPSr 8wnw== X-Gm-Message-State: AOJu0YzC5fFKGtctQ04+AODcVZD+ScaTVZuVTKiAO/2torAbSCKguZBJ rJSXRSPdqzFBSYurlb60dUTQxAkpQ0lg4UE5YA4+XLSzuAN/EqK32AjfvvofqbhUNOJemNh1V4n Jefu+htz8RqZgDKjWW2W+yAeu5oHIjW388HX9Yp4z0Phc X-Gm-Gg: ASbGncs/aS4954WD0wJsJr7Nj5IyoZcsNFYSI7Dg6kMNoi2K+GQeAVYUgBLX508XD3u OGfAoEm9J4k/zo4MsJaRoaSTbjFuQ/uDBaUyaY4VqpuN32qSeo2EyaWlXFkogpxsPGy7Y5r1LHV gQxCPFfllN5xwFnK5nl1ll7Xn/BdqGG2yKkSvwW3HTzdz5jElgq6NhFd67B0PKjgbxfiNdG+kS/ t6ICTt5leIxxUg66pEJAbT/erbXQZimhT+iRwvd1kWuG3H9eUDFCL9AqgrNfbQbW6ZHF+zR0Gok 7vXiG32ag5LgZtKH6FQ6HcXD/kK/CS3gf0a4L3FqI+EcGzuLbpI6WcHMp0TozVEX0F2k2+xjLZr v0TVLBywzePZO/3HPD15ybAiei5/8/Gw= X-Google-Smtp-Source: AGHT+IHQztoQIQxQaxK4bRKwv9Te0JEMF+7N0hBYYhet45WwcWD/g9b3OcYA96mtwVmahJs8X8hLBu6LuMCM X-Received: by 2002:a05:690e:23d3:b0:63c:e3dc:c2c with SMTP id 956f58d0204a3-64101a1f81fmr4468370d50.18.1763036934889; Thu, 13 Nov 2025 04:28:54 -0800 (PST) Received: from postal.iol.unh.edu (postal.iol.unh.edu. [132.177.123.84]) by smtp-relay.gmail.com with ESMTPS id 956f58d0204a3-6410eae8154sm120148d50.12.2025.11.13.04.28.54 (version=TLS1_2 cipher=ECDHE-ECDSA-AES128-GCM-SHA256 bits=128/128); Thu, 13 Nov 2025 04:28:54 -0800 (PST) X-Relaying-Domain: iol.unh.edu Date: Thu, 13 Nov 2025 04:28:54 -0800 (PST) Message-ID: <6915cf06.050a0220.4fb62.5fbcSMTPIN_ADDED_MISSING@mx.google.com> Received: from [172.21.0.2] (unknown [172.18.0.240]) by postal.iol.unh.edu (Postfix) with ESMTP id 49CFB60003E8; Thu, 13 Nov 2025 07:28:54 -0500 (EST) Subject: |SUCCESS| pw158684-158685 [PATCH] [v6,2/2] bpf: add test for Rx and From: dpdklab@iol.unh.edu To: Test Report Cc: dpdk-test-reports@iol.unh.edu In-Reply-To: <20251111225719.540140-3-stephen@networkplumber.org> References: <20251111225719.540140-3-stephen@networkplumber.org> Content-Type: text/plain X-BeenThere: test-report@dpdk.org X-Mailman-Version: 2.1.29 Precedence: list List-Id: automatic DPDK test reports List-Unsubscribe: , List-Archive: List-Post: List-Help: List-Subscribe: , Errors-To: test-report-bounces@dpdk.org Test-Label: iol-unit-amd64-testing Test-Status: SUCCESS http://dpdk.org/patch/158685 _Testing PASS_ Submitter: Stephen Hemminger Date: Tuesday, November 11 2025 22:55:47 DPDK git baseline: Repo:dpdk Branch: master CommitID:be0112878b4fc3a1b918370ed2fe615c52039d77 158684-158685 --> testing pass Upstream job id: Generic-VM-Unit-Test-DPDK#32477 Test environment and result as below: +-------------------------------+----------------+ | Environment | dpdk_unit_test | +===============================+================+ | Red Hat Enterprise Linux 8.10 | PASS | +-------------------------------+----------------+ | Fedora Linux 42 | PASS | +-------------------------------+----------------+ | CentOS Stream 9 | PASS | +-------------------------------+----------------+ | Fedora Linux 40 | PASS | +-------------------------------+----------------+ | Ubuntu 22.04 | PASS | +-------------------------------+----------------+ | Fedora Linux 41 | PASS | +-------------------------------+----------------+ | Red Hat Enterprise Linux 9.5 | PASS | +-------------------------------+----------------+ | Debian GNU/Linux 12 | PASS | +-------------------------------+----------------+ | CentOS Stream 10 | PASS | +-------------------------------+----------------+ | Ubuntu 20.04 | PASS | +-------------------------------+----------------+ | Ubuntu 24.04 | PASS | +-------------------------------+----------------+ | Windows Server 2022 | PASS | +-------------------------------+----------------+ Red Hat Enterprise Linux 8.10 Kernel: 5.15 Compiler: gcc gcc (GCC) 8.5.0 20210514 (Red Hat 8.5.0-22) Fedora Linux 42 Kernel: 5.15 Compiler: gcc gcc (GCC) 15.2.1 20250808 (Red Hat 15.2.1-1) CentOS Stream 9 Kernel: 5.15 Compiler: gcc gcc (GCC) 11.5.0 20240719 (Red Hat 11.5.0-11) Fedora Linux 40 Kernel: 5.15 Compiler: clang gcc (GCC) 14.2.1 20240912 (Red Hat 14.2.1-3) Ubuntu 22.04 Kernel: 5.15 Compiler: gcc gcc (Ubuntu 11.4.0-1ubuntu1~22.04) 11.4.0 Fedora Linux 41 Kernel: 5.15 Compiler: clang gcc (GCC) 14.3.1 20250523 (Red Hat 14.3.1-1) Red Hat Enterprise Linux 9.5 Kernel: 5.15 Compiler: gcc gcc (GCC) 11.5.0 20240719 (Red Hat 11.5.0-2) Debian GNU/Linux 12 Kernel: 5.15 Compiler: gcc gcc (Debian 12.2.0-14+deb12u1) 12.2.0 CentOS Stream 10 Kernel: 5.15 Compiler: gcc gcc (GCC) 14.2.1 20250110 (Red Hat 14.2.1-8) Ubuntu 20.04 Kernel: 5.15 Compiler: gcc gcc (Ubuntu 9.4.0-1ubuntu1~20.04.2) 9.4.0 Ubuntu 24.04 Kernel: 5.15 Compiler: gcc gcc (Ubuntu 13.3.0-6ubuntu2~24.04) 13.3.0 Windows Server 2022 Kernel: 10.0.20348.2031 Compiler: clang 15.0.7, gcc 14.1.0 (MinGW), and MSVC VS 19.39.33521 To view detailed results, visit: https://lab.dpdk.org/results/dashboard/patchsets/34542/ UNH-IOL DPDK Community Lab To manage your email subscriptions, visit: https://lab.dpdk.org/results/dashboard/preferences/subscriptions/