From mboxrd@z Thu Jan 1 00:00:00 1970 Return-Path: Received: from mails.dpdk.org (mails.dpdk.org [217.70.189.124]) by inbox.dpdk.org (Postfix) with ESMTP id 2C1DD48AF9 for ; Thu, 13 Nov 2025 13:47:56 +0100 (CET) Received: from mails.dpdk.org (localhost [127.0.0.1]) by mails.dpdk.org (Postfix) with ESMTP id 2619E40BA0; Thu, 13 Nov 2025 13:47:56 +0100 (CET) Received: from mail-pl1-f227.google.com (mail-pl1-f227.google.com [209.85.214.227]) by mails.dpdk.org (Postfix) with ESMTP id 5D35640BA0 for ; Thu, 13 Nov 2025 13:47:55 +0100 (CET) Received: by mail-pl1-f227.google.com with SMTP id d9443c01a7336-2980d9b7df5so6735405ad.3 for ; Thu, 13 Nov 2025 04:47:55 -0800 (PST) DKIM-Signature: v=1; a=rsa-sha256; c=relaxed/relaxed; d=iol.unh.edu; s=unh-iol; t=1763038074; x=1763642874; darn=dpdk.org; h=references:in-reply-to:cc:to:from:subject:message-id:date:from:to :cc:subject:date:message-id:reply-to; bh=NXr8vgyj1HciDnuD5C0Qp33Z25tlC9O+XxV/WwFiQfM=; b=FCXMiZtu7x9jMMOFKFNMJ4l9S/FQD2tKPdc7DDwk9NgfqFVR9KuXqbQaDnwKHq5PRY k25QccomxL0w3m59R7QQ4ESQ9GNQOB24C/Zo7d2wiUbxswXbwUMtpz7RBuUobxQBTRxB wplGlk7rltSi0me1LqHo7DDbDxbpjHm5bFrDo= X-Google-DKIM-Signature: v=1; a=rsa-sha256; c=relaxed/relaxed; d=1e100.net; s=20230601; t=1763038074; x=1763642874; h=references:in-reply-to:cc:to:from:subject:message-id:date:x-gm-gg :x-gm-message-state:from:to:cc:subject:date:message-id:reply-to; bh=NXr8vgyj1HciDnuD5C0Qp33Z25tlC9O+XxV/WwFiQfM=; b=XyrNlbsnlLWo2Sso1irYklaWkLc5uqHFQbXu55wsM562i3zULsHHuRfgTuT5TnA0ce x2kwfhQhjDqldsFAHacosqab9kDe2lkC/bdkD2Bg6W/FeXw1pZA11N7e8Dks2EEPEKep UANG+aONCTYDRucahadrkvX+xiwkIMhldZMVG/Bd/8cC2DC7LuId2ki05i51+BnOCcbT +x3YJ+h8Cfngu14GkERw9/PXkow3QiSTJEf3l+IzPiaDyXiSAXOhCrleUufQn3x1q55S uLwnZgch+IXnIL0QQgzQzhf2ffMmYlRjyK5UDlMKjr6zpEfn5T6iipwmagGPtiW57pU3 xFiQ== X-Gm-Message-State: AOJu0YxtcesSIK65PnZ9t5765xMEOm2xRMcduphr02A7OJhFJ+4aTA59 4mLEIi7UjErbwjsByP3jm9kHctv5VISp2da2CqOx44kI+k0kFTzHDZzSvi+Z8vfXTghNZ3/v+WO MX8u1k6yqVYE2LczHIkWspo+eR5J6jolGdQauuJse9jHt X-Gm-Gg: ASbGncuH1vr5c4pJ457luhoqoGmtUtlOJL3+X+p2kx2gMDzeAGgiwK7DaGw+m4nxz9V mm3gNao4jPt3fB3MNTBEGY++nuiHSRmtjr16sjhaSi6mvbhBkZxUs3imWN7FGKABSv3qYUyY6Ff ARCY3Yh0x45Fu/sPeVqKGlvQ6SmB68m6ei4QjBrcBMemzhkXh3LrsAerIL/eFXlEJX2ep8byNpu 6IzECKd+5rTlU+LP6RooQ46/4ZT1ODmXug3vIJXpEcENBkHzG/gjeIoC9WLvCf358tdUG+lNSGK 8Ip/jjB6eo8fNdvVoH649oXcMER0qScqy4dGArW2k85fAXGVTfeiD4FYppg+bjcU0JKMqJFhpX2 h02ktkTF+p0oRqU1rsuYK56ooPZO9geE= X-Google-Smtp-Source: AGHT+IHG6XOU8RZG2KxEn3z88ijle+ZYEhXIFTFD+kf/Iz8h2uNyvhitJ5mNdS1XaL3O8foUIzK8UghK3aV6 X-Received: by 2002:a17:902:f641:b0:295:8da5:c631 with SMTP id d9443c01a7336-2984edcb6edmr82255175ad.42.1763038074523; Thu, 13 Nov 2025 04:47:54 -0800 (PST) Received: from postal.iol.unh.edu (postal.iol.unh.edu. [132.177.123.84]) by smtp-relay.gmail.com with ESMTPS id d9443c01a7336-2985c241beasm2108715ad.19.2025.11.13.04.47.54 (version=TLS1_2 cipher=ECDHE-ECDSA-AES128-GCM-SHA256 bits=128/128); Thu, 13 Nov 2025 04:47:54 -0800 (PST) X-Relaying-Domain: iol.unh.edu Date: Thu, 13 Nov 2025 04:47:54 -0800 (PST) Message-ID: <6915d37a.170a0220.3ca2a9.a939SMTPIN_ADDED_MISSING@mx.google.com> Received: from [172.21.0.3] (unknown [172.18.0.240]) by postal.iol.unh.edu (Postfix) with ESMTP id 802456051830; Thu, 13 Nov 2025 07:47:53 -0500 (EST) Subject: |SUCCESS| pw158752 [PATCH] ethdev: add GENEVE encapsulation and deca From: dpdklab@iol.unh.edu To: Test Report Cc: dpdk-test-reports@iol.unh.edu, Stephen Hemminger In-Reply-To: <20251113102158.48040-1-sunyang.wu@jaguarmicro.com> References: <20251113102158.48040-1-sunyang.wu@jaguarmicro.com> Content-Type: text/plain X-BeenThere: test-report@dpdk.org X-Mailman-Version: 2.1.29 Precedence: list List-Id: automatic DPDK test reports List-Unsubscribe: , List-Archive: List-Post: List-Help: List-Subscribe: , Errors-To: test-report-bounces@dpdk.org Test-Label: iol-unit-amd64-testing Test-Status: SUCCESS http://dpdk.org/patch/158752 _Testing PASS_ Submitter: Sunyang Wu Date: Thursday, November 13 2025 10:21:58 DPDK git baseline: Repo:dpdk-next-net Branch: master CommitID:29807269854f9bfc72f1323273de8e23adc724d4 158752 --> testing pass Upstream job id: Generic-Unit-Test-DPDK#392068 Test environment and result as below: +-------------------------------+----------------+ | Environment | dpdk_unit_test | +===============================+================+ | CentOS Stream 9 | PASS | +-------------------------------+----------------+ | CentOS Stream 10 | PASS | +-------------------------------+----------------+ | Fedora Linux 40 | PASS | +-------------------------------+----------------+ | Fedora Linux 41 | PASS | +-------------------------------+----------------+ | Fedora Linux 42 | PASS | +-------------------------------+----------------+ | Debian GNU/Linux 12 | PASS | +-------------------------------+----------------+ | Ubuntu 22.04 | PASS | +-------------------------------+----------------+ | Red Hat Enterprise Linux 8.10 | PASS | +-------------------------------+----------------+ | Ubuntu 20.04 | PASS | +-------------------------------+----------------+ | Red Hat Enterprise Linux 9.5 | PASS | +-------------------------------+----------------+ | Ubuntu 24.04 | PASS | +-------------------------------+----------------+ CentOS Stream 9 Kernel: 5.15 Compiler: gcc gcc (GCC) 11.5.0 20240719 (Red Hat 11.5.0-11) CentOS Stream 10 Kernel: 5.15 Compiler: gcc gcc (GCC) 14.2.1 20250110 (Red Hat 14.2.1-8) Fedora Linux 40 Kernel: 5.15 Compiler: gcc gcc (GCC) 14.2.1 20240912 (Red Hat 14.2.1-3) Fedora Linux 41 Kernel: 5.15 Compiler: gcc gcc (GCC) 14.3.1 20250523 (Red Hat 14.3.1-1) Fedora Linux 42 Kernel: 5.15 Compiler: gcc gcc (GCC) 15.2.1 20250808 (Red Hat 15.2.1-1) Debian GNU/Linux 12 Kernel: 5.15 Compiler: gcc gcc (Debian 12.2.0-14+deb12u1) 12.2.0 Ubuntu 22.04 Kernel: 5.15 Compiler: gcc gcc (Ubuntu 11.4.0-1ubuntu1~22.04) 11.4.0 Red Hat Enterprise Linux 8.10 Kernel: 5.15 Compiler: gcc gcc (GCC) 8.5.0 20210514 (Red Hat 8.5.0-22) Ubuntu 20.04 Kernel: 5.15 Compiler: gcc gcc (Ubuntu 9.4.0-1ubuntu1~20.04.2) 9.4.0 Red Hat Enterprise Linux 9.5 Kernel: 5.15 Compiler: gcc gcc (GCC) 11.5.0 20240719 (Red Hat 11.5.0-2) Ubuntu 24.04 Kernel: 5.15 Compiler: gcc gcc (Ubuntu 13.3.0-6ubuntu2~24.04) 13.3.0 To view detailed results, visit: https://lab.dpdk.org/results/dashboard/patchsets/34569/ UNH-IOL DPDK Community Lab To manage your email subscriptions, visit: https://lab.dpdk.org/results/dashboard/preferences/subscriptions/