From mboxrd@z Thu Jan 1 00:00:00 1970 Return-Path: Received: from mails.dpdk.org (mails.dpdk.org [217.70.189.124]) by inbox.dpdk.org (Postfix) with ESMTP id 9C64748AFA for ; Thu, 13 Nov 2025 14:02:14 +0100 (CET) Received: from mails.dpdk.org (localhost [127.0.0.1]) by mails.dpdk.org (Postfix) with ESMTP id 959DD40151; Thu, 13 Nov 2025 14:02:14 +0100 (CET) Received: from mail-vk1-f228.google.com (mail-vk1-f228.google.com [209.85.221.228]) by mails.dpdk.org (Postfix) with ESMTP id 34E5240151 for ; Thu, 13 Nov 2025 14:02:13 +0100 (CET) Received: by mail-vk1-f228.google.com with SMTP id 71dfb90a1353d-559a849bfe6so278435e0c.1 for ; Thu, 13 Nov 2025 05:02:13 -0800 (PST) DKIM-Signature: v=1; a=rsa-sha256; c=relaxed/relaxed; d=iol.unh.edu; s=unh-iol; t=1763038932; x=1763643732; darn=dpdk.org; h=references:in-reply-to:cc:to:from:subject:message-id:date:from:to :cc:subject:date:message-id:reply-to; bh=uuZ4xRXLoROe0zd/hUFeCbj82PWBW8uc0Bl3vpti2kY=; b=e/eh0fBH5PlPLqGAPh7/6NTZz8uaLehZTzU6gk87ub61EVXsw0BsWAnpd/X3i73DnB zVnmzHO6z9cN3ucvd4PhFWXd7hp3f+WjEp0plJtVeO9gun+5XJ7IPbJ8dF/tfjAxH0Tm EjCbI2Tp4ziiA4YjK1s+GYDbIIwUQ+kKIZrF8= X-Google-DKIM-Signature: v=1; a=rsa-sha256; c=relaxed/relaxed; d=1e100.net; s=20230601; t=1763038932; x=1763643732; h=references:in-reply-to:cc:to:from:subject:message-id:date:x-gm-gg :x-gm-message-state:from:to:cc:subject:date:message-id:reply-to; bh=uuZ4xRXLoROe0zd/hUFeCbj82PWBW8uc0Bl3vpti2kY=; b=cG7AIcWp9x00eJAacKFgvoY8JiZ3tH4ehkYyaTZil+ZN9JeB8vgT+YhE6LJW7RUfX0 In62ebYeKpyHKb4WhCfI7Akal2cqecCRwTxRwj+Jty5LV9XbFHLW8KC9rVi1iHkwSXEq iuXHVgpp2rMPOXgFFliEnIiOndr+J170tyD+vV8z1iNq64MLID73iArY6JKTwy902Uof TStjoSxQYQxG6dZTVFCxV+daZNiNNj8xAMNDyPQNJOoJsIwdGvNTEr4fScjO5Y7EUv2E vF64p0AohQhEK9li69POvEFkgyjmd4wuSAvvcw1QbLIQp/ryxmXJfIz9NtcXUvTV3Tio MXqQ== X-Gm-Message-State: AOJu0Yy0uWEiKxkagtkZ+veZvszqbCLhoUfdGSwXqRpbqDWAEJfIkpM3 ZBWdXcwx7b82xcPoZNxMI3Owj/ZP9dErO5XYwJyTXH9f/GzcRpE9PCvwVyQ+NlKrpyDdrxHL4bA HEIq9vFoDx5tsD/ZFYAIatbFGtsC9v9ttVvW+p/oHLFIs X-Gm-Gg: ASbGncumNOFtC6BMDBFcgLs8428JLl5SXdFfFyDdImLoInWxcIrFPToFHGLa+prHi9y aanTTxUQ0b+hE5puf2hbD4wP9dEilQOqCTbtp8rOcpCIZqGTGnS4rH2lxMXbfdBr6DvRxbu/X4i jjZOUX1JBQxpFQzzRfOQENNk0guds7DiUViyFGYUW6AfMjqrKfG3uLOTabcDry4J21C3+Gvh/XX AIxr2d4MYUNATA6znJM7smJbERrBlwAmg93DrxmWgpHJ9CKiwuRsJxiC6WjHBMfEzJz9IduMfUc Fs2EFA05Z8R15JkZrDjlhH6t3RED/BTFFwT4n7T0sl38ng0PbL8bWpDm32+cTb0S9ra0QMhB1VE Ifj5dpzAd8wiqHOXxeYcPw1MHa1VnAow= X-Google-Smtp-Source: AGHT+IFbm/8NkaHp0xDgCj6qr2ziZD4CSbw8QtHGUX6bVc41OAJ1Dqfs4JPDkhfslOR74ztKfHiYBdmVn7q2 X-Received: by 2002:a05:6122:2020:b0:559:64fe:7d37 with SMTP id 71dfb90a1353d-559e7c789ffmr2267301e0c.7.1763038920165; Thu, 13 Nov 2025 05:02:00 -0800 (PST) Received: from postal.iol.unh.edu (postal.iol.unh.edu. [132.177.123.84]) by smtp-relay.gmail.com with ESMTPS id 71dfb90a1353d-55b0f430e99sm223915e0c.4.2025.11.13.05.02.00 (version=TLS1_2 cipher=ECDHE-ECDSA-AES128-GCM-SHA256 bits=128/128); Thu, 13 Nov 2025 05:02:00 -0800 (PST) X-Relaying-Domain: iol.unh.edu Date: Thu, 13 Nov 2025 05:02:00 -0800 (PST) Message-ID: <6915d6c8.050a0220.1d23fc.afa5SMTPIN_ADDED_MISSING@mx.google.com> Received: from [172.21.0.3] (unknown [172.18.0.240]) by postal.iol.unh.edu (Postfix) with ESMTP id AB47B6051830; Thu, 13 Nov 2025 08:01:59 -0500 (EST) Subject: |SUCCESS| pw158753 [PATCH] net/intel: rename variable in Rx select t From: dpdklab@iol.unh.edu To: Test Report Cc: dpdk-test-reports@iol.unh.edu, Bruce Richardson In-Reply-To: <20251113103012.3782264-1-ciara.loftus@intel.com> References: <20251113103012.3782264-1-ciara.loftus@intel.com> Content-Type: text/plain X-BeenThere: test-report@dpdk.org X-Mailman-Version: 2.1.29 Precedence: list List-Id: automatic DPDK test reports List-Unsubscribe: , List-Archive: List-Post: List-Help: List-Subscribe: , Errors-To: test-report-bounces@dpdk.org Test-Label: iol-unit-amd64-testing Test-Status: SUCCESS http://dpdk.org/patch/158753 _Testing PASS_ Submitter: Ciara Loftus Date: Thursday, November 13 2025 10:30:12 DPDK git baseline: Repo:dpdk-next-net-intel Branch: master CommitID:123703be5bdd0fa45e4fda14f36a0d941d1f7e63 158753 --> testing pass Upstream job id: Generic-Unit-Test-DPDK#392094 Test environment and result as below: +-------------------------------+----------------+ | Environment | dpdk_unit_test | +===============================+================+ | CentOS Stream 9 | PASS | +-------------------------------+----------------+ | Debian GNU/Linux 12 | PASS | +-------------------------------+----------------+ | CentOS Stream 10 | PASS | +-------------------------------+----------------+ | Fedora Linux 40 | PASS | +-------------------------------+----------------+ | Fedora Linux 42 | PASS | +-------------------------------+----------------+ | Fedora Linux 41 | PASS | +-------------------------------+----------------+ | Red Hat Enterprise Linux 8.10 | PASS | +-------------------------------+----------------+ | Ubuntu 20.04 | PASS | +-------------------------------+----------------+ | Red Hat Enterprise Linux 9.5 | PASS | +-------------------------------+----------------+ | Ubuntu 22.04 | PASS | +-------------------------------+----------------+ | Ubuntu 24.04 | PASS | +-------------------------------+----------------+ CentOS Stream 9 Kernel: 5.15 Compiler: gcc gcc (GCC) 11.5.0 20240719 (Red Hat 11.5.0-11) Debian GNU/Linux 12 Kernel: 5.15 Compiler: gcc gcc (Debian 12.2.0-14+deb12u1) 12.2.0 CentOS Stream 10 Kernel: 5.15 Compiler: gcc gcc (GCC) 14.2.1 20250110 (Red Hat 14.2.1-8) Fedora Linux 40 Kernel: 5.15 Compiler: gcc gcc (GCC) 14.2.1 20240912 (Red Hat 14.2.1-3) Fedora Linux 42 Kernel: 5.15 Compiler: gcc gcc (GCC) 15.2.1 20250808 (Red Hat 15.2.1-1) Fedora Linux 41 Kernel: 5.15 Compiler: gcc gcc (GCC) 14.3.1 20250523 (Red Hat 14.3.1-1) Red Hat Enterprise Linux 8.10 Kernel: 5.15 Compiler: gcc gcc (GCC) 8.5.0 20210514 (Red Hat 8.5.0-22) Ubuntu 20.04 Kernel: 5.15 Compiler: gcc gcc (Ubuntu 9.4.0-1ubuntu1~20.04.2) 9.4.0 Red Hat Enterprise Linux 9.5 Kernel: 5.15 Compiler: gcc gcc (GCC) 11.5.0 20240719 (Red Hat 11.5.0-2) Ubuntu 22.04 Kernel: 5.15 Compiler: gcc gcc (Ubuntu 11.4.0-1ubuntu1~22.04) 11.4.0 Ubuntu 24.04 Kernel: 5.15 Compiler: gcc gcc (Ubuntu 13.3.0-6ubuntu2~24.04) 13.3.0 To view detailed results, visit: https://lab.dpdk.org/results/dashboard/patchsets/34570/ UNH-IOL DPDK Community Lab To manage your email subscriptions, visit: https://lab.dpdk.org/results/dashboard/preferences/subscriptions/