From mboxrd@z Thu Jan 1 00:00:00 1970 Return-Path: Received: from mails.dpdk.org (mails.dpdk.org [217.70.189.124]) by inbox.dpdk.org (Postfix) with ESMTP id B48E548AFA for ; Thu, 13 Nov 2025 14:02:02 +0100 (CET) Received: from mails.dpdk.org (localhost [127.0.0.1]) by mails.dpdk.org (Postfix) with ESMTP id 863F340151; Thu, 13 Nov 2025 14:02:02 +0100 (CET) Received: from mail-il1-f228.google.com (mail-il1-f228.google.com [209.85.166.228]) by mails.dpdk.org (Postfix) with ESMTP id 94D9040151 for ; Thu, 13 Nov 2025 14:02:01 +0100 (CET) Received: by mail-il1-f228.google.com with SMTP id e9e14a558f8ab-433791d45f5so10059995ab.0 for ; Thu, 13 Nov 2025 05:02:01 -0800 (PST) DKIM-Signature: v=1; a=rsa-sha256; c=relaxed/relaxed; d=iol.unh.edu; s=unh-iol; t=1763038921; x=1763643721; darn=dpdk.org; h=references:in-reply-to:cc:to:from:subject:message-id:date:from:to :cc:subject:date:message-id:reply-to; bh=51/KC8yaSA0UXq7UMKM0/bvaIn8X6XRzn3Y7uUmazuA=; b=Sya2Dc6JFyr0cg7ejuoCthOAOTmOblqCYs0pafqCfQVKgxe5F5zKf4QipTSqut72LN 092v3yZ4y7fMVRXiZHe9W6CJlvYOb8WWyF4YQANe8w855EJVEur95SAP+60r6FfgJM1b g4CYVORAg/M0kffb4eZdqHfVHau119C9PQJU4= X-Google-DKIM-Signature: v=1; a=rsa-sha256; c=relaxed/relaxed; d=1e100.net; s=20230601; t=1763038921; x=1763643721; h=references:in-reply-to:cc:to:from:subject:message-id:date:x-gm-gg :x-gm-message-state:from:to:cc:subject:date:message-id:reply-to; bh=51/KC8yaSA0UXq7UMKM0/bvaIn8X6XRzn3Y7uUmazuA=; b=IYPhAFtu/nM/vFojiU/RCHWh/DwpwJRv118/feb1/+lJhFqjTYfvRV5w9UaJDpuPhc zXradz8RJTsf4pH435GpomNCNBcV4/nS0G1wUzbXVe0vKIgcqv+I2TZlG059kSNlY+CZ PlmCgBKd7rjEe6NvG1V36csyKtCmRSgyoJOo9Khhii2uU3CXBMrdM5PmbaIgkR74B0Ly I/QVbbzChDYpsrhv01cBBVGtFHfUzPHMpIQuyqh6gf6YX2aOKyAbvacelS13AknfHu0m X+AjmGN65wWz5xIugq4+JagdFRHsDztVBFY+e49y2iTIXBgPBcd+LSHKSsxibx+eDUhl dzdw== X-Gm-Message-State: AOJu0Yx0T2HN2tQJ9Nw3KxAo6jtkMfWOtPh+He5kQhmUZ8V4gCJfzGIk rWqxfBwzr5tMG3tOR2fxy7vvcbJpjtM48lVRI/chtPlfXj4pASA0VdQXO/Cw2DwDQAil7Kw2auS QWhpMWe1iW99YXLlDnAe9wK0ycaxczQFvc0U/qOjXEG3y09xWd2lE6pRkbFNt X-Gm-Gg: ASbGncunj3/AOh1D9G22YqANZNA/e4cRO9t0/gPK+ZcUFpGvKK23IrWNc6AWcetyDx2 NUq7Gx5KAfIxcihZs+6m4VQijyNbz9sWJwRfU21ehW5hHduwBAjzp9NmdhRhquJ6EuLRwoOnTiC tdr0XCqNlgoz3pWy2u/hc82DRWWwVRN5TbAtsKB1M+NRIthT1K1yi/sMT8ZPXPWzCOKE6725ET9 ApwLQEKm8Df+C8uOnz9Z135z4jVWLIdhDxFSKiaiY9rEyvmLt08ruMW7rtanIl8lMXTfOLPNLfe p2TBqrRYBXPDqfijpWWv83m25APujSE0I+5K5UGJUIcHQkx11W7V+aaARYDusnfxxoizedmkeBB XB3tVnO0r X-Google-Smtp-Source: AGHT+IFyG3WemWRA6aEeZ/VDhmDKFXjIm0nzb8qKXZCXnnMKjiLUUen1lj6p0XkRM9EyDa387h1ngRMezob2 X-Received: by 2002:a05:6e02:17c7:b0:433:7885:60f6 with SMTP id e9e14a558f8ab-43473d71b3amr95633825ab.17.1763038920848; Thu, 13 Nov 2025 05:02:00 -0800 (PST) Received: from postal.iol.unh.edu (postal.iol.unh.edu. [2606:4100:3880:1234::84]) by smtp-relay.gmail.com with ESMTPS id 8926c6da1cb9f-5b7bd351dc4sm156806173.38.2025.11.13.05.02.00 (version=TLS1_2 cipher=ECDHE-ECDSA-AES128-GCM-SHA256 bits=128/128); Thu, 13 Nov 2025 05:02:00 -0800 (PST) X-Relaying-Domain: iol.unh.edu Date: Thu, 13 Nov 2025 05:02:00 -0800 (PST) Message-ID: <6915d6c8.050a0220.2062c8.7a0eSMTPIN_ADDED_MISSING@mx.google.com> Received: from [172.21.0.5] (unknown [172.18.0.240]) by postal.iol.unh.edu (Postfix) with ESMTP id 6B6426051835; Thu, 13 Nov 2025 08:02:00 -0500 (EST) Subject: |SUCCESS| pw158753 [PATCH] net/intel: rename variable in Rx select t From: dpdklab@iol.unh.edu To: Test Report Cc: dpdk-test-reports@iol.unh.edu, Bruce Richardson In-Reply-To: <20251113103012.3782264-1-ciara.loftus@intel.com> References: <20251113103012.3782264-1-ciara.loftus@intel.com> Content-Type: text/plain X-BeenThere: test-report@dpdk.org X-Mailman-Version: 2.1.29 Precedence: list List-Id: automatic DPDK test reports List-Unsubscribe: , List-Archive: List-Post: List-Help: List-Subscribe: , Errors-To: test-report-bounces@dpdk.org Test-Label: iol-unit-amd64-testing Test-Status: SUCCESS http://dpdk.org/patch/158753 _Testing PASS_ Submitter: Ciara Loftus Date: Thursday, November 13 2025 10:30:12 DPDK git baseline: Repo:dpdk-next-net-intel Branch: master CommitID:123703be5bdd0fa45e4fda14f36a0d941d1f7e63 158753 --> testing pass Upstream job id: Generic-Unit-Test-DPDK#392098 Test environment and result as below: +-------------------------------+----------------+ | Environment | dpdk_unit_test | +===============================+================+ | CentOS Stream 9 | PASS | +-------------------------------+----------------+ | Debian GNU/Linux 12 | PASS | +-------------------------------+----------------+ | CentOS Stream 10 | PASS | +-------------------------------+----------------+ | Fedora Linux 40 | PASS | +-------------------------------+----------------+ | Fedora Linux 42 | PASS | +-------------------------------+----------------+ | Fedora Linux 41 | PASS | +-------------------------------+----------------+ | Red Hat Enterprise Linux 8.10 | PASS | +-------------------------------+----------------+ | Ubuntu 20.04 | PASS | +-------------------------------+----------------+ | Red Hat Enterprise Linux 9.5 | PASS | +-------------------------------+----------------+ | Ubuntu 22.04 | PASS | +-------------------------------+----------------+ | Ubuntu 24.04 | PASS | +-------------------------------+----------------+ CentOS Stream 9 Kernel: 5.15 Compiler: gcc gcc (GCC) 11.5.0 20240719 (Red Hat 11.5.0-11) Debian GNU/Linux 12 Kernel: 5.15 Compiler: gcc gcc (Debian 12.2.0-14+deb12u1) 12.2.0 CentOS Stream 10 Kernel: 5.15 Compiler: gcc gcc (GCC) 14.2.1 20250110 (Red Hat 14.2.1-8) Fedora Linux 40 Kernel: 5.15 Compiler: gcc gcc (GCC) 14.2.1 20240912 (Red Hat 14.2.1-3) Fedora Linux 42 Kernel: 5.15 Compiler: gcc gcc (GCC) 15.2.1 20250808 (Red Hat 15.2.1-1) Fedora Linux 41 Kernel: 5.15 Compiler: gcc gcc (GCC) 14.3.1 20250523 (Red Hat 14.3.1-1) Red Hat Enterprise Linux 8.10 Kernel: 5.15 Compiler: gcc gcc (GCC) 8.5.0 20210514 (Red Hat 8.5.0-22) Ubuntu 20.04 Kernel: 5.15 Compiler: gcc gcc (Ubuntu 9.4.0-1ubuntu1~20.04.2) 9.4.0 Red Hat Enterprise Linux 9.5 Kernel: 5.15 Compiler: gcc gcc (GCC) 11.5.0 20240719 (Red Hat 11.5.0-2) Ubuntu 22.04 Kernel: 5.15 Compiler: gcc gcc (Ubuntu 11.4.0-1ubuntu1~22.04) 11.4.0 Ubuntu 24.04 Kernel: 5.15 Compiler: gcc gcc (Ubuntu 13.3.0-6ubuntu2~24.04) 13.3.0 To view detailed results, visit: https://lab.dpdk.org/results/dashboard/patchsets/34570/ UNH-IOL DPDK Community Lab To manage your email subscriptions, visit: https://lab.dpdk.org/results/dashboard/preferences/subscriptions/