From mboxrd@z Thu Jan 1 00:00:00 1970 Return-Path: Received: from mails.dpdk.org (mails.dpdk.org [217.70.189.124]) by inbox.dpdk.org (Postfix) with ESMTP id 251F048AFA for ; Thu, 13 Nov 2025 14:05:29 +0100 (CET) Received: from mails.dpdk.org (localhost [127.0.0.1]) by mails.dpdk.org (Postfix) with ESMTP id 20B2B40151; Thu, 13 Nov 2025 14:05:29 +0100 (CET) Received: from mail-qv1-f97.google.com (mail-qv1-f97.google.com [209.85.219.97]) by mails.dpdk.org (Postfix) with ESMTP id 8274540151 for ; Thu, 13 Nov 2025 14:05:27 +0100 (CET) Received: by mail-qv1-f97.google.com with SMTP id 6a1803df08f44-8824ce9812cso8565496d6.0 for ; Thu, 13 Nov 2025 05:05:27 -0800 (PST) DKIM-Signature: v=1; a=rsa-sha256; c=relaxed/relaxed; d=iol.unh.edu; s=unh-iol; t=1763039127; x=1763643927; darn=dpdk.org; h=references:in-reply-to:cc:to:from:subject:message-id:date:from:to :cc:subject:date:message-id:reply-to; bh=fs4Q8bsEwB3ahYMvXH21yuECikWwryAbzuh6tiB8d20=; b=XlYIZSJjagdWchYTs7z16xpbxMf1dyHdCyrHye3Q4d32bv7G1pJRxuJzAsCK7/9hpK P55SiNiWrDj38Lkcdn+KH4cMuw2wcZQ1uP0G6O5OeMSPkb1v2nhKNZKNA8FjMQSFN/z9 z0WAKNMGFwSmkko+1iiiWzn3m5QF2AVlctXEg= X-Google-DKIM-Signature: v=1; a=rsa-sha256; c=relaxed/relaxed; d=1e100.net; s=20230601; t=1763039127; x=1763643927; h=references:in-reply-to:cc:to:from:subject:message-id:date:x-gm-gg :x-gm-message-state:from:to:cc:subject:date:message-id:reply-to; bh=fs4Q8bsEwB3ahYMvXH21yuECikWwryAbzuh6tiB8d20=; b=ucWqcjMuY2qUubqaCUtwNG6mJhJd/gwhmoixWoBnrevw7/v7oeSf/d2Pg+ZLYIXiic 3V3n9dP+CWmf5qeon0prwFr5pdooiWR9/oCkvkmy5O7Asi8bIEzPYL5NbHJIwfPqiS/h icxCUieR/bITvv+FSmsdmoTkCpMJIijgFI6DIKETfeLleLoTF1mCYgT17IBVLIpzSIr7 oKKFJLMZofEwzdxON0G+2JneKKIMAiZ5tc2n37gQGr5/WD4LDfCQTwOhqV/sh8CaZKDr U/DkVTJ/MmdtazLgjQWbdeMsn+YivwKlbAA5B/yHwov/UQjH8aH/XWYYNoKahS8o08tN ZBtQ== X-Gm-Message-State: AOJu0Yx/4Mr65ZyIZF2Yma6rXFXab9tLuSFrwPPp7EK62NSDUsXKXCNd pCUhZiBsVZ6IbkuelkwCldTHxUABjkB7Fna9m3k+5XKIB4cT3+XAzXvEkWQ1NsTcahcW7nbCzNr A4WucD1PlfEL6FPo4w4RRIAB0vSmzrvKZc2u8GDi8O4Fg83hwR5jyJYmWIJLv X-Gm-Gg: ASbGncvbbgpG8ofLoFy8ZVta7AzW1JrgU+lpNKd3/PsPoyhfFiwdrwF5m8rFs8ywfRI RAsJeYFMJVYn0cr+ocDl1iHqAgaIqbF+ZoRaddr7f5szkvesWhsfw2ZD5nIHfMzuYwYzVOyfPq8 qrlERPJ0f/6ZfRqpDJ33xAqpGKSYoVAP1Q/4SBSXPho9PqW66y3Uz8TY/jY3eUoPu69sy2Z5QBH WTYXruRVSVzmD+og3iL+UntDvI1p0esgUNKwjyEDJUSdebKEOibwSe4oqBX8NUSgh4fXmWKZsu/ i0cyDVJ3IWVOp59Ojt1JhSf0IdPPNoO+LOWqAm5acBAUamhtrEew5HRTJoJEw/P8fKKEgnqujE2 yz+64s6sC X-Google-Smtp-Source: AGHT+IF8azI7xskq9tQol2qff0ADK7ftgDYOowu8EsNjQcP7PPl60PlefdSxAGdG9tCI8oTdL5SListDXI9n X-Received: by 2002:a05:6214:1bcb:b0:880:4b27:1888 with SMTP id 6a1803df08f44-882718efdd2mr97532496d6.3.1763039126747; Thu, 13 Nov 2025 05:05:26 -0800 (PST) Received: from postal.iol.unh.edu (postal.iol.unh.edu. [2606:4100:3880:1234::84]) by smtp-relay.gmail.com with ESMTPS id d75a77b69052e-4ede87dcb38sm1051391cf.7.2025.11.13.05.05.26 (version=TLS1_2 cipher=ECDHE-ECDSA-AES128-GCM-SHA256 bits=128/128); Thu, 13 Nov 2025 05:05:26 -0800 (PST) X-Relaying-Domain: iol.unh.edu Date: Thu, 13 Nov 2025 05:05:26 -0800 (PST) Message-ID: <6915d796.c80a0220.1a1a56.564eSMTPIN_ADDED_MISSING@mx.google.com> Received: from [172.21.0.5] (unknown [172.18.0.240]) by postal.iol.unh.edu (Postfix) with ESMTP id 58BC06051830; Thu, 13 Nov 2025 08:05:26 -0500 (EST) Subject: |SUCCESS| pw158701 [PATCH] [V3] net/mlx5: fix IPv6 DSCP offset in HW From: dpdklab@iol.unh.edu To: Test Report Cc: dpdk-test-reports@iol.unh.edu In-Reply-To: <20251112134236.195614-1-gavinl@nvidia.com> References: <20251112134236.195614-1-gavinl@nvidia.com> Content-Type: text/plain X-BeenThere: test-report@dpdk.org X-Mailman-Version: 2.1.29 Precedence: list List-Id: automatic DPDK test reports List-Unsubscribe: , List-Archive: List-Post: List-Help: List-Subscribe: , Errors-To: test-report-bounces@dpdk.org Test-Label: iol-unit-arm64-testing Test-Status: SUCCESS http://dpdk.org/patch/158701 _Testing PASS_ Submitter: Gavin Li Date: Wednesday, November 12 2025 13:42:36 DPDK git baseline: Repo:dpdk-next-net-mlx Branch: master CommitID:ae657d56b1f0ea979b3f611edf28d773efc2ddcf 158701 --> testing pass Upstream job id: Generic-Unit-Test-DPDK#391542 Test environment and result as below: +------------------------------+----------------+------------------------------+--------------+---------------------------+ | Environment | dpdk_unit_test | cryptodev_sw_snow3g_autotest | lpm_autotest | cryptodev_sw_zuc_autotest | +==============================+================+==============================+==============+===========================+ | Ubuntu 20.04 | PASS | SKIPPED | PASS | SKIPPED | +------------------------------+----------------+------------------------------+--------------+---------------------------+ | Debian GNU/Linux 12 | PASS | SKIPPED | SKIPPED | SKIPPED | +------------------------------+----------------+------------------------------+--------------+---------------------------+ | Fedora Linux 42 | PASS | SKIPPED | SKIPPED | SKIPPED | +------------------------------+----------------+------------------------------+--------------+---------------------------+ | Fedora Linux 40 | PASS | SKIPPED | SKIPPED | SKIPPED | +------------------------------+----------------+------------------------------+--------------+---------------------------+ | Fedora Linux 41 | PASS | SKIPPED | SKIPPED | SKIPPED | +------------------------------+----------------+------------------------------+--------------+---------------------------+ | CentOS Stream 9 | PASS | SKIPPED | SKIPPED | SKIPPED | +------------------------------+----------------+------------------------------+--------------+---------------------------+ | Ubuntu 22.04 | PASS | SKIPPED | SKIPPED | SKIPPED | +------------------------------+----------------+------------------------------+--------------+---------------------------+ | Red Hat Enterprise Linux 9.5 | PASS | SKIPPED | SKIPPED | SKIPPED | +------------------------------+----------------+------------------------------+--------------+---------------------------+ | CentOS Stream 10 | PASS | SKIPPED | SKIPPED | SKIPPED | +------------------------------+----------------+------------------------------+--------------+---------------------------+ | Ubuntu 24.04 | PASS | SKIPPED | SKIPPED | SKIPPED | +------------------------------+----------------+------------------------------+--------------+---------------------------+ | Debian 12 (arm) | SKIPPED | PASS | SKIPPED | PASS | +------------------------------+----------------+------------------------------+--------------+---------------------------+ Ubuntu 20.04 Kernel: 5.4 Compiler: gcc gcc (Ubuntu 9.4.0-1ubuntu1~20.04.2) 9.4.0 Debian GNU/Linux 12 Kernel: 5.4 Compiler: gcc gcc (Debian 12.2.0-14+deb12u1) 12.2.0 Fedora Linux 42 Kernel: 5.4 Compiler: gcc gcc (GCC) 15.2.1 20250808 (Red Hat 15.2.1-1) Fedora Linux 40 Kernel: 5.4 Compiler: gcc gcc (GCC) 14.2.1 20240912 (Red Hat 14.2.1-3) Fedora Linux 41 Kernel: 5.4 Compiler: clang gcc (GCC) 14.3.1 20250523 (Red Hat 14.3.1-1) CentOS Stream 9 Kernel: 5.4 Compiler: gcc gcc (GCC) 11.5.0 20240719 (Red Hat 11.5.0-11) Ubuntu 22.04 Kernel: 5.15 Compiler: gcc gcc (Ubuntu 11.4.0-1ubuntu1~22.04.2) 11.4.0 Red Hat Enterprise Linux 9.5 Kernel: 5.4 Compiler: gcc gcc (GCC) 11.5.0 20240719 (Red Hat 11.5.0-2) CentOS Stream 10 Kernel: 5.4 Compiler: gcc gcc (GCC) 14.2.1 20250110 (Red Hat 14.2.1-8) Ubuntu 24.04 Kernel: 5.4 Compiler: gcc gcc (Ubuntu 13.3.0-6ubuntu2~24.04) 13.3.0 Debian 12 (arm) Kernel: Depends on container host Compiler: gcc (Debian 12.2.0-14) 12.2.0 To view detailed results, visit: https://lab.dpdk.org/results/dashboard/patchsets/34550/ UNH-IOL DPDK Community Lab To manage your email subscriptions, visit: https://lab.dpdk.org/results/dashboard/preferences/subscriptions/