From mboxrd@z Thu Jan 1 00:00:00 1970 Return-Path: Received: from mails.dpdk.org (mails.dpdk.org [217.70.189.124]) by inbox.dpdk.org (Postfix) with ESMTP id D7F3848AFA for ; Thu, 13 Nov 2025 14:11:55 +0100 (CET) Received: from mails.dpdk.org (localhost [127.0.0.1]) by mails.dpdk.org (Postfix) with ESMTP id CE91240151; Thu, 13 Nov 2025 14:11:55 +0100 (CET) Received: from mail-il1-f226.google.com (mail-il1-f226.google.com [209.85.166.226]) by mails.dpdk.org (Postfix) with ESMTP id AE87B40151 for ; Thu, 13 Nov 2025 14:11:54 +0100 (CET) Received: by mail-il1-f226.google.com with SMTP id e9e14a558f8ab-433770ba959so6926115ab.1 for ; Thu, 13 Nov 2025 05:11:54 -0800 (PST) DKIM-Signature: v=1; a=rsa-sha256; c=relaxed/relaxed; d=iol.unh.edu; s=unh-iol; t=1763039514; x=1763644314; darn=dpdk.org; h=references:in-reply-to:cc:to:from:subject:message-id:date:from:to :cc:subject:date:message-id:reply-to; bh=t63AFEpU5K4eXo5aY3dGzLYWqRZvtk7zZi9xQBJljQ8=; b=fYXdGABHPGKIHbg2MffNR3oQ/6Cbua8X9/AC/zAXDsPn6ml4nuv9/5V4kuvnk295rZ S9HBCmbmGsNgHJW49AR4DTBNZPUYKBVQRBBnZL7DhwQ0ypMKsh6akMMSucG1btRr0zuK GBk3YmwWcwyjV30lVuBoOWjmXEd3R69nIgjoU= X-Google-DKIM-Signature: v=1; a=rsa-sha256; c=relaxed/relaxed; d=1e100.net; s=20230601; t=1763039514; x=1763644314; h=references:in-reply-to:cc:to:from:subject:message-id:date:x-gm-gg :x-gm-message-state:from:to:cc:subject:date:message-id:reply-to; bh=t63AFEpU5K4eXo5aY3dGzLYWqRZvtk7zZi9xQBJljQ8=; b=bF03ndG02FRsGTQux0AP/VJhmgZFmEbbmnWXW1wAw9ek1g43FVC+QspqLxvj0Tnqzy p32eb0HVvvkgxFrQ5GeGs+zu4JmgJifvULiSPPVi3WbOqjUOKeq4lCo4qLFursm9rycc 9rwTcHCyeDLVX9QKMyXruudKDkltgEPmDJ/Jr+z+q/aqACYjo7n6v19jK4y4RPBibrth 3F1L95gHoAL3n0Lvs7eOm/CHyI7IFJTs8yq1aadkxSl4+g8h8Ozan8bu0Jvqax+duvHm X8w05pV90iqK734j+DQALregvADJzTRNO4laMyaGKjGcdNGc4yUZUuzfC97ti6QzYGiT b5hg== X-Gm-Message-State: AOJu0Yy4nvKWpTahufp0mshpW63UPXa8EbJ1azCotK8Lkgtxet3kN9pN Qmz9sh4yir1iq9Kj0kKjtbCTSV5bQT59ANagVg4Q07H4iSKIlxjse776PAP1HdCHLfPg+JPF0ef ZzXshvpvXc8VKaq1FoKB4CUnfEBQQ+LcV3utDWawv3f2e X-Gm-Gg: ASbGncv7HoxHIBv8Dut0WloMaMp+NwUc0g/ZZo2QggERPjC21xMBY0HVcsk2AyU3Lxj ENWGCSz4AAMXuXy29r+w1O3/jf+ko17VJagdZhdna/rJ2SNPLvLe/IUmhStQqsYbaooZxHN5/lx XgGyzjM4onsaRYj/SC2q3GxsYv+6v1sN1yBX050LdHujnWE/Mo2xoqMa9qKeR1D1FzveqDr/Kt7 2wveiwcqC94SWurWjiPY+eg/suI8Do/Uv/neCzD8l0Y15a6kPnhqEGhzmerr3E2+svIAsoQoy4i rZNXNf205KnnGZHKlN76VaXIAvwW1bSHFaNYb5wq/j6/eLj0Bi1thZL/hWdJMQbNvxWqWRn7sSF 2hELu4WuaEMNfXuy9vD+J2wWGRR+Cmo4= X-Google-Smtp-Source: AGHT+IFlVZkNTOBVkpSDqMQoyRqKQZxPCxIzr3wERqn2L4Rq+HbCs6XxyF4FfFqEMBIY7+M5aWm04aypCpgI X-Received: by 2002:a05:6e02:2684:b0:433:7a5f:9439 with SMTP id e9e14a558f8ab-43473da1fa5mr73091015ab.24.1763039514065; Thu, 13 Nov 2025 05:11:54 -0800 (PST) Received: from postal.iol.unh.edu (postal.iol.unh.edu. [132.177.123.84]) by smtp-relay.gmail.com with ESMTPS id e9e14a558f8ab-434839f98b6sm1582355ab.31.2025.11.13.05.11.53 (version=TLS1_2 cipher=ECDHE-ECDSA-AES128-GCM-SHA256 bits=128/128); Thu, 13 Nov 2025 05:11:54 -0800 (PST) X-Relaying-Domain: iol.unh.edu Date: Thu, 13 Nov 2025 05:11:54 -0800 (PST) Message-ID: <6915d91a.050a0220.1a89c8.7b8aSMTPIN_ADDED_MISSING@mx.google.com> Received: from [172.21.0.3] (unknown [172.18.0.240]) by postal.iol.unh.edu (Postfix) with ESMTP id 9EDBF6051830; Thu, 13 Nov 2025 08:11:53 -0500 (EST) Subject: |SUCCESS| pw158752 [PATCH] ethdev: add GENEVE encapsulation and deca From: dpdklab@iol.unh.edu To: Test Report Cc: dpdk-test-reports@iol.unh.edu, Stephen Hemminger In-Reply-To: <20251113102158.48040-1-sunyang.wu@jaguarmicro.com> References: <20251113102158.48040-1-sunyang.wu@jaguarmicro.com> Content-Type: text/plain X-BeenThere: test-report@dpdk.org X-Mailman-Version: 2.1.29 Precedence: list List-Id: automatic DPDK test reports List-Unsubscribe: , List-Archive: List-Post: List-Help: List-Subscribe: , Errors-To: test-report-bounces@dpdk.org Test-Label: iol-compile-amd64-testing Test-Status: SUCCESS http://dpdk.org/patch/158752 _Testing PASS_ Submitter: Sunyang Wu Date: Thursday, November 13 2025 10:21:58 DPDK git baseline: Repo:dpdk-next-net Branch: master CommitID:29807269854f9bfc72f1323273de8e23adc724d4 158752 --> testing pass Upstream job id: Windows-Compile-DPDK-VS#7513 Test environment and result as below: +---------------------+--------------------+-------------------+ | Environment | dpdk_meson_compile | dpdk_msvc_compile | +=====================+====================+===================+ | Ubuntu 20.04 | PASS | SKIPPED | +---------------------+--------------------+-------------------+ | FreeBSD 14.2 | PASS | SKIPPED | +---------------------+--------------------+-------------------+ | Windows Server 2022 | SKIPPED | PASS | +---------------------+--------------------+-------------------+ Ubuntu 20.04 Kernel: 4.19 Compiler: gcc gcc (Ubuntu 9.4.0-1ubuntu1~20.04.2) 9.4.0 FreeBSD 14.2 Kernel: 14.2-RELEASE Compiler: clang 18.1.6 Windows Server 2022 Kernel: 10.0.20348.2031 Compiler: clang 15.0.7, gcc 14.1.0 (MinGW), and MSVC VS 19.39.33521 To view detailed results, visit: https://lab.dpdk.org/results/dashboard/patchsets/34569/ UNH-IOL DPDK Community Lab To manage your email subscriptions, visit: https://lab.dpdk.org/results/dashboard/preferences/subscriptions/