From mboxrd@z Thu Jan 1 00:00:00 1970 Return-Path: Received: from mails.dpdk.org (mails.dpdk.org [217.70.189.124]) by inbox.dpdk.org (Postfix) with ESMTP id 6038B48AFA for ; Thu, 13 Nov 2025 14:21:12 +0100 (CET) Received: from mails.dpdk.org (localhost [127.0.0.1]) by mails.dpdk.org (Postfix) with ESMTP id 5A05840151; Thu, 13 Nov 2025 14:21:12 +0100 (CET) Received: from mail-qk1-f227.google.com (mail-qk1-f227.google.com [209.85.222.227]) by mails.dpdk.org (Postfix) with ESMTP id 0088C40151 for ; Thu, 13 Nov 2025 14:21:10 +0100 (CET) Received: by mail-qk1-f227.google.com with SMTP id af79cd13be357-88f2aebce7fso74991085a.3 for ; Thu, 13 Nov 2025 05:21:10 -0800 (PST) DKIM-Signature: v=1; a=rsa-sha256; c=relaxed/relaxed; d=iol.unh.edu; s=unh-iol; t=1763040070; x=1763644870; darn=dpdk.org; h=references:in-reply-to:cc:to:from:subject:message-id:date:from:to :cc:subject:date:message-id:reply-to; bh=VVwPJ7VHqPyu5C4wDd0NlbdylxHzIlFlwW1+QJqGv3M=; b=etjhZujG5YNlAvgZ3cc0cWFDYUFrribSbe9MYn+je1PResLMjwtValx29Ov5vOuCpF Gby84oTkHaFI9HzS5fFRa5RGRou7Yv8cK+4XP/9d+LfzHC2lKr/IL3SlodES/rWZ3xGf O+cFpzJtNRIL8bVjxsIfMDPKWkXb3L6QuEoqs= X-Google-DKIM-Signature: v=1; a=rsa-sha256; c=relaxed/relaxed; d=1e100.net; s=20230601; t=1763040070; x=1763644870; h=references:in-reply-to:cc:to:from:subject:message-id:date:x-gm-gg :x-gm-message-state:from:to:cc:subject:date:message-id:reply-to; bh=VVwPJ7VHqPyu5C4wDd0NlbdylxHzIlFlwW1+QJqGv3M=; b=wm8sIP7TAOWtljcnO7ZSs7lAls8+0ZDe2sWsGjo5/yaaqtpZtHpXvtQ5JK4ySwJCye ApNuTk5s8uhsB8qGC804ngB4N5/Mo2HWGMWy5zD65IMwoYgFYNAwiKZ9sc+Cd3Vz5z+X i2BhVEoCpLHc/apm68aFWFF5rMFpKRhjKV3dvu/mH3hN+e+LvVCqheWHWk3kEqYjPCjM 5ZIMOku87csC+Z0RLy6Ti1Vp6DwKEU0sQ8MUh/JjgIrfxc2owVtdQ1TyO8AgSkQiNZqP 4+Zl3cWVzOzCS2vec+t+bzHVo0uFAidxnvUgayaxqeJNocahWwToMmD+PgJ3CfqOgnnb Wztw== X-Gm-Message-State: AOJu0YxHZfjkfgmRdat5WTGfPkS4Dr0epeYz99t+K5qoAgVGqRvvilu1 dO7OcBhntEFW/cFdpF3mJJ5iYqMnC9X7f2pjOQDwv2VFDAcx67JgOTqof3fFaik7lngeM0FCqqy FYxrtZF5I0jiBG+nTWDlWfrLL2/HxFEgVDVh4r7+NDSDfZOtC/4ZtjeTe4FN6 X-Gm-Gg: ASbGnctVdSKBJY990SEJp7iX6oLZBkAZeJvFr80tjpo0Ug/i/SkdHeAkWN+XaP6GdEU ErAD3bgrsVvSbd7P4nV+kvxBvcOJGcCh4XQg7mui4bi/rToqergBUuq91sa794mxJtLJ3yrks8s IPh9yaLxMdPGF/XyZcgkuIoJdzmZ/zlwh9IWZGwQUerstDM3Z3H9ZCowrg5tPEMM6D5gsOzzn+A gGL699vxftiapBWUfdmQrDzdWtyudEpZeOyX8wVRGdgxOgjyAnw44HbVYviudBV/9hvkCNWJpVJ AeHnTYE9VHJvipiFaApbmYCVxKhWIxPwGlYKWL2K59vZMj5hwo5J0/1KVDg6up8iQT0IJmhZ2Yg UPe/TV5Ef X-Google-Smtp-Source: AGHT+IE3ef31ltegt24XqirZJTAznkuRwP4Xdk3ZRvqvnxkz/1jezBJMnKSz3Yoebmpkm6vHI0eFgO0t3L9Q X-Received: by 2002:a05:620a:1790:b0:8b2:2800:d646 with SMTP id af79cd13be357-8b29b84d399mr920936285a.88.1763040070296; Thu, 13 Nov 2025 05:21:10 -0800 (PST) Received: from postal.iol.unh.edu (postal.iol.unh.edu. [2606:4100:3880:1234::84]) by smtp-relay.gmail.com with ESMTPS id af79cd13be357-8b2aeef9a92sm17439485a.3.2025.11.13.05.21.10 (version=TLS1_2 cipher=ECDHE-ECDSA-AES128-GCM-SHA256 bits=128/128); Thu, 13 Nov 2025 05:21:10 -0800 (PST) X-Relaying-Domain: iol.unh.edu Date: Thu, 13 Nov 2025 05:21:10 -0800 (PST) Message-ID: <6915db46.050a0220.346926.8425SMTPIN_ADDED_MISSING@mx.google.com> Received: from [172.21.0.2] (unknown [172.18.0.240]) by postal.iol.unh.edu (Postfix) with ESMTP id F2EA86051830; Thu, 13 Nov 2025 08:21:09 -0500 (EST) Subject: |SUCCESS| pw158655-158657 [PATCH] [v2,4/4] net/nbl: add IOVA mode ch From: dpdklab@iol.unh.edu To: Test Report Cc: dpdk-test-reports@iol.unh.edu, Stephen Hemminger In-Reply-To: <20251111113144.3567291-5-dimon.zhao@nebula-matrix.com> References: <20251111113144.3567291-5-dimon.zhao@nebula-matrix.com> Content-Type: text/plain X-BeenThere: test-report@dpdk.org X-Mailman-Version: 2.1.29 Precedence: list List-Id: automatic DPDK test reports List-Unsubscribe: , List-Archive: List-Post: List-Help: List-Subscribe: , Errors-To: test-report-bounces@dpdk.org Test-Label: iol-compile-amd64-testing Test-Status: SUCCESS http://dpdk.org/patch/158657 _Testing PASS_ Submitter: Dimon Zhao Date: Tuesday, November 11 2025 11:31:43 DPDK git baseline: Repo:dpdk-next-net Branch: master CommitID:591ee7f468aebec30d68d30afa8d5e4dcfc897dc 158655-158657 --> testing pass Upstream job id: Windows-Compile-DPDK-Native#32291 Test environment and result as below: +-------------------------------+--------------------+------------------+-------------------+-------------------------+ | Environment | dpdk_meson_compile | dpdk_compile_ovs | dpdk_msvc_compile | dpdk_llvm_clang_compile | +===============================+====================+==================+===================+=========================+ | Ubuntu 20.04 | PASS | SKIPPED | SKIPPED | SKIPPED | +-------------------------------+--------------------+------------------+-------------------+-------------------------+ | FreeBSD 14.2 | PASS | SKIPPED | SKIPPED | SKIPPED | +-------------------------------+--------------------+------------------+-------------------+-------------------------+ | CentOS Stream 9 | PASS | SKIPPED | SKIPPED | SKIPPED | +-------------------------------+--------------------+------------------+-------------------+-------------------------+ | CentOS Stream 10 | PASS | SKIPPED | SKIPPED | SKIPPED | +-------------------------------+--------------------+------------------+-------------------+-------------------------+ | Debian GNU/Linux 12 | PASS | SKIPPED | SKIPPED | SKIPPED | +-------------------------------+--------------------+------------------+-------------------+-------------------------+ | Fedora Linux 42 | PASS | PASS | SKIPPED | SKIPPED | +-------------------------------+--------------------+------------------+-------------------+-------------------------+ | Red Hat Enterprise Linux 8.10 | PASS | SKIPPED | SKIPPED | SKIPPED | +-------------------------------+--------------------+------------------+-------------------+-------------------------+ | openSUSE Leap 15.6 | PASS | SKIPPED | SKIPPED | SKIPPED | +-------------------------------+--------------------+------------------+-------------------+-------------------------+ | Red Hat Enterprise Linux 9.5 | PASS | SKIPPED | SKIPPED | SKIPPED | +-------------------------------+--------------------+------------------+-------------------+-------------------------+ | Ubuntu 22.04 | PASS | SKIPPED | SKIPPED | SKIPPED | +-------------------------------+--------------------+------------------+-------------------+-------------------------+ | Ubuntu 24.04 | PASS | PASS | SKIPPED | SKIPPED | +-------------------------------+--------------------+------------------+-------------------+-------------------------+ | Alpine Linux 3.22.0 | PASS | SKIPPED | SKIPPED | SKIPPED | +-------------------------------+--------------------+------------------+-------------------+-------------------------+ | Windows Server 2022 | SKIPPED | SKIPPED | PASS | PASS | +-------------------------------+--------------------+------------------+-------------------+-------------------------+ Ubuntu 20.04 Kernel: 4.19 Compiler: gcc gcc (Ubuntu 9.4.0-1ubuntu1~20.04.2) 9.4.0 FreeBSD 14.2 Kernel: 14.2-RELEASE Compiler: clang 18.1.6 CentOS Stream 9 Kernel: 5.15 Compiler: gcc gcc (GCC) 11.5.0 20240719 (Red Hat 11.5.0-11) CentOS Stream 10 Kernel: 5.15 Compiler: gcc gcc (GCC) 14.2.1 20250110 (Red Hat 14.2.1-8) Debian GNU/Linux 12 Kernel: 5.15 Compiler: gcc gcc (Debian 12.2.0-14+deb12u1) 12.2.0 Fedora Linux 42 Kernel: 5.15 Compiler: clang gcc (GCC) 15.2.1 20250808 (Red Hat 15.2.1-1) Red Hat Enterprise Linux 8.10 Kernel: 5.15 Compiler: gcc gcc (GCC) 8.5.0 20210514 (Red Hat 8.5.0-22) openSUSE Leap 15.6 Kernel: 5.15 Compiler: gcc gcc (SUSE Linux) 7.5.0 Red Hat Enterprise Linux 9.5 Kernel: 5.15 Compiler: gcc gcc (GCC) 11.5.0 20240719 (Red Hat 11.5.0-2) Ubuntu 22.04 Kernel: 5.15 Compiler: gcc gcc (Ubuntu 11.4.0-1ubuntu1~22.04) 11.4.0 Ubuntu 24.04 Kernel: 5.15 Compiler: gcc gcc (Ubuntu 13.3.0-6ubuntu2~24.04) 13.3.0 Alpine Linux 3.22.0 Kernel: 5.15 Compiler: gcc gcc (Alpine 14.2.0) 14.2.0 Windows Server 2022 Kernel: 10.0.20348.2031 Compiler: clang 15.0.7, gcc 14.1.0 (MinGW), and MSVC VS 19.39.33521 To view detailed results, visit: https://lab.dpdk.org/results/dashboard/patchsets/34534/ UNH-IOL DPDK Community Lab To manage your email subscriptions, visit: https://lab.dpdk.org/results/dashboard/preferences/subscriptions/