From mboxrd@z Thu Jan 1 00:00:00 1970 Return-Path: Received: from mails.dpdk.org (mails.dpdk.org [217.70.189.124]) by inbox.dpdk.org (Postfix) with ESMTP id AD28648AFA for ; Thu, 13 Nov 2025 14:41:13 +0100 (CET) Received: from mails.dpdk.org (localhost [127.0.0.1]) by mails.dpdk.org (Postfix) with ESMTP id A017F40151; Thu, 13 Nov 2025 14:41:13 +0100 (CET) Received: from mail-il1-f226.google.com (mail-il1-f226.google.com [209.85.166.226]) by mails.dpdk.org (Postfix) with ESMTP id A10E440151 for ; Thu, 13 Nov 2025 14:41:11 +0100 (CET) Received: by mail-il1-f226.google.com with SMTP id e9e14a558f8ab-43470d98f77so4349365ab.2 for ; Thu, 13 Nov 2025 05:41:11 -0800 (PST) DKIM-Signature: v=1; a=rsa-sha256; c=relaxed/relaxed; d=iol.unh.edu; s=unh-iol; t=1763041271; x=1763646071; darn=dpdk.org; h=references:in-reply-to:cc:to:from:subject:message-id:date:from:to :cc:subject:date:message-id:reply-to; bh=ctiqJZVeC+DgKfw4WH64fFXEe73kyxNNzw7Z2loalw0=; b=Kns+MpZ94himtQy/icdbRIQJEYj5x+pF3weF/54/eyY3y/PYleDeslvXubZeOlxJdm eFOhrqXYAW5esziChWT8KCuTR75kFeNvJHQRFskYEhk7DU2BoAPwLQZWKLF+PYzSKqSH Aes3+Q3AX3cs4d9hLcLwGHgxBdXReKU6Lx9SM= X-Google-DKIM-Signature: v=1; a=rsa-sha256; c=relaxed/relaxed; d=1e100.net; s=20230601; t=1763041271; x=1763646071; h=references:in-reply-to:cc:to:from:subject:message-id:date:x-gm-gg :x-gm-message-state:from:to:cc:subject:date:message-id:reply-to; bh=ctiqJZVeC+DgKfw4WH64fFXEe73kyxNNzw7Z2loalw0=; b=sECmDH/br0iSqhUHrxjDZiEboe2DDZhHFmhplmiWzG/fTCpOHByqrtrdZbx6+eyMwu YhKwTiWZDS4hvx3bW/+u6jkEuDHFgbDu+DqGms1r4M35kyAvibsXZBePU1jXzTFp1PvP JzJvDg/uMldw8hw+PaW7Fc3UbAEA4N+xTb5Ccv2KxYHAdipw5Gmpttvh/5GWi+PPmZ3a 3y4BVbZqNJoua8jP3Z1fXVmGiUzI7pLineM50oIwVlFS2/lmltTLxKUdEw9ZXLsv/IJD rehWFkbhvOWjA1CxBoU2JfIsh+M7tWEEVh5wQFtnJmY8NB7v+HFGigdgxKSA39jbiDG1 YIdA== X-Gm-Message-State: AOJu0YwCWdU2NSu1cmop6flY0WdIhTxbewAJ9HlohagtXOJchXsJzIAl 82MRz8NQySg72tgTyQ9FbAEjF6x6iEMHjP40rVYFcpgPy3PhoQPyAg+LA6/L2hPFnjIRmQxfBiQ TUIA7ICO9oeNobsjtHye2F5qDyzXzZxHWIt0NulnjHkuCOq5rtlPXRNdC/gaY X-Gm-Gg: ASbGnctDBFVdyN2fcXuuQSgXB0K/4AdEY7vkek7z2nA4cMATyw/OuVIHMMry94Y+SKE Kja+MBfH6XvMPFH5AqAodIU9UmCWlWz3cC50hl8Dzs9cUnpmwG0o7ltDGigx1HMnq4mPSmTe7+c v/q/cbcLcTrn34C5Xtv7utQIJSjG27LvarJrvthzMAiUdlcpXx+zkfV80XjL1KsLgVIp5iJUtJ4 IAe3RtSRz1S2jFi4BD4KiHQB+AJs8+6MgQnjMDMa/DULC8u4sm0pY9bnjutEzpi4uBcQzENNcPf JLYvjK9CO9kKGP93bpv6cF/kPkRqkLsL35P2esjrkpdA1F1nqKskNKVfM7p5XvmtYBytayA7yDI 4+ToQ+rMr X-Google-Smtp-Source: AGHT+IFIOggyyXxx2vHk/KWoBrewdAoDWRERu3ohLP39EkpdRkl+lXlhgn2ucyEThnd1zDmLxvGDhRI/yTOs X-Received: by 2002:a05:6e02:198e:b0:433:283c:ba5 with SMTP id e9e14a558f8ab-43473d6b892mr81621325ab.18.1763041270957; Thu, 13 Nov 2025 05:41:10 -0800 (PST) Received: from postal.iol.unh.edu (postal.iol.unh.edu. [2606:4100:3880:1234::84]) by smtp-relay.gmail.com with ESMTPS id e9e14a558f8ab-434839b238asm1576305ab.24.2025.11.13.05.41.10 (version=TLS1_2 cipher=ECDHE-ECDSA-AES128-GCM-SHA256 bits=128/128); Thu, 13 Nov 2025 05:41:10 -0800 (PST) X-Relaying-Domain: iol.unh.edu Date: Thu, 13 Nov 2025 05:41:10 -0800 (PST) Message-ID: <6915dff6.050a0220.ea2aa.8115SMTPIN_ADDED_MISSING@mx.google.com> Received: from [172.21.0.2] (unknown [172.18.0.240]) by postal.iol.unh.edu (Postfix) with ESMTP id 8C2406051830; Thu, 13 Nov 2025 08:41:10 -0500 (EST) Subject: |SUCCESS| pw158754 [PATCH] net/ice: add MAC anti-spoof disable optio From: dpdklab@iol.unh.edu To: Test Report Cc: dpdk-test-reports@iol.unh.edu, Bruce Richardson In-Reply-To: <20251113105914.34949-1-anurag.mandal@intel.com> References: <20251113105914.34949-1-anurag.mandal@intel.com> Content-Type: text/plain X-BeenThere: test-report@dpdk.org X-Mailman-Version: 2.1.29 Precedence: list List-Id: automatic DPDK test reports List-Unsubscribe: , List-Archive: List-Post: List-Help: List-Subscribe: , Errors-To: test-report-bounces@dpdk.org Test-Label: iol-unit-amd64-testing Test-Status: SUCCESS http://dpdk.org/patch/158754 _Testing PASS_ Submitter: Anurag Mandal Date: Thursday, November 13 2025 10:59:14 DPDK git baseline: Repo:dpdk-next-net-intel Branch: master CommitID:123703be5bdd0fa45e4fda14f36a0d941d1f7e63 158754 --> testing pass Upstream job id: Generic-Unit-Test-DPDK#392115 Test environment and result as below: +-------------------------------+----------------+ | Environment | dpdk_unit_test | +===============================+================+ | CentOS Stream 10 | PASS | +-------------------------------+----------------+ | Debian GNU/Linux 12 | PASS | +-------------------------------+----------------+ | CentOS Stream 9 | PASS | +-------------------------------+----------------+ | Fedora Linux 40 | PASS | +-------------------------------+----------------+ | Fedora Linux 41 | PASS | +-------------------------------+----------------+ | Fedora Linux 42 | PASS | +-------------------------------+----------------+ | Red Hat Enterprise Linux 9.5 | PASS | +-------------------------------+----------------+ | Red Hat Enterprise Linux 8.10 | PASS | +-------------------------------+----------------+ | Ubuntu 20.04 | PASS | +-------------------------------+----------------+ | Ubuntu 22.04 | PASS | +-------------------------------+----------------+ | Ubuntu 24.04 | PASS | +-------------------------------+----------------+ CentOS Stream 10 Kernel: 5.15 Compiler: gcc gcc (GCC) 14.2.1 20250110 (Red Hat 14.2.1-8) Debian GNU/Linux 12 Kernel: 5.15 Compiler: gcc gcc (Debian 12.2.0-14+deb12u1) 12.2.0 CentOS Stream 9 Kernel: 5.15 Compiler: gcc gcc (GCC) 11.5.0 20240719 (Red Hat 11.5.0-11) Fedora Linux 40 Kernel: 5.15 Compiler: clang gcc (GCC) 14.2.1 20240912 (Red Hat 14.2.1-3) Fedora Linux 41 Kernel: 5.15 Compiler: clang gcc (GCC) 14.3.1 20250523 (Red Hat 14.3.1-1) Fedora Linux 42 Kernel: 5.15 Compiler: clang gcc (GCC) 15.2.1 20250808 (Red Hat 15.2.1-1) Red Hat Enterprise Linux 9.5 Kernel: 5.15 Compiler: gcc gcc (GCC) 11.5.0 20240719 (Red Hat 11.5.0-2) Red Hat Enterprise Linux 8.10 Kernel: 5.15 Compiler: gcc gcc (GCC) 8.5.0 20210514 (Red Hat 8.5.0-22) Ubuntu 20.04 Kernel: 5.15 Compiler: gcc gcc (Ubuntu 9.4.0-1ubuntu1~20.04.2) 9.4.0 Ubuntu 22.04 Kernel: 5.15 Compiler: gcc gcc (Ubuntu 11.4.0-1ubuntu1~22.04) 11.4.0 Ubuntu 24.04 Kernel: 5.15 Compiler: gcc gcc (Ubuntu 13.3.0-6ubuntu2~24.04) 13.3.0 To view detailed results, visit: https://lab.dpdk.org/results/dashboard/patchsets/34571/ UNH-IOL DPDK Community Lab To manage your email subscriptions, visit: https://lab.dpdk.org/results/dashboard/preferences/subscriptions/