From mboxrd@z Thu Jan 1 00:00:00 1970 Return-Path: Received: from mails.dpdk.org (mails.dpdk.org [217.70.189.124]) by inbox.dpdk.org (Postfix) with ESMTP id 3702048AFA for ; Thu, 13 Nov 2025 14:44:52 +0100 (CET) Received: from mails.dpdk.org (localhost [127.0.0.1]) by mails.dpdk.org (Postfix) with ESMTP id 298BF40B8C; Thu, 13 Nov 2025 14:44:52 +0100 (CET) Received: from mail-il1-f225.google.com (mail-il1-f225.google.com [209.85.166.225]) by mails.dpdk.org (Postfix) with ESMTP id DB2A2402E9 for ; Thu, 13 Nov 2025 14:44:49 +0100 (CET) Received: by mail-il1-f225.google.com with SMTP id e9e14a558f8ab-43320988dcfso3797545ab.3 for ; Thu, 13 Nov 2025 05:44:49 -0800 (PST) DKIM-Signature: v=1; a=rsa-sha256; c=relaxed/relaxed; d=iol.unh.edu; s=unh-iol; t=1763041489; x=1763646289; darn=dpdk.org; h=references:in-reply-to:cc:to:from:subject:message-id:date:from:to :cc:subject:date:message-id:reply-to; bh=0bpQibDIt5IIyadCo8OGesxZ265dQBhi7uEGWcIhL10=; b=F+ygJ4rlI+tp6e2aJVkY8smC/33WqFAk76rokMz7So55D3aP48zk8+wGnA0rukbKjn U6UZaFdHYBPjoJdC1wxkrOZlLGv+crreCKXyklGprQafh8SIJZXiNcYdigtoKjRHEEmo g6e2zhMcqRE2IHA607L2TaSvmp3AvboBzo5Wg= X-Google-DKIM-Signature: v=1; a=rsa-sha256; c=relaxed/relaxed; d=1e100.net; s=20230601; t=1763041489; x=1763646289; h=references:in-reply-to:cc:to:from:subject:message-id:date:x-gm-gg :x-gm-message-state:from:to:cc:subject:date:message-id:reply-to; bh=0bpQibDIt5IIyadCo8OGesxZ265dQBhi7uEGWcIhL10=; b=xAWvSASXoigNjQxYfi2E98oFY1c/1Xv+USd604Fvy+kCzQ9WHHjmjnZXYqF76jKbbc tn6azq/XLsUY8pITI3l8u4KVHM7rqiLiR95GAZxw12d+f/hwJdl8wglCg9rPywIkEZJK hXLcoIwQex6TuJf7DwKqKcTbgniMRwoFtADI0RrNFExjHowEJwm0TAKOZ0wEAvndUoA4 WOyhA4eWlASQajXnBvagwDO6SrTwxYrwM82cGiHDfQdieV+QCdlq1nPtXIWaZyrsSycw xCCtw4beSFUw1U1BW/VgZXd+w4hzfdyM/qNZ9DLZrXmg2Zcq2qyJENqQ0kYhHoTVJGLz VNvg== X-Gm-Message-State: AOJu0YwwPY9UvPpW8pnqVbPYJDOiIkLFmLYgkYxW9t+SM25APZftvY42 RFf7BHh8MpY6v+MMdWvTudP77FQsJowxRcfOHXWA+jFESWVnhBx4E+SoYPT1Hq/NfetuwLRXJO7 8PoswgrdebzAX3pzPgTfU2BeAYJbfsukpTRyfxZKpvgrraeMxFNpS0MKoPiTn X-Gm-Gg: ASbGncvU6A+UOuJCM7ZV8wwCcOfm9d9/tDGwcPx6s1z7MgQfmE6GxUS/obhy7DRdkby S7JoRb22cvWO+LKiNMquS8jlJikCRR16cPTsa6NHusaeyFvOVQMmACfPngn5Z3AU0vUhzXmXgZr HQyQa6vZWcVdXdk/ERDA0sl+j6ZlIo+e0DBGJefEbCgKmPMixCX4cv8P8IxgN5v5pUy3ng2Uin+ dgSjtzgxwyg25KXH9iHNSmFfiMSzRH2pdel2n6D0kkroncPDYEHZHVXapEoF5iMeciC+g5wixsw dM/5ItBs5PnPqoWIwzT0LBiKwSZinSinfrwd3PQ2B5XdCazuaXWlIbbJbtBMvVGP1540TABtkSD kXjJn/Sv1 X-Google-Smtp-Source: AGHT+IEvxVNR24CzihpohI0iOrZQf5I+FsFHTknUO7BtLL7f/qkzEeSyAEzvAfTX7wvNSpzltxFpvYTw8YJQ X-Received: by 2002:a05:6e02:1887:b0:433:27c1:75c4 with SMTP id e9e14a558f8ab-43473db70c0mr83904195ab.31.1763041489203; Thu, 13 Nov 2025 05:44:49 -0800 (PST) Received: from postal.iol.unh.edu (postal.iol.unh.edu. [2606:4100:3880:1234::84]) by smtp-relay.gmail.com with ESMTPS id 8926c6da1cb9f-5b7bd27fb22sm171359173.18.2025.11.13.05.44.49 (version=TLS1_2 cipher=ECDHE-ECDSA-AES128-GCM-SHA256 bits=128/128); Thu, 13 Nov 2025 05:44:49 -0800 (PST) X-Relaying-Domain: iol.unh.edu Date: Thu, 13 Nov 2025 05:44:49 -0800 (PST) Message-ID: <6915e0d1.050a0220.142f44.8350SMTPIN_ADDED_MISSING@mx.google.com> Received: from [172.21.0.2] (unknown [172.18.0.240]) by postal.iol.unh.edu (Postfix) with ESMTP id BD4886051830; Thu, 13 Nov 2025 08:44:48 -0500 (EST) Subject: |SUCCESS| pw158702-158704 [PATCH] [v2,3/3] net/fm10k: fix null packe From: dpdklab@iol.unh.edu To: Test Report Cc: dpdk-test-reports@iol.unh.edu, Bruce Richardson In-Reply-To: <20251112141059.1576919-4-bruce.richardson@intel.com> References: <20251112141059.1576919-4-bruce.richardson@intel.com> Content-Type: text/plain X-BeenThere: test-report@dpdk.org X-Mailman-Version: 2.1.29 Precedence: list List-Id: automatic DPDK test reports List-Unsubscribe: , List-Archive: List-Post: List-Help: List-Subscribe: , Errors-To: test-report-bounces@dpdk.org Test-Label: iol-unit-arm64-testing Test-Status: SUCCESS http://dpdk.org/patch/158704 _Testing PASS_ Submitter: Bruce Richardson Date: Wednesday, November 12 2025 14:10:59 DPDK git baseline: Repo:dpdk-next-net-intel Branch: master CommitID:be0112878b4fc3a1b918370ed2fe615c52039d77 158702-158704 --> testing pass Upstream job id: Generic-Unit-Test-DPDK#391570 Test environment and result as below: +------------------------------+--------------+---------------------------+------------------------------+----------------+ | Environment | lpm_autotest | cryptodev_sw_zuc_autotest | cryptodev_sw_snow3g_autotest | dpdk_unit_test | +==============================+==============+===========================+==============================+================+ | Ubuntu 20.04 | PASS | SKIPPED | SKIPPED | PASS | +------------------------------+--------------+---------------------------+------------------------------+----------------+ | Debian 12 (arm) | SKIPPED | PASS | PASS | SKIPPED | +------------------------------+--------------+---------------------------+------------------------------+----------------+ | Debian GNU/Linux 12 | SKIPPED | SKIPPED | SKIPPED | PASS | +------------------------------+--------------+---------------------------+------------------------------+----------------+ | Red Hat Enterprise Linux 9.5 | SKIPPED | SKIPPED | SKIPPED | PASS | +------------------------------+--------------+---------------------------+------------------------------+----------------+ | CentOS Stream 9 | SKIPPED | SKIPPED | SKIPPED | PASS | +------------------------------+--------------+---------------------------+------------------------------+----------------+ | Ubuntu 22.04 | SKIPPED | SKIPPED | SKIPPED | PASS | +------------------------------+--------------+---------------------------+------------------------------+----------------+ | CentOS Stream 10 | SKIPPED | SKIPPED | SKIPPED | PASS | +------------------------------+--------------+---------------------------+------------------------------+----------------+ | Fedora Linux 40 | SKIPPED | SKIPPED | SKIPPED | PASS | +------------------------------+--------------+---------------------------+------------------------------+----------------+ | Fedora Linux 41 | SKIPPED | SKIPPED | SKIPPED | PASS | +------------------------------+--------------+---------------------------+------------------------------+----------------+ | Fedora Linux 42 | SKIPPED | SKIPPED | SKIPPED | PASS | +------------------------------+--------------+---------------------------+------------------------------+----------------+ | Ubuntu 24.04 | SKIPPED | SKIPPED | SKIPPED | PASS | +------------------------------+--------------+---------------------------+------------------------------+----------------+ Ubuntu 20.04 Kernel: 5.4 Compiler: gcc gcc (Ubuntu 9.4.0-1ubuntu1~20.04.2) 9.4.0 Debian 12 (arm) Kernel: Depends on container host Compiler: gcc (Debian 12.2.0-14) 12.2.0 Debian GNU/Linux 12 Kernel: 5.4 Compiler: gcc gcc (Debian 12.2.0-14+deb12u1) 12.2.0 Red Hat Enterprise Linux 9.5 Kernel: 5.4 Compiler: gcc gcc (GCC) 11.5.0 20240719 (Red Hat 11.5.0-2) CentOS Stream 9 Kernel: 5.4 Compiler: gcc gcc (GCC) 11.5.0 20240719 (Red Hat 11.5.0-11) Ubuntu 22.04 Kernel: 5.15 Compiler: gcc gcc (Ubuntu 11.4.0-1ubuntu1~22.04.2) 11.4.0 CentOS Stream 10 Kernel: 5.4 Compiler: gcc gcc (GCC) 14.2.1 20250110 (Red Hat 14.2.1-8) Fedora Linux 40 Kernel: 5.4 Compiler: clang gcc (GCC) 14.2.1 20240912 (Red Hat 14.2.1-3) Fedora Linux 41 Kernel: 5.4 Compiler: clang gcc (GCC) 14.3.1 20250523 (Red Hat 14.3.1-1) Fedora Linux 42 Kernel: 5.4 Compiler: clang gcc (GCC) 15.2.1 20250808 (Red Hat 15.2.1-1) Ubuntu 24.04 Kernel: 5.4 Compiler: gcc gcc (Ubuntu 13.3.0-6ubuntu2~24.04) 13.3.0 To view detailed results, visit: https://lab.dpdk.org/results/dashboard/patchsets/34551/ UNH-IOL DPDK Community Lab To manage your email subscriptions, visit: https://lab.dpdk.org/results/dashboard/preferences/subscriptions/