From mboxrd@z Thu Jan 1 00:00:00 1970 Return-Path: Received: from mails.dpdk.org (mails.dpdk.org [217.70.189.124]) by inbox.dpdk.org (Postfix) with ESMTP id DCAE248AFA for ; Thu, 13 Nov 2025 14:51:13 +0100 (CET) Received: from mails.dpdk.org (localhost [127.0.0.1]) by mails.dpdk.org (Postfix) with ESMTP id D820C40151; Thu, 13 Nov 2025 14:51:13 +0100 (CET) Received: from mail-ot1-f98.google.com (mail-ot1-f98.google.com [209.85.210.98]) by mails.dpdk.org (Postfix) with ESMTP id 9F20B40151 for ; Thu, 13 Nov 2025 14:51:12 +0100 (CET) Received: by mail-ot1-f98.google.com with SMTP id 46e09a7af769-7c2846c961fso563970a34.2 for ; Thu, 13 Nov 2025 05:51:12 -0800 (PST) DKIM-Signature: v=1; a=rsa-sha256; c=relaxed/relaxed; d=iol.unh.edu; s=unh-iol; t=1763041872; x=1763646672; darn=dpdk.org; h=references:in-reply-to:cc:to:from:subject:message-id:date:from:to :cc:subject:date:message-id:reply-to; bh=lCI83097C24l4mSAv6knHsBau37whsPDqCbohhlUsaA=; b=Ks0tbWhEXsuJfAQBcgvngL16R9Eh1ZOFPrc/aNYrNSa75i16NsFwGM6R1p35izD+zf I1z+7DaZE7i2M8Y6BwgRQ39ZYCec8/sTxM2HOuRu7HM+cMixHDAilZbL8VKqm6QgTsEE 3pX9OO1iKG3jGQhq4SdmqhV793aczAA8avb9g= X-Google-DKIM-Signature: v=1; a=rsa-sha256; c=relaxed/relaxed; d=1e100.net; s=20230601; t=1763041872; x=1763646672; h=references:in-reply-to:cc:to:from:subject:message-id:date:x-gm-gg :x-gm-message-state:from:to:cc:subject:date:message-id:reply-to; bh=lCI83097C24l4mSAv6knHsBau37whsPDqCbohhlUsaA=; b=qgnyOb2yHJGlGeddMzbQEtB+kBB2zHYHedr8p0CXHl+WLcBi5Rq9moDBFB1WezYMkO cPCEJgzKR06MKLuYUBr3Iag6Uk1Sip6sqPDoeVGJgwK+rNIt598sy/oha9Dv3YF93jCK 5YPwOe0g12F2VHsdrY9s8nGUkxU9/0IR9j4JO8M6akcC+a/LbVwI0YYTKPg4S1tkei6H Sf9p1tPXPQQZ+WaEZtM103iOaK47JmetO+Zsy8PsOw0HovIazVpkofaDiZQoKCpnagGz /yqidDLKtGH4jdeVsXBWxrHvmO7Smx22k2xVXnmQdI9yoL7HjNx93a0+4hkbB/SSlk8+ FTlw== X-Gm-Message-State: AOJu0YwvxQCt4xOaRVxqUcPosD5eUgMdrHM2Es8ESj4OwKyqQot2aCFD yrSUyMZ5/RZlGWAwQCMPz3HDfRAQJVMyrMtnkD7iRma93Bh8sn2hFlCzSPSRgVpPwlX/dfkWghX HEDIQ/+tn38P4NBJ+II3LXFsSom7pN/Z9wP1txVRk3VXl1gO1bR1/GsEoHFMG X-Gm-Gg: ASbGncs8SqZ5aawwJkJuq+I3da5lqNzerlsDnk55QK/F15WXZXtg05V/NrnTSqY9eqc QRf56iH/XFwlhodgvplCq6i5zupCzfmTZ1VE4x7OoyyJdVLWs/nCSTwilUNyPjDUeoT9WuSFfU4 Ns2gkm8sR9a3gvFjg4Wumatru3H0dk/3aGnLPs1stKrKyN+4Mgi2g9xqU8o/i9Hd/xXAjlspxX7 NcWms1/C7Q5Mxm6aLnsz+MghSWiPGfOapY1G3R//1OZAZ1FbRrpl0osoeJYRGpmi0wdmfe44Xoa MEFs7hJSJkV9+pzwn4QxyAFYxjVfaF8WcZ6nVUpyXzqurVwBZIOIb/iLXG3iVCF9NTdwqPFnd/3 jpyjDvjea X-Google-Smtp-Source: AGHT+IFVuhL+0qkEFdDn7wSf5Y2mrxBdQwFr8xgoZjfzgkthkuuLFRyd8Ye8ybNlZTLfX+IGzWKBRLissUVP X-Received: by 2002:a05:6830:34a5:b0:7c7:dff:2ac1 with SMTP id 46e09a7af769-7c72e1f1151mr3596485a34.3.1763041872001; Thu, 13 Nov 2025 05:51:12 -0800 (PST) Received: from postal.iol.unh.edu (postal.iol.unh.edu. [2606:4100:3880:1234::84]) by smtp-relay.gmail.com with ESMTPS id 46e09a7af769-7c73a35fcdfsm173836a34.8.2025.11.13.05.51.11 (version=TLS1_2 cipher=ECDHE-ECDSA-AES128-GCM-SHA256 bits=128/128); Thu, 13 Nov 2025 05:51:11 -0800 (PST) X-Relaying-Domain: iol.unh.edu Date: Thu, 13 Nov 2025 05:51:11 -0800 (PST) Message-ID: <6915e24f.050a0220.3b910.814bSMTPIN_ADDED_MISSING@mx.google.com> Received: from [172.21.0.3] (unknown [172.18.0.240]) by postal.iol.unh.edu (Postfix) with ESMTP id 83DFF6051830; Thu, 13 Nov 2025 08:51:11 -0500 (EST) Subject: |SUCCESS| pw158755 [PATCH] [v1] net/axgbe: fix the build warninig fo From: dpdklab@iol.unh.edu To: Test Report Cc: dpdk-test-reports@iol.unh.edu, Stephen Hemminger In-Reply-To: <20251113113055.371-1-VenkatKumar.Ande@amd.com> References: <20251113113055.371-1-VenkatKumar.Ande@amd.com> Content-Type: text/plain X-BeenThere: test-report@dpdk.org X-Mailman-Version: 2.1.29 Precedence: list List-Id: automatic DPDK test reports List-Unsubscribe: , List-Archive: List-Post: List-Help: List-Subscribe: , Errors-To: test-report-bounces@dpdk.org Test-Label: iol-unit-amd64-testing Test-Status: SUCCESS http://dpdk.org/patch/158755 _Testing PASS_ Submitter: Venkat Kumar Ande Date: Thursday, November 13 2025 11:30:55 DPDK git baseline: Repo:dpdk-next-net Branch: master CommitID:29807269854f9bfc72f1323273de8e23adc724d4 158755 --> testing pass Upstream job id: Generic-Unit-Test-DPDK#392154 Test environment and result as below: +-------------------------------+----------------+ | Environment | dpdk_unit_test | +===============================+================+ | CentOS Stream 9 | PASS | +-------------------------------+----------------+ | Debian GNU/Linux 12 | PASS | +-------------------------------+----------------+ | CentOS Stream 10 | PASS | +-------------------------------+----------------+ | Fedora Linux 40 | PASS | +-------------------------------+----------------+ | Fedora Linux 41 | PASS | +-------------------------------+----------------+ | Red Hat Enterprise Linux 8.10 | PASS | +-------------------------------+----------------+ | Red Hat Enterprise Linux 9.5 | PASS | +-------------------------------+----------------+ | Fedora Linux 42 | PASS | +-------------------------------+----------------+ | Ubuntu 20.04 | PASS | +-------------------------------+----------------+ | Ubuntu 22.04 | PASS | +-------------------------------+----------------+ | Ubuntu 24.04 | PASS | +-------------------------------+----------------+ CentOS Stream 9 Kernel: 5.15 Compiler: gcc gcc (GCC) 11.5.0 20240719 (Red Hat 11.5.0-11) Debian GNU/Linux 12 Kernel: 5.15 Compiler: gcc gcc (Debian 12.2.0-14+deb12u1) 12.2.0 CentOS Stream 10 Kernel: 5.15 Compiler: gcc gcc (GCC) 14.2.1 20250110 (Red Hat 14.2.1-8) Fedora Linux 40 Kernel: 5.15 Compiler: gcc gcc (GCC) 14.2.1 20240912 (Red Hat 14.2.1-3) Fedora Linux 41 Kernel: 5.15 Compiler: gcc gcc (GCC) 14.3.1 20250523 (Red Hat 14.3.1-1) Red Hat Enterprise Linux 8.10 Kernel: 5.15 Compiler: gcc gcc (GCC) 8.5.0 20210514 (Red Hat 8.5.0-22) Red Hat Enterprise Linux 9.5 Kernel: 5.15 Compiler: gcc gcc (GCC) 11.5.0 20240719 (Red Hat 11.5.0-2) Fedora Linux 42 Kernel: 5.15 Compiler: gcc gcc (GCC) 15.2.1 20250808 (Red Hat 15.2.1-1) Ubuntu 20.04 Kernel: 5.15 Compiler: gcc gcc (Ubuntu 9.4.0-1ubuntu1~20.04.2) 9.4.0 Ubuntu 22.04 Kernel: 5.15 Compiler: gcc gcc (Ubuntu 11.4.0-1ubuntu1~22.04) 11.4.0 Ubuntu 24.04 Kernel: 5.15 Compiler: gcc gcc (Ubuntu 13.3.0-6ubuntu2~24.04) 13.3.0 To view detailed results, visit: https://lab.dpdk.org/results/dashboard/patchsets/34572/ UNH-IOL DPDK Community Lab To manage your email subscriptions, visit: https://lab.dpdk.org/results/dashboard/preferences/subscriptions/