From mboxrd@z Thu Jan 1 00:00:00 1970 Return-Path: Received: from mails.dpdk.org (mails.dpdk.org [217.70.189.124]) by inbox.dpdk.org (Postfix) with ESMTP id 1BE1748AFA for ; Thu, 13 Nov 2025 14:51:45 +0100 (CET) Received: from mails.dpdk.org (localhost [127.0.0.1]) by mails.dpdk.org (Postfix) with ESMTP id 1862E40151; Thu, 13 Nov 2025 14:51:45 +0100 (CET) Received: from mail-io1-f98.google.com (mail-io1-f98.google.com [209.85.166.98]) by mails.dpdk.org (Postfix) with ESMTP id 6643540151 for ; Thu, 13 Nov 2025 14:51:44 +0100 (CET) Received: by mail-io1-f98.google.com with SMTP id ca18e2360f4ac-9487e2b95f1so35538239f.2 for ; Thu, 13 Nov 2025 05:51:44 -0800 (PST) DKIM-Signature: v=1; a=rsa-sha256; c=relaxed/relaxed; d=iol.unh.edu; s=unh-iol; t=1763041904; x=1763646704; darn=dpdk.org; h=references:in-reply-to:cc:to:from:subject:message-id:date:from:to :cc:subject:date:message-id:reply-to; bh=GxuhudZYk3iBSfxzOlo44W2IZOIMDvx08Mdjd0M0/II=; b=U2xqcHwY4uDeFIS41ZrjCBKfIb0COItWk+VvjX2ckmRO4rdvCuzWdgBKbrx09sCLK8 YCDBCFjGXNtoZxjnx67sXpAlB/yK8gg7GqI9w5ZGW78xQs/d1JO/hkqKwr7r9eXcL9L6 4jLZSKPRYvGxRxefDKw19LJcY6RjAwvzC3PVs= X-Google-DKIM-Signature: v=1; a=rsa-sha256; c=relaxed/relaxed; d=1e100.net; s=20230601; t=1763041904; x=1763646704; h=references:in-reply-to:cc:to:from:subject:message-id:date:x-gm-gg :x-gm-message-state:from:to:cc:subject:date:message-id:reply-to; bh=GxuhudZYk3iBSfxzOlo44W2IZOIMDvx08Mdjd0M0/II=; b=v6ikt6j+pnqeaFjqyvkaaC3J6Et9cW2udOewG+wfZgqEeAQcvN1uOlf9ffVWcw0nox SnCEQ0WLT2Prxg27bF3YOT67EBuVYI8+auCCSs2+Za/m30bQlaYGkRwukMa1VXX06sHg iyo8lG1UMzmVpunfRcLg5bhtD5m2zdcsmzWMWcuRDy7b2nPZCRgWmnF3b+9ZACZbUTL6 O85aJDYy3BYULV98JvuVUovE8shKyFt1Uy5RsT76AIrm2q2WA10ufdRR5pYSxvyq/1cg 4QQEd4sNZIOQNnAFMLQBRWdtu8WqyY7Pf23Y1FJDJjxPM7LR1TYU8a2LdlQ4KdBX1woX 51uQ== X-Gm-Message-State: AOJu0YzYG6eTw7OPO0aI9Sd/sPDixu00xDjFhSJinYvtvSVC6uO/jBhP L28I3ShlGkn0RPfpgnIrFK2UeAmrSuKMD5dJzPqQe8NA6V93bDgoGwzujMdvW5lX9FZFERRbz45 +Yya+moDHN+nHBtKPPvVzZQu36CNAOjPXKWcC0gM58eoO X-Gm-Gg: ASbGncs39d+siCN5fSF+kfAlHAjAwu7yncO01+X75wugQhq7A+Y6lzoL0g9Uoz/tJGS kNp48FaYlJhnNxl8JoPwvNuEk/qq1seFJfU6qwVKnsXvaFhhbFWqrXY2TQc49YWn4l9QSp+wglt gB2urMlUh0MomINE3sj9Coc6YyaL/H7I8QFxsdgSMPI7d7/1RBmBpDNNxsBUB23doiDpg8D5JQ6 W2a4wnqoGzB176BwF+ajiGHYL4sGGR9xOESK01DUmEcunXsJrhOEBZCyG5uhhqjkxUxvbAO/YuH NElUEFIyoWnfph6BHt/pueR91ZEaqHDsjRlD6b5H+6Obd7y0SBydslRYLayk4WGJ4kMb29zgA6d Qb0Xd+Dlkk4rmNnAVkr/WkpGWWaLWFVg= X-Google-Smtp-Source: AGHT+IFBJ/2ZJBumViRYdCYUWEAbW13rn7PTMNjZr3LDvcaz+AxJLH1Opkmpce5Kc85Xt5Er7HSLkSRu4uzH X-Received: by 2002:a05:6e02:214e:b0:433:77ee:1e3c with SMTP id e9e14a558f8ab-43473d3dc56mr88795535ab.2.1763041903734; Thu, 13 Nov 2025 05:51:43 -0800 (PST) Received: from postal.iol.unh.edu (postal.iol.unh.edu. [132.177.123.84]) by smtp-relay.gmail.com with ESMTPS id 8926c6da1cb9f-5b7bd266587sm168671173.13.2025.11.13.05.51.43 (version=TLS1_2 cipher=ECDHE-ECDSA-AES128-GCM-SHA256 bits=128/128); Thu, 13 Nov 2025 05:51:43 -0800 (PST) X-Relaying-Domain: iol.unh.edu Date: Thu, 13 Nov 2025 05:51:43 -0800 (PST) Message-ID: <6915e26f.050a0220.2a2e34.849aSMTPIN_ADDED_MISSING@mx.google.com> Received: from [172.21.0.4] (unknown [172.18.0.240]) by postal.iol.unh.edu (Postfix) with ESMTP id 510656051830; Thu, 13 Nov 2025 08:51:43 -0500 (EST) Subject: |SUCCESS| pw158755 [PATCH] [v1] net/axgbe: fix the build warninig fo From: dpdklab@iol.unh.edu To: Test Report Cc: dpdk-test-reports@iol.unh.edu, Stephen Hemminger In-Reply-To: <20251113113055.371-1-VenkatKumar.Ande@amd.com> References: <20251113113055.371-1-VenkatKumar.Ande@amd.com> Content-Type: text/plain X-BeenThere: test-report@dpdk.org X-Mailman-Version: 2.1.29 Precedence: list List-Id: automatic DPDK test reports List-Unsubscribe: , List-Archive: List-Post: List-Help: List-Subscribe: , Errors-To: test-report-bounces@dpdk.org Test-Label: iol-unit-amd64-testing Test-Status: SUCCESS http://dpdk.org/patch/158755 _Testing PASS_ Submitter: Venkat Kumar Ande Date: Thursday, November 13 2025 11:30:55 DPDK git baseline: Repo:dpdk-next-net Branch: master CommitID:29807269854f9bfc72f1323273de8e23adc724d4 158755 --> testing pass Upstream job id: Generic-Unit-Test-DPDK#392149 Test environment and result as below: +-------------------------------+----------------+ | Environment | dpdk_unit_test | +===============================+================+ | CentOS Stream 9 | PASS | +-------------------------------+----------------+ | Debian GNU/Linux 12 | PASS | +-------------------------------+----------------+ | CentOS Stream 10 | PASS | +-------------------------------+----------------+ | Fedora Linux 40 | PASS | +-------------------------------+----------------+ | Fedora Linux 41 | PASS | +-------------------------------+----------------+ | Red Hat Enterprise Linux 8.10 | PASS | +-------------------------------+----------------+ | Red Hat Enterprise Linux 9.5 | PASS | +-------------------------------+----------------+ | Fedora Linux 42 | PASS | +-------------------------------+----------------+ | Ubuntu 20.04 | PASS | +-------------------------------+----------------+ | Ubuntu 22.04 | PASS | +-------------------------------+----------------+ | Ubuntu 24.04 | PASS | +-------------------------------+----------------+ CentOS Stream 9 Kernel: 5.15 Compiler: gcc gcc (GCC) 11.5.0 20240719 (Red Hat 11.5.0-11) Debian GNU/Linux 12 Kernel: 5.15 Compiler: gcc gcc (Debian 12.2.0-14+deb12u1) 12.2.0 CentOS Stream 10 Kernel: 5.15 Compiler: gcc gcc (GCC) 14.2.1 20250110 (Red Hat 14.2.1-8) Fedora Linux 40 Kernel: 5.15 Compiler: gcc gcc (GCC) 14.2.1 20240912 (Red Hat 14.2.1-3) Fedora Linux 41 Kernel: 5.15 Compiler: gcc gcc (GCC) 14.3.1 20250523 (Red Hat 14.3.1-1) Red Hat Enterprise Linux 8.10 Kernel: 5.15 Compiler: gcc gcc (GCC) 8.5.0 20210514 (Red Hat 8.5.0-22) Red Hat Enterprise Linux 9.5 Kernel: 5.15 Compiler: gcc gcc (GCC) 11.5.0 20240719 (Red Hat 11.5.0-2) Fedora Linux 42 Kernel: 5.15 Compiler: gcc gcc (GCC) 15.2.1 20250808 (Red Hat 15.2.1-1) Ubuntu 20.04 Kernel: 5.15 Compiler: gcc gcc (Ubuntu 9.4.0-1ubuntu1~20.04.2) 9.4.0 Ubuntu 22.04 Kernel: 5.15 Compiler: gcc gcc (Ubuntu 11.4.0-1ubuntu1~22.04) 11.4.0 Ubuntu 24.04 Kernel: 5.15 Compiler: gcc gcc (Ubuntu 13.3.0-6ubuntu2~24.04) 13.3.0 To view detailed results, visit: https://lab.dpdk.org/results/dashboard/patchsets/34572/ UNH-IOL DPDK Community Lab To manage your email subscriptions, visit: https://lab.dpdk.org/results/dashboard/preferences/subscriptions/