From mboxrd@z Thu Jan 1 00:00:00 1970 Return-Path: Received: from mails.dpdk.org (mails.dpdk.org [217.70.189.124]) by inbox.dpdk.org (Postfix) with ESMTP id 7E29D48AFA for ; Thu, 13 Nov 2025 15:13:35 +0100 (CET) Received: from mails.dpdk.org (localhost [127.0.0.1]) by mails.dpdk.org (Postfix) with ESMTP id 7998540151; Thu, 13 Nov 2025 15:13:35 +0100 (CET) Received: from mail-qt1-f225.google.com (mail-qt1-f225.google.com [209.85.160.225]) by mails.dpdk.org (Postfix) with ESMTP id EE68840151 for ; Thu, 13 Nov 2025 15:13:34 +0100 (CET) Received: by mail-qt1-f225.google.com with SMTP id d75a77b69052e-4e4d9fc4316so7078401cf.2 for ; Thu, 13 Nov 2025 06:13:34 -0800 (PST) DKIM-Signature: v=1; a=rsa-sha256; c=relaxed/relaxed; d=iol.unh.edu; s=unh-iol; t=1763043214; x=1763648014; darn=dpdk.org; h=references:in-reply-to:cc:to:from:subject:message-id:date:from:to :cc:subject:date:message-id:reply-to; bh=dt4nkAGJDebfyIknG9AqD0J4TVjXb4TrmV3Bfu5oWU0=; b=OsZzpBJpoW3FxCm153a0ZSqJgwz6/frIIKuwR1BTnZbIDN7/7mJcvX+C2cb2zdbY8O b26o1pttUSNxRoqWmyYt4rcrqgBAGJSOpamtp5vlkII+KpfUD7I4kttv/bwXhwqvB/n4 2D8DT/0Wnjg6At+qx5KmvYDvfKVuM9CoL+gsU= X-Google-DKIM-Signature: v=1; a=rsa-sha256; c=relaxed/relaxed; d=1e100.net; s=20230601; t=1763043214; x=1763648014; h=references:in-reply-to:cc:to:from:subject:message-id:date:x-gm-gg :x-gm-message-state:from:to:cc:subject:date:message-id:reply-to; bh=dt4nkAGJDebfyIknG9AqD0J4TVjXb4TrmV3Bfu5oWU0=; b=ZYbBFEs5QXrn5mu0+ST+vS+fWwodcqBlvRYtIqrUeCZtuuQrJFQ0k7QjujI43jzZ27 Ax0+tjKngN6VNqca12YlH/L0Lbj0KViWXDkYV52dDV/kPgNh6Go2Cnk4sN6HUV+AxvvJ blr0jvw9xTvsLVc5AYiAmvveTvcljo1wG55whNBHZLqSABzcUXSeVeVfbyJ//XDESSFl 3QR08/wdqStc0qZTx4zMdXwCKj4rgCq6r49+BaEt7J+vtaIOUMHxSkYahzqAPxUF95gG UYKF7DnrwDjMUpkGNNlPWJuYNo3kI+L+YNTC/pQ9mfMtaaUVAKYgA7O7ljH7Xydp2txd o5qg== X-Gm-Message-State: AOJu0Yw3FK42x54MBFdfsoxkw1aKNcmH/WJH1eX8udYe+ntulZFK1WbO N8WOdzsha5BYXKOQKi9rE/6wjkLbsbRlXCe9T2oA6ksco3r33dMixySTGi7fl3MDf9OTQCRxM4z OKruDsuVQ0+nK1a2D2/DgWGrEORujHSO+M1Lp42Wl1D6hX31aDvXBThRbKS7X X-Gm-Gg: ASbGnctdiZ3ubAfwANo470Y1xFPu9Dn7FvI92gQvPE5IQgpu3uO2VGRPKXF8hXcrLyN JKpc56XhLhtLe2alWQp5Xezd2qcvykWbjfvyMaECY7LVRrLqGnUZHie7mxsO8WTfpAFP9wx26Nz jGTFZRjGC7Vz40B2MZFGt367eewFVIZgxQnY/TTyEJQ9qrvrR2N9TgxBZtRF0XgxuMKBD+p+9Xq /wKAAykVF38cGHEVyEgh7NscRsNExHAHuXKkIiU/Q3Tk+2ImfF1+hAeKthpq1wT7FYpzKltOQwZ A8xaTWrJnrUKq2/X2O3kToFc3XDPv+FQffi+qqOv0bFLwPB+lyTEmgyOTOLxVkjUyagLPGkwrGx gtNTsiKBU X-Google-Smtp-Source: AGHT+IHXR60Sm2x6cLNwAMACo5zallgRNfL+BNrlO9B7K+Req1BsRI9x6tQ50qJtQ4VouoMI2kBr+s3Q2US0 X-Received: by 2002:a05:622a:5c8:b0:4ed:6919:7660 with SMTP id d75a77b69052e-4eddbc4dfd7mr82007061cf.14.1763043212781; Thu, 13 Nov 2025 06:13:32 -0800 (PST) Received: from postal.iol.unh.edu (postal.iol.unh.edu. [2606:4100:3880:1234::84]) by smtp-relay.gmail.com with ESMTPS id 6a1803df08f44-88286539c4csm2337486d6.17.2025.11.13.06.13.32 (version=TLS1_2 cipher=ECDHE-ECDSA-AES128-GCM-SHA256 bits=128/128); Thu, 13 Nov 2025 06:13:32 -0800 (PST) X-Relaying-Domain: iol.unh.edu Date: Thu, 13 Nov 2025 06:13:32 -0800 (PST) Message-ID: <6915e78c.050a0220.2d30a2.b064SMTPIN_ADDED_MISSING@mx.google.com> Received: from [172.21.0.2] (unknown [172.18.0.240]) by postal.iol.unh.edu (Postfix) with ESMTP id 821CE6051830; Thu, 13 Nov 2025 09:13:32 -0500 (EST) Subject: |SUCCESS| pw158756-158759 [PATCH] [v4,4/4] bus/fslmc: add support fo From: dpdklab@iol.unh.edu To: Test Report Cc: dpdk-test-reports@iol.unh.edu, Stephen Hemminger In-Reply-To: <20251113114355.2027438-4-hemant.agrawal@nxp.com> References: <20251113114355.2027438-4-hemant.agrawal@nxp.com> Content-Type: text/plain X-BeenThere: test-report@dpdk.org X-Mailman-Version: 2.1.29 Precedence: list List-Id: automatic DPDK test reports List-Unsubscribe: , List-Archive: List-Post: List-Help: List-Subscribe: , Errors-To: test-report-bounces@dpdk.org Test-Label: iol-unit-amd64-testing Test-Status: SUCCESS http://dpdk.org/patch/158759 _Testing PASS_ Submitter: Hemant Agrawal Date: Thursday, November 13 2025 11:43:55 DPDK git baseline: Repo:dpdk-next-net Branch: master CommitID:29807269854f9bfc72f1323273de8e23adc724d4 158756-158759 --> testing pass Upstream job id: Generic-Unit-Test-DPDK#392179 Test environment and result as below: +-------------------------------+----------------+ | Environment | dpdk_unit_test | +===============================+================+ | CentOS Stream 10 | PASS | +-------------------------------+----------------+ | Debian GNU/Linux 12 | PASS | +-------------------------------+----------------+ | CentOS Stream 9 | PASS | +-------------------------------+----------------+ | Fedora Linux 40 | PASS | +-------------------------------+----------------+ | Fedora Linux 41 | PASS | +-------------------------------+----------------+ | Red Hat Enterprise Linux 8.10 | PASS | +-------------------------------+----------------+ | Fedora Linux 42 | PASS | +-------------------------------+----------------+ | Red Hat Enterprise Linux 9.5 | PASS | +-------------------------------+----------------+ | Ubuntu 22.04 | PASS | +-------------------------------+----------------+ | Ubuntu 20.04 | PASS | +-------------------------------+----------------+ | Ubuntu 24.04 | PASS | +-------------------------------+----------------+ CentOS Stream 10 Kernel: 5.15 Compiler: gcc gcc (GCC) 14.2.1 20250110 (Red Hat 14.2.1-8) Debian GNU/Linux 12 Kernel: 5.15 Compiler: gcc gcc (Debian 12.2.0-14+deb12u1) 12.2.0 CentOS Stream 9 Kernel: 5.15 Compiler: gcc gcc (GCC) 11.5.0 20240719 (Red Hat 11.5.0-11) Fedora Linux 40 Kernel: 5.15 Compiler: gcc gcc (GCC) 14.2.1 20240912 (Red Hat 14.2.1-3) Fedora Linux 41 Kernel: 5.15 Compiler: gcc gcc (GCC) 14.3.1 20250523 (Red Hat 14.3.1-1) Red Hat Enterprise Linux 8.10 Kernel: 5.15 Compiler: gcc gcc (GCC) 8.5.0 20210514 (Red Hat 8.5.0-22) Fedora Linux 42 Kernel: 5.15 Compiler: clang gcc (GCC) 15.2.1 20250808 (Red Hat 15.2.1-1) Red Hat Enterprise Linux 9.5 Kernel: 5.15 Compiler: gcc gcc (GCC) 11.5.0 20240719 (Red Hat 11.5.0-2) Ubuntu 22.04 Kernel: 5.15 Compiler: gcc gcc (Ubuntu 11.4.0-1ubuntu1~22.04) 11.4.0 Ubuntu 20.04 Kernel: 5.15 Compiler: gcc gcc (Ubuntu 9.4.0-1ubuntu1~20.04.2) 9.4.0 Ubuntu 24.04 Kernel: 5.15 Compiler: gcc gcc (Ubuntu 13.3.0-6ubuntu2~24.04) 13.3.0 To view detailed results, visit: https://lab.dpdk.org/results/dashboard/patchsets/34573/ UNH-IOL DPDK Community Lab To manage your email subscriptions, visit: https://lab.dpdk.org/results/dashboard/preferences/subscriptions/