From mboxrd@z Thu Jan 1 00:00:00 1970 Return-Path: Received: from mails.dpdk.org (mails.dpdk.org [217.70.189.124]) by inbox.dpdk.org (Postfix) with ESMTP id D3AEB48AFA for ; Thu, 13 Nov 2025 15:16:16 +0100 (CET) Received: from mails.dpdk.org (localhost [127.0.0.1]) by mails.dpdk.org (Postfix) with ESMTP id CCBAD40151; Thu, 13 Nov 2025 15:16:16 +0100 (CET) Received: from mail-io1-f100.google.com (mail-io1-f100.google.com [209.85.166.100]) by mails.dpdk.org (Postfix) with ESMTP id 4727B40151 for ; Thu, 13 Nov 2025 15:16:15 +0100 (CET) Received: by mail-io1-f100.google.com with SMTP id ca18e2360f4ac-94863b3620cso79646939f.3 for ; Thu, 13 Nov 2025 06:16:15 -0800 (PST) DKIM-Signature: v=1; a=rsa-sha256; c=relaxed/relaxed; d=iol.unh.edu; s=unh-iol; t=1763043374; x=1763648174; darn=dpdk.org; h=references:in-reply-to:cc:to:from:subject:message-id:date:from:to :cc:subject:date:message-id:reply-to; bh=5xh+DfaB8efuAV5GzjHOSiRRkzkqkeHbzmbGl+xWpKc=; b=GTFBbBag6i0bc/8BvbvZ6dc/FiB8IRF4ZZ0GSrjPuqDet27Q0l8xKL2xyU8yO8a8Sh QOWFNH1iuQxJiAOGwVMf9WbGbpPfYfY+Jhz6zvBkBcj8Xq6iNxblzMgrNIbo1nmj7ku3 0eutn9rQtaTR0gcCD5ikIdxzJpCnhCzJwI9FM= X-Google-DKIM-Signature: v=1; a=rsa-sha256; c=relaxed/relaxed; d=1e100.net; s=20230601; t=1763043374; x=1763648174; h=references:in-reply-to:cc:to:from:subject:message-id:date:x-gm-gg :x-gm-message-state:from:to:cc:subject:date:message-id:reply-to; bh=5xh+DfaB8efuAV5GzjHOSiRRkzkqkeHbzmbGl+xWpKc=; b=AqcmOj3/M8rGb811n+4ucEJ/4URzHvwjaaQBVxoj7TJPb/0Js3OOerH+OLezS6k3Yd bBdJp6hJv5GJIDwsMUHoWEoJN6C1PydQ/qONZ7V3JDv7Q1y9RbJe5ikmZTL4LcfR5F7r dQ6KphARioR6Tet4PuT79CD0ZbJaNogdkFiUn5AVP6wzK7LSA7xzRahTgvqJn1SlpSN7 JAITwXNmzgxJyyGbM85/kPwwGYBkojW8ALTtpA8UfRNQD0Br2Ma3OZDVM42wI16Xt/6D FgkOlvK4nE3vDHE+4hJxnVqWGs+7cVQuoNy80NV6iaBJIrdus6C4uqxmt03X32WdMjGW dLDg== X-Gm-Message-State: AOJu0YwHTgmB2MvhftKdrMV+xLhf9A8hYoUX1PT9sk6PL37heG4N0dju 1g4zkuC4eNo7rQD2+ihzDSOvN/8n52m4/cAAUvZRZsB2MXwp9My6Plo6R0oO4T3aCT5TtGt8jtY HdU/Y4puTK/OQWar3U9PCJJrdozK8xe2OndiGTUeqIrVm X-Gm-Gg: ASbGnctc4tt9AmY5hvjqym5Z0IWdxDL5oQZnJHTwWp6Zllsje3sPaqUPDunKSm+YUmA 3Gq55hMcu+3045yRQtq3PsbcQkyPrG2jynvj3kgh1f8MdaAZOEz/4Jimk6wp7+RdmcCEM8uyjX8 nsUB5/KtTVBH5ZB6aeGv/TwXy44hYC0LbqRRykCBgTddO9vyGSwaIJX///Yl72h7dX0/vjjdbNN F4C6l0x38S2I8rKekbF33gk+rO6sq5/sBOc1Ga4HRhg47SF4jrjfI5mAbaxca0o7DYyPJ6Jp14N IOu8n71D0kWyVbrI1AFKklpmSu6q8jWjd/+fwEPbmccG8pRL8fB6pRZ/zAewgyJM/3FKn52cMhJ 6Zkyy6fxQ2LdZaeaZPpi4xvM4h2yY9DQ= X-Google-Smtp-Source: AGHT+IGn/jr9K7VYSO/U8GU9kRPBThLuG1Q8FlokBjcUtYq5q8jnISTEfHmK1qmz5mo0zxA3TPX0WLN0o3ua X-Received: by 2002:a6b:5816:0:b0:941:d34:56be with SMTP id ca18e2360f4ac-948c46db46emr748132239f.18.1763043374390; Thu, 13 Nov 2025 06:16:14 -0800 (PST) Received: from postal.iol.unh.edu (postal.iol.unh.edu. [132.177.123.84]) by smtp-relay.gmail.com with ESMTPS id 8926c6da1cb9f-5b7bd31af2dsm167989173.22.2025.11.13.06.16.14 (version=TLS1_2 cipher=ECDHE-ECDSA-AES128-GCM-SHA256 bits=128/128); Thu, 13 Nov 2025 06:16:14 -0800 (PST) X-Relaying-Domain: iol.unh.edu Date: Thu, 13 Nov 2025 06:16:14 -0800 (PST) Message-ID: <6915e82e.050a0220.1290c4.7ec6SMTPIN_ADDED_MISSING@mx.google.com> Received: from [172.21.0.2] (unknown [172.18.0.240]) by postal.iol.unh.edu (Postfix) with ESMTP id ECCAD6051830; Thu, 13 Nov 2025 09:16:13 -0500 (EST) Subject: |SUCCESS| pw158655-158657 [PATCH] [v2,4/4] net/nbl: add IOVA mode ch From: dpdklab@iol.unh.edu To: Test Report Cc: dpdk-test-reports@iol.unh.edu, Stephen Hemminger In-Reply-To: <20251111113144.3567291-5-dimon.zhao@nebula-matrix.com> References: <20251111113144.3567291-5-dimon.zhao@nebula-matrix.com> Content-Type: text/plain X-BeenThere: test-report@dpdk.org X-Mailman-Version: 2.1.29 Precedence: list List-Id: automatic DPDK test reports List-Unsubscribe: , List-Archive: List-Post: List-Help: List-Subscribe: , Errors-To: test-report-bounces@dpdk.org Test-Label: iol-compile-amd64-testing Test-Status: SUCCESS http://dpdk.org/patch/158657 _Testing PASS_ Submitter: Dimon Zhao Date: Tuesday, November 11 2025 11:31:43 DPDK git baseline: Repo:dpdk-next-net Branch: master CommitID:591ee7f468aebec30d68d30afa8d5e4dcfc897dc 158655-158657 --> testing pass Upstream job id: Windows-Compile-DPDK-Native#32292 Test environment and result as below: +-------------------------------+--------------------+------------------+-------------------+-------------------------+----------------------+ | Environment | dpdk_meson_compile | dpdk_compile_ovs | dpdk_msvc_compile | dpdk_llvm_clang_compile | dpdk_mingw64_compile | +===============================+====================+==================+===================+=========================+======================+ | Ubuntu 20.04 | PASS | SKIPPED | SKIPPED | SKIPPED | SKIPPED | +-------------------------------+--------------------+------------------+-------------------+-------------------------+----------------------+ | FreeBSD 14.2 | PASS | SKIPPED | SKIPPED | SKIPPED | SKIPPED | +-------------------------------+--------------------+------------------+-------------------+-------------------------+----------------------+ | CentOS Stream 9 | PASS | SKIPPED | SKIPPED | SKIPPED | SKIPPED | +-------------------------------+--------------------+------------------+-------------------+-------------------------+----------------------+ | CentOS Stream 10 | PASS | SKIPPED | SKIPPED | SKIPPED | SKIPPED | +-------------------------------+--------------------+------------------+-------------------+-------------------------+----------------------+ | Debian GNU/Linux 12 | PASS | SKIPPED | SKIPPED | SKIPPED | SKIPPED | +-------------------------------+--------------------+------------------+-------------------+-------------------------+----------------------+ | Fedora Linux 42 | PASS | PASS | SKIPPED | SKIPPED | SKIPPED | +-------------------------------+--------------------+------------------+-------------------+-------------------------+----------------------+ | Red Hat Enterprise Linux 8.10 | PASS | SKIPPED | SKIPPED | SKIPPED | SKIPPED | +-------------------------------+--------------------+------------------+-------------------+-------------------------+----------------------+ | openSUSE Leap 15.6 | PASS | SKIPPED | SKIPPED | SKIPPED | SKIPPED | +-------------------------------+--------------------+------------------+-------------------+-------------------------+----------------------+ | Red Hat Enterprise Linux 9.5 | PASS | SKIPPED | SKIPPED | SKIPPED | SKIPPED | +-------------------------------+--------------------+------------------+-------------------+-------------------------+----------------------+ | Ubuntu 22.04 | PASS | SKIPPED | SKIPPED | SKIPPED | SKIPPED | +-------------------------------+--------------------+------------------+-------------------+-------------------------+----------------------+ | Ubuntu 24.04 | PASS | PASS | SKIPPED | SKIPPED | SKIPPED | +-------------------------------+--------------------+------------------+-------------------+-------------------------+----------------------+ | Alpine Linux 3.22.0 | PASS | SKIPPED | SKIPPED | SKIPPED | SKIPPED | +-------------------------------+--------------------+------------------+-------------------+-------------------------+----------------------+ | Windows Server 2022 | SKIPPED | SKIPPED | PASS | PASS | PASS | +-------------------------------+--------------------+------------------+-------------------+-------------------------+----------------------+ Ubuntu 20.04 Kernel: 4.19 Compiler: gcc gcc (Ubuntu 9.4.0-1ubuntu1~20.04.2) 9.4.0 FreeBSD 14.2 Kernel: 14.2-RELEASE Compiler: clang 18.1.6 CentOS Stream 9 Kernel: 5.15 Compiler: gcc gcc (GCC) 11.5.0 20240719 (Red Hat 11.5.0-11) CentOS Stream 10 Kernel: 5.15 Compiler: gcc gcc (GCC) 14.2.1 20250110 (Red Hat 14.2.1-8) Debian GNU/Linux 12 Kernel: 5.15 Compiler: gcc gcc (Debian 12.2.0-14+deb12u1) 12.2.0 Fedora Linux 42 Kernel: 5.15 Compiler: clang gcc (GCC) 15.2.1 20250808 (Red Hat 15.2.1-1) Red Hat Enterprise Linux 8.10 Kernel: 5.15 Compiler: gcc gcc (GCC) 8.5.0 20210514 (Red Hat 8.5.0-22) openSUSE Leap 15.6 Kernel: 5.15 Compiler: gcc gcc (SUSE Linux) 7.5.0 Red Hat Enterprise Linux 9.5 Kernel: 5.15 Compiler: gcc gcc (GCC) 11.5.0 20240719 (Red Hat 11.5.0-2) Ubuntu 22.04 Kernel: 5.15 Compiler: gcc gcc (Ubuntu 11.4.0-1ubuntu1~22.04) 11.4.0 Ubuntu 24.04 Kernel: 5.15 Compiler: gcc gcc (Ubuntu 13.3.0-6ubuntu2~24.04) 13.3.0 Alpine Linux 3.22.0 Kernel: 5.15 Compiler: gcc gcc (Alpine 14.2.0) 14.2.0 Windows Server 2022 Kernel: 10.0.20348.2031 Compiler: clang 15.0.7, gcc 14.1.0 (MinGW), and MSVC VS 19.39.33521 To view detailed results, visit: https://lab.dpdk.org/results/dashboard/patchsets/34534/ UNH-IOL DPDK Community Lab To manage your email subscriptions, visit: https://lab.dpdk.org/results/dashboard/preferences/subscriptions/