From mboxrd@z Thu Jan 1 00:00:00 1970 Return-Path: Received: from mails.dpdk.org (mails.dpdk.org [217.70.189.124]) by inbox.dpdk.org (Postfix) with ESMTP id EA8CE48AFA for ; Thu, 13 Nov 2025 15:27:07 +0100 (CET) Received: from mails.dpdk.org (localhost [127.0.0.1]) by mails.dpdk.org (Postfix) with ESMTP id D03C140151; Thu, 13 Nov 2025 15:27:07 +0100 (CET) Received: from mail-oo1-f97.google.com (mail-oo1-f97.google.com [209.85.161.97]) by mails.dpdk.org (Postfix) with ESMTP id A673240151 for ; Thu, 13 Nov 2025 15:27:06 +0100 (CET) Received: by mail-oo1-f97.google.com with SMTP id 006d021491bc7-656b8900ac1so506174eaf.0 for ; Thu, 13 Nov 2025 06:27:06 -0800 (PST) DKIM-Signature: v=1; a=rsa-sha256; c=relaxed/relaxed; d=iol.unh.edu; s=unh-iol; t=1763044026; x=1763648826; darn=dpdk.org; h=cc:to:from:subject:message-id:date:from:to:cc:subject:date :message-id:reply-to; bh=6Ok6Iw0GtWnMzZM3zwDcmB5o40ZGc/AAjrKzCHvSxHU=; b=FuN3qMoXfAxpto+naQB55252141ddQO8AcmacNEcdTcF9QeoV3ah3YMTEVXloXQjNj xa5Q7jT06q9sZuftM8Rn1WJYbVjjcdVSNFPOMCSCQH77KwpN7EDMdEzIIiitIyEvxvUJ mcV4TRvaoa+jiZPkosuX3NFJkO2g+tEqCGzXo= X-Google-DKIM-Signature: v=1; a=rsa-sha256; c=relaxed/relaxed; d=1e100.net; s=20230601; t=1763044026; x=1763648826; h=cc:to:from:subject:message-id:date:x-gm-gg:x-gm-message-state:from :to:cc:subject:date:message-id:reply-to; bh=6Ok6Iw0GtWnMzZM3zwDcmB5o40ZGc/AAjrKzCHvSxHU=; b=jkHTzTe5LOEDqAoYllZSsWhqzudm6AIm6vHBNkcVPr/6o4jSfT2v44TKimq9IBVb8A ZhrFYZYmeR2PWvMx0vA+WE3T+vSEdCYQcyrXc6wLu9KSoP1dRT6N4dReVh1vDx4DCSVU 55Z6ts58+3VtbTZBckX8IlMQQiJR6rfrTgBT7JlfsNrleZhKSAnknJ2hjdaJQowR+H4w KOrXSET24wS8Sq8cw5XCyoXcSk8807jQcHkpUKjf8mFyDf7t7Fc7lFkabOTM7MVTFH2D MQQTjGtpwBaPv/PwnYJg63jtgtFp1GTrZ+sHyBLVhLfIT5curV7I/wpbTrUXcfqHFjEP ijiw== X-Gm-Message-State: AOJu0Yx7LeKgbJk4GDWQzfLxtN85OBaB2VPMjEWuuVGEQno4DjIDmymk LBkY1NSmPtZzsC+ZrPRDnhfcVAOVZrryQo+csQ9DQDr9sj1q5WJ2rzPorRiKjW7W37rO4YtBVXQ xs2Dr5BX0eQ/EQdUsH/ErB2y4nvZhk57gVFtr X-Gm-Gg: ASbGncvYtD0myKgEVohALRdYbRjRKCPpN8tPAdpIoMv+46vNNyyNpxaBMaLMhlgBUw2 vQSs3PFDQnPWWIOB3q96rUqSnVqU4perfamHKztBJuJyEVIErOuHuJ3x/esoIGsUCej13VqlD2K n10e15t2z5WPAxgK21nRCb0Fn6rhs1bwkX21/boLzDPRY12UoHJ082ReowuVow9X54BggGLk1yU vZXbkZKgWlSexKWBb8OCZAbsRz5kMjOG+aB58FRAEPfRCs07QZSv65N/rRxAdLGazsf0Ak+LqrM +mxToreQsAfRDts/l01IzBNOaX0HRyZ32V+zM45zF6zYJ+c6pyI7Of6xBpFpI0V6R18hAT9jzBA 8qZoY+sdGN59fbTtbRsbhjDC0kjpnkfQ= X-Google-Smtp-Source: AGHT+IEHf05RUO91Xl+ilBIpEB8TPU08SSB6ozM0eYaosP+1E98eW2JPN4CBjyJcKVGxmNZvCUsZo14ZpIMP X-Received: by 2002:a4a:ec44:0:b0:656:9e05:31d4 with SMTP id 006d021491bc7-657161a85b2mr2792857eaf.2.1763044025887; Thu, 13 Nov 2025 06:27:05 -0800 (PST) Received: from postal.iol.unh.edu (postal.iol.unh.edu. [132.177.123.84]) by smtp-relay.gmail.com with ESMTPS id 006d021491bc7-65724e49a1csm28976eaf.10.2025.11.13.06.27.05 (version=TLS1_2 cipher=ECDHE-ECDSA-AES128-GCM-SHA256 bits=128/128); Thu, 13 Nov 2025 06:27:05 -0800 (PST) X-Relaying-Domain: iol.unh.edu Date: Thu, 13 Nov 2025 06:27:05 -0800 (PST) Message-ID: <6915eab9.050a0220.d9a08.1443SMTPIN_ADDED_MISSING@mx.google.com> Received: from [172.21.0.2] (unknown [172.18.0.240]) by postal.iol.unh.edu (Postfix) with ESMTP id 08C736051830; Thu, 13 Nov 2025 09:27:05 -0500 (EST) Subject: |SUCCESS| [GIT MASTER] 0bd935abcb823f581ce53986986aa54eaf6f8140 From: dpdklab@iol.unh.edu To: Test Report Cc: dpdk-test-reports@iol.unh.edu, Xueming Li , Christian Ehrhardt , Kevin Traynor , Luca Boccassi Content-Type: text/plain X-BeenThere: test-report@dpdk.org X-Mailman-Version: 2.1.29 Precedence: list List-Id: automatic DPDK test reports List-Unsubscribe: , List-Archive: List-Post: List-Help: List-Subscribe: , Errors-To: test-report-bounces@dpdk.org _Testing PASS_ Branch: tags/v24.11 0bd935abcb823f581ce53986986aa54eaf6f8140 --> testing pass Upstream job id: Generic-VM-Unit-Test-DPDK#32483 Test environment and result as below: +-------------------------------+----------------+ | Environment | dpdk_unit_test | +===============================+================+ | Fedora Linux 40 | PASS | +-------------------------------+----------------+ | Fedora Linux 41 | PASS | +-------------------------------+----------------+ | Debian GNU/Linux 12 | PASS | +-------------------------------+----------------+ | CentOS Stream 10 | PASS | +-------------------------------+----------------+ | CentOS Stream 9 | PASS | +-------------------------------+----------------+ | Red Hat Enterprise Linux 8.10 | PASS | +-------------------------------+----------------+ | Red Hat Enterprise Linux 9.5 | PASS | +-------------------------------+----------------+ | Ubuntu 24.04 | PASS | +-------------------------------+----------------+ | Fedora Linux 42 | PASS | +-------------------------------+----------------+ | Ubuntu 22.04 | PASS | +-------------------------------+----------------+ | Ubuntu 20.04 | PASS | +-------------------------------+----------------+ | Windows Server 2022 | PASS | +-------------------------------+----------------+ Fedora Linux 40 Kernel: 5.15 Compiler: gcc gcc (GCC) 14.2.1 20240912 (Red Hat 14.2.1-3) Fedora Linux 41 Kernel: 5.15 Compiler: gcc gcc (GCC) 14.3.1 20250523 (Red Hat 14.3.1-1) Debian GNU/Linux 12 Kernel: 5.15 Compiler: gcc gcc (Debian 12.2.0-14+deb12u1) 12.2.0 CentOS Stream 10 Kernel: 5.15 Compiler: gcc gcc (GCC) 14.2.1 20250110 (Red Hat 14.2.1-8) CentOS Stream 9 Kernel: 5.15 Compiler: gcc gcc (GCC) 11.5.0 20240719 (Red Hat 11.5.0-11) Red Hat Enterprise Linux 8.10 Kernel: 5.15 Compiler: gcc gcc (GCC) 8.5.0 20210514 (Red Hat 8.5.0-22) Red Hat Enterprise Linux 9.5 Kernel: 5.15 Compiler: gcc gcc (GCC) 11.5.0 20240719 (Red Hat 11.5.0-2) Ubuntu 24.04 Kernel: 5.15 Compiler: gcc gcc (Ubuntu 13.3.0-6ubuntu2~24.04) 13.3.0 Fedora Linux 42 Kernel: 5.15 Compiler: clang gcc (GCC) 15.2.1 20250808 (Red Hat 15.2.1-1) Ubuntu 22.04 Kernel: 5.15 Compiler: gcc gcc (Ubuntu 11.4.0-1ubuntu1~22.04) 11.4.0 Ubuntu 20.04 Kernel: 5.15 Compiler: gcc gcc (Ubuntu 9.4.0-1ubuntu1~20.04.2) 9.4.0 Windows Server 2022 Kernel: 10.0.20348.2031 Compiler: clang 15.0.7, gcc 14.1.0 (MinGW), and MSVC VS 19.39.33521 To view detailed results, visit: https://lab.dpdk.org/results/dashboard/tarballs/35551/ UNH-IOL DPDK Community Lab To manage your email subscriptions, visit: https://lab.dpdk.org/results/dashboard/preferences/subscriptions/