From mboxrd@z Thu Jan 1 00:00:00 1970 Return-Path: Received: from mails.dpdk.org (mails.dpdk.org [217.70.189.124]) by inbox.dpdk.org (Postfix) with ESMTP id EC9B948AFA for ; Thu, 13 Nov 2025 15:36:19 +0100 (CET) Received: from mails.dpdk.org (localhost [127.0.0.1]) by mails.dpdk.org (Postfix) with ESMTP id CE64940151; Thu, 13 Nov 2025 15:36:19 +0100 (CET) Received: from mail-qv1-f99.google.com (mail-qv1-f99.google.com [209.85.219.99]) by mails.dpdk.org (Postfix) with ESMTP id EBFF340151 for ; Thu, 13 Nov 2025 15:36:18 +0100 (CET) Received: by mail-qv1-f99.google.com with SMTP id 6a1803df08f44-880570bdef8so7814416d6.3 for ; Thu, 13 Nov 2025 06:36:18 -0800 (PST) DKIM-Signature: v=1; a=rsa-sha256; c=relaxed/relaxed; d=iol.unh.edu; s=unh-iol; t=1763044578; x=1763649378; darn=dpdk.org; h=cc:to:from:subject:message-id:date:from:to:cc:subject:date :message-id:reply-to; bh=BXzQq8My+bezrN1/BqpCTljb/V7cJ/qNSIzG6z2nPRo=; b=bpGLcFsF0GLp5OUqWfaRBiW18W4oGT+Y9tU9sd6QQ1IueS4jU6/KdSGlcX8vxojo8e gcXDz8pQatkY1hDlttxfWpqNvdgMggN3GkoYIaFMrrNgIrDsIVd16K1peibS4tJY2ddH /v8AK/2N48n7fDXalJni1CBRaOxa/0Rlz/ryI= X-Google-DKIM-Signature: v=1; a=rsa-sha256; c=relaxed/relaxed; d=1e100.net; s=20230601; t=1763044578; x=1763649378; h=cc:to:from:subject:message-id:date:x-gm-gg:x-gm-message-state:from :to:cc:subject:date:message-id:reply-to; bh=BXzQq8My+bezrN1/BqpCTljb/V7cJ/qNSIzG6z2nPRo=; b=S2DXOcwPW5u70BI2mSzXGQznWfjiSjNM5qYQtI9Aprr2u4NS/Lbzxav9a7SeHdHd1k +xcxJNwIXgTJmszCmUDwOk3EzCDHVKI98d25ts/CcqbjcoC3Ac+5bLQRw0zy3WFFBFLk d+KM1l0XGXQnIm5rRMSrSGEVe5B9yIpjP6d4AUTOj8LoUrcAsapaKXhsuSbIW+/GcYwi PPKF/mCSyz3bx2iVxtnEF6GatVl3NOMLmLgjIv7glvV1ZtcOAusQAkpbYKn1oKMZfEyc 8VY2rK557lWgDfEjIAst7y/JEkqTXeV20Plwhw2soRBee7E9PrytBCZJnAJ0agr30qf8 brHg== X-Gm-Message-State: AOJu0YwCRezjYmuKUDzuN7ioJYd21iya3C9KoJn8tAeg17higba7EV+g tRyi1xOQeFlOZpnImU55T2PrSr9GNT32CSJ68i9Cqig8q8N6+RW5BG0iEl63391K6mRexYOlUxo +6YXiT/LYl2GrqZec4ClzFXD+piMq7y1Zl7whJYvmU+DiV6mdp/MA X-Gm-Gg: ASbGncsM0E74O7B+PvESY9FYUUG9/gESL8d/lwtRDDCiJPBf2AbBUQ2PhP1+4KBSHxN YIDTIeJ+To+RBdTjAdd8iJpjQ+VYxzTOWFKVg2hT0zGfSUWeQsdLdzhcpysOMFmT5m2OMZTXUt7 /hDpNUzHt+B66Qs3pHBda4/1SptGbuEW/QHjT0OTUMfrKiLQ3R945E4eCzFCkwmjWMtpVvtw75O QiIOfDGvNGk/8o7aO1Sg5qR0tOyHMWhHZIWN08WkA2tC9ugOF6jUIZh1yjgmBFvyENmeL6mNgh6 Po9mhJYYTb7gYrOCBsL1D6TebRnCBYadhrXhWsWycDQCGdrVgAcSaOtNX1k/Ncq3h8oaqH5c/u9 tW0bwIkdB X-Google-Smtp-Source: AGHT+IE9AOj0zSTEb9KHHw4UCLLN4wC4nxD/Lxa4NEBdnempVtwJQHGJ2TElYShtIae4pVq3+MiA7W2JCLBe X-Received: by 2002:a05:6214:f63:b0:880:4695:4640 with SMTP id 6a1803df08f44-882719894f8mr111526606d6.28.1763044578137; Thu, 13 Nov 2025 06:36:18 -0800 (PST) Received: from postal.iol.unh.edu (postal.iol.unh.edu. [2606:4100:3880:1234::84]) by smtp-relay.gmail.com with ESMTPS id 6a1803df08f44-8828653a03dsm2417986d6.19.2025.11.13.06.36.18 (version=TLS1_2 cipher=ECDHE-ECDSA-AES128-GCM-SHA256 bits=128/128); Thu, 13 Nov 2025 06:36:18 -0800 (PST) X-Relaying-Domain: iol.unh.edu Date: Thu, 13 Nov 2025 06:36:18 -0800 (PST) Message-ID: <6915ece2.050a0220.1039c6.b954SMTPIN_ADDED_MISSING@mx.google.com> Received: from [172.21.0.2] (unknown [172.18.0.240]) by postal.iol.unh.edu (Postfix) with ESMTP id DC66A6051830; Thu, 13 Nov 2025 09:36:17 -0500 (EST) Subject: |SUCCESS| [GIT MASTER] 0bd935abcb823f581ce53986986aa54eaf6f8140 From: dpdklab@iol.unh.edu To: Test Report Cc: dpdk-test-reports@iol.unh.edu, Xueming Li , Christian Ehrhardt , Kevin Traynor , Luca Boccassi Content-Type: text/plain X-BeenThere: test-report@dpdk.org X-Mailman-Version: 2.1.29 Precedence: list List-Id: automatic DPDK test reports List-Unsubscribe: , List-Archive: List-Post: List-Help: List-Subscribe: , Errors-To: test-report-bounces@dpdk.org _Testing PASS_ Branch: tags/v24.11 0bd935abcb823f581ce53986986aa54eaf6f8140 --> testing pass Upstream job id: Generic-VM-Unit-Test-DPDK#32484 Test environment and result as below: +-------------------------------+----------------+ | Environment | dpdk_unit_test | +===============================+================+ | Fedora Linux 40 | PASS | +-------------------------------+----------------+ | Fedora Linux 41 | PASS | +-------------------------------+----------------+ | Debian GNU/Linux 12 | PASS | +-------------------------------+----------------+ | CentOS Stream 10 | PASS | +-------------------------------+----------------+ | CentOS Stream 9 | PASS | +-------------------------------+----------------+ | Red Hat Enterprise Linux 8.10 | PASS | +-------------------------------+----------------+ | Red Hat Enterprise Linux 9.5 | PASS | +-------------------------------+----------------+ | Ubuntu 24.04 | PASS | +-------------------------------+----------------+ | Fedora Linux 42 | PASS | +-------------------------------+----------------+ | Ubuntu 22.04 | PASS | +-------------------------------+----------------+ | Ubuntu 20.04 | PASS | +-------------------------------+----------------+ | Windows Server 2022 | PASS | +-------------------------------+----------------+ Fedora Linux 40 Kernel: 5.15 Compiler: gcc gcc (GCC) 14.2.1 20240912 (Red Hat 14.2.1-3) Fedora Linux 41 Kernel: 5.15 Compiler: gcc gcc (GCC) 14.3.1 20250523 (Red Hat 14.3.1-1) Debian GNU/Linux 12 Kernel: 5.15 Compiler: gcc gcc (Debian 12.2.0-14+deb12u1) 12.2.0 CentOS Stream 10 Kernel: 5.15 Compiler: gcc gcc (GCC) 14.2.1 20250110 (Red Hat 14.2.1-8) CentOS Stream 9 Kernel: 5.15 Compiler: gcc gcc (GCC) 11.5.0 20240719 (Red Hat 11.5.0-11) Red Hat Enterprise Linux 8.10 Kernel: 5.15 Compiler: gcc gcc (GCC) 8.5.0 20210514 (Red Hat 8.5.0-22) Red Hat Enterprise Linux 9.5 Kernel: 5.15 Compiler: gcc gcc (GCC) 11.5.0 20240719 (Red Hat 11.5.0-2) Ubuntu 24.04 Kernel: 5.15 Compiler: gcc gcc (Ubuntu 13.3.0-6ubuntu2~24.04) 13.3.0 Fedora Linux 42 Kernel: 5.15 Compiler: clang gcc (GCC) 15.2.1 20250808 (Red Hat 15.2.1-1) Ubuntu 22.04 Kernel: 5.15 Compiler: gcc gcc (Ubuntu 11.4.0-1ubuntu1~22.04) 11.4.0 Ubuntu 20.04 Kernel: 5.15 Compiler: gcc gcc (Ubuntu 9.4.0-1ubuntu1~20.04.2) 9.4.0 Windows Server 2022 Kernel: 10.0.20348.2031 Compiler: clang 15.0.7, gcc 14.1.0 (MinGW), and MSVC VS 19.39.33521 To view detailed results, visit: https://lab.dpdk.org/results/dashboard/tarballs/35551/ UNH-IOL DPDK Community Lab To manage your email subscriptions, visit: https://lab.dpdk.org/results/dashboard/preferences/subscriptions/