From mboxrd@z Thu Jan 1 00:00:00 1970 Return-Path: Received: from mails.dpdk.org (mails.dpdk.org [217.70.189.124]) by inbox.dpdk.org (Postfix) with ESMTP id 7977B48AFA for ; Thu, 13 Nov 2025 15:58:46 +0100 (CET) Received: from mails.dpdk.org (localhost [127.0.0.1]) by mails.dpdk.org (Postfix) with ESMTP id 6786D40151; Thu, 13 Nov 2025 15:58:46 +0100 (CET) Received: from mail-qt1-f228.google.com (mail-qt1-f228.google.com [209.85.160.228]) by mails.dpdk.org (Postfix) with ESMTP id 11B0740151 for ; Thu, 13 Nov 2025 15:58:45 +0100 (CET) Received: by mail-qt1-f228.google.com with SMTP id d75a77b69052e-4e89de04d62so7565381cf.0 for ; Thu, 13 Nov 2025 06:58:45 -0800 (PST) DKIM-Signature: v=1; a=rsa-sha256; c=relaxed/relaxed; d=iol.unh.edu; s=unh-iol; t=1763045924; x=1763650724; darn=dpdk.org; h=references:in-reply-to:cc:to:from:subject:message-id:date:from:to :cc:subject:date:message-id:reply-to; bh=ptPiWidB+sh7JvXs/1xcuKesuw1CognTi2/+fAtqzQE=; b=ZaFf5q9KdB5RkvryrbS0AAnIbMKdAise2TBVS2EMvpK6bsBz4t7QZ4dhoxqhUq+hX1 gSbQJEeLm1f7g2yamypXJgjAS5BTmr68Cbs0xOoPDf72eGVzbxeISi8R0IjXCkk59M0l Nm4cLDhqAkbEOslRJ14MVoC5nXmakE6dSlRYo= X-Google-DKIM-Signature: v=1; a=rsa-sha256; c=relaxed/relaxed; d=1e100.net; s=20230601; t=1763045924; x=1763650724; h=references:in-reply-to:cc:to:from:subject:message-id:date:x-gm-gg :x-gm-message-state:from:to:cc:subject:date:message-id:reply-to; bh=ptPiWidB+sh7JvXs/1xcuKesuw1CognTi2/+fAtqzQE=; b=ZezRxLqDF7NLvI0ncOuNPNL0KY3u7zyvXngYFvB2CKjd59cH2qgvEJnmL/fQW1hIRf zbq9lL52GwLDAbobstsjKngLa7YBwWqrMLo2DfGLYAuzBMSqqv048wEOAhNi+mg/iJkB AD5f+CQ5ym0BgEenpkJa8g6l+DmLe2z44F+XwiPJ2WGBRjMdNkvFVXISe5G0W5IX62M+ ujy9PlnCkaoyym/LmyCsj2frzJyRi5nscQdPupXHaVV53gKjprLpLjFv2Vc6CmzbPXsl nVaUnbqnMcJZq9/yaZo0mP1NhNKFMs1xIF4T2/9R9rEeixeE4XQsvmE1+AnaaqnFCT6R 9DhQ== X-Gm-Message-State: AOJu0YzyR86L3vbOojFRKpnsOL3mpsckMW2Z3acC96MkAJmaTL8d0D+S eHVlW5+S01K0sHJwYi4ynfsu8L7CgNSvReYz/YN4O1NjDxgk/zmoDu6feSfdlf2EQap3B40vI6j 76NfeenZVPjJe0VL5kHyIj6MHKtBhkelXN4PyItqC4NceBLe34NjUTzIaH43F X-Gm-Gg: ASbGncuTl/xdkD4Y4vGLZ/auoZqoC+Zx5EGE/DWRrMUWRsE5wQQ6ZL+lG4eO7xjxW74 aDQLBg7nUeIsmYdfJcSz3ATzYGoPCesdIsD43Fve5+rlgBBD8bdLA24QEHfcStdNfFlGqltCqZD NSe2CTAAWnee3dvsJhlxCC9FrMRctpgeNd3ZDor2/xbcRgUMZb36yL8zmMoGaWJgn60k5L0GXbP iIcGvxdGNjDGsso2v1Cyh3YKkHGnw3zzJZA0Au5moIH/C0LrvxQiLvw43HDuSrpNeM4tJynaXIs x2eqEc0+yeVjMc0j4W8aP5pztoG854rew/3aGgTK6u1+iFQwPQT51zaMd5pbTMiWm05U9EFthjR 0JgT0EyUI X-Google-Smtp-Source: AGHT+IHNpfGJYRmhjOejGmnvPJsnU4aePvptDMKtrOUozn5u2L8adY5EJ5u//KPsa9EVjw8xnqkVG1STPmdT X-Received: by 2002:ac8:5d0e:0:b0:4e8:9ad9:f3da with SMTP id d75a77b69052e-4eddbc9708dmr101312141cf.30.1763045924241; Thu, 13 Nov 2025 06:58:44 -0800 (PST) Received: from postal.iol.unh.edu (postal.iol.unh.edu. [2606:4100:3880:1234::84]) by smtp-relay.gmail.com with ESMTPS id 6a1803df08f44-88286572dd5sm2390886d6.25.2025.11.13.06.58.44 (version=TLS1_2 cipher=ECDHE-ECDSA-AES128-GCM-SHA256 bits=128/128); Thu, 13 Nov 2025 06:58:44 -0800 (PST) X-Relaying-Domain: iol.unh.edu Date: Thu, 13 Nov 2025 06:58:44 -0800 (PST) Message-ID: <6915f224.050a0220.21433e.b5e3SMTPIN_ADDED_MISSING@mx.google.com> Received: from [172.21.0.3] (unknown [172.18.0.240]) by postal.iol.unh.edu (Postfix) with ESMTP id D2AB26051830; Thu, 13 Nov 2025 09:58:43 -0500 (EST) Subject: |SUCCESS| pw158711-158712 [PATCH] [2/2] pdump: fix race in pdump dis From: dpdklab@iol.unh.edu To: Test Report Cc: dpdk-test-reports@iol.unh.edu In-Reply-To: <20251112200510.332651-2-stephen@networkplumber.org> References: <20251112200510.332651-2-stephen@networkplumber.org> Content-Type: text/plain X-BeenThere: test-report@dpdk.org X-Mailman-Version: 2.1.29 Precedence: list List-Id: automatic DPDK test reports List-Unsubscribe: , List-Archive: List-Post: List-Help: List-Subscribe: , Errors-To: test-report-bounces@dpdk.org Test-Label: iol-compile-arm64-testing Test-Status: SUCCESS http://dpdk.org/patch/158712 _Testing PASS_ Submitter: Stephen Hemminger Date: Wednesday, November 12 2025 20:05:10 DPDK git baseline: Repo:dpdk Branch: master CommitID:be0112878b4fc3a1b918370ed2fe615c52039d77 158711-158712 --> testing pass Upstream job id: Generic-DPDK-Compile-Meson#443605 Test environment and result as below: +------------------------------+--------------------+ | Environment | dpdk_meson_compile | +==============================+====================+ | Red Hat Enterprise Linux 9.5 | PASS | +------------------------------+--------------------+ | Ubuntu 20.04 | PASS | +------------------------------+--------------------+ | Fedora Linux 42 | PASS | +------------------------------+--------------------+ | Debian GNU/Linux 12 | PASS | +------------------------------+--------------------+ | Ubuntu 24.04 | PASS | +------------------------------+--------------------+ | CentOS Stream 9 | PASS | +------------------------------+--------------------+ | Ubuntu 22.04 | PASS | +------------------------------+--------------------+ | CentOS Stream 10 | PASS | +------------------------------+--------------------+ Red Hat Enterprise Linux 9.5 Kernel: 5.4 Compiler: gcc gcc (GCC) 11.5.0 20240719 (Red Hat 11.5.0-2) Ubuntu 20.04 Kernel: 5.15 Compiler: aarch64-linux-gnu-gcc gcc (Ubuntu 9.4.0-1ubuntu1~20.04.2) 9.4.0 Fedora Linux 42 Kernel: 5.4 Compiler: gcc gcc (GCC) 15.2.1 20250808 (Red Hat 15.2.1-1) Debian GNU/Linux 12 Kernel: 5.4 Compiler: gcc gcc (Debian 12.2.0-14+deb12u1) 12.2.0 Ubuntu 24.04 Kernel: 5.4 Compiler: gcc gcc (Ubuntu 13.3.0-6ubuntu2~24.04) 13.3.0 CentOS Stream 9 Kernel: 5.4 Compiler: gcc gcc (GCC) 11.5.0 20240719 (Red Hat 11.5.0-11) Ubuntu 22.04 Kernel: 5.4 Compiler: gcc gcc (Ubuntu 11.4.0-1ubuntu1~22.04) 11.4.0 CentOS Stream 10 Kernel: 5.4 Compiler: gcc gcc (GCC) 14.2.1 20250110 (Red Hat 14.2.1-8) To view detailed results, visit: https://lab.dpdk.org/results/dashboard/patchsets/34560/ UNH-IOL DPDK Community Lab To manage your email subscriptions, visit: https://lab.dpdk.org/results/dashboard/preferences/subscriptions/