From mboxrd@z Thu Jan 1 00:00:00 1970 Return-Path: Received: from mails.dpdk.org (mails.dpdk.org [217.70.189.124]) by inbox.dpdk.org (Postfix) with ESMTP id 94CA648AFA for ; Thu, 13 Nov 2025 15:59:36 +0100 (CET) Received: from mails.dpdk.org (localhost [127.0.0.1]) by mails.dpdk.org (Postfix) with ESMTP id 8E42240151; Thu, 13 Nov 2025 15:59:36 +0100 (CET) Received: from mail-qk1-f226.google.com (mail-qk1-f226.google.com [209.85.222.226]) by mails.dpdk.org (Postfix) with ESMTP id 08BCE40151 for ; Thu, 13 Nov 2025 15:59:36 +0100 (CET) Received: by mail-qk1-f226.google.com with SMTP id af79cd13be357-8b1e54aefc5so83733685a.1 for ; Thu, 13 Nov 2025 06:59:35 -0800 (PST) DKIM-Signature: v=1; a=rsa-sha256; c=relaxed/relaxed; d=iol.unh.edu; s=unh-iol; t=1763045975; x=1763650775; darn=dpdk.org; h=references:in-reply-to:cc:to:from:subject:message-id:date:from:to :cc:subject:date:message-id:reply-to; bh=Um7hc/diWK36kIJFNYEtmpkrV3QAMVMUJ8T6pYpgRt8=; b=Q6ggfg49KpgAUpQYfMJjoCxW8+HqaWN3xDDeAErCtn0l2OstT726VXN810vXc/j4jA gmQQK1qWcJPheKr0EhPx8HcnPxp/yb3ZheTL8Pbo+a5l+LhQpQAp/wAVeS+nqHO7DzKz dfE9R/x7H86zNS24VRlPzFW/8tdDYOwGEP128= X-Google-DKIM-Signature: v=1; a=rsa-sha256; c=relaxed/relaxed; d=1e100.net; s=20230601; t=1763045975; x=1763650775; h=references:in-reply-to:cc:to:from:subject:message-id:date:x-gm-gg :x-gm-message-state:from:to:cc:subject:date:message-id:reply-to; bh=Um7hc/diWK36kIJFNYEtmpkrV3QAMVMUJ8T6pYpgRt8=; b=DULTcv/ACXLXngbMALDP7UYQ7dFgQ7hABNYaYxJ0UOjARLpud+oekaEDscY6+roz3h tDNNkOp0Ad/wJQszn5TOjd7oMqmIoQP3zl5pY5VtjEcbAT1KtXjwY7MScYtnl6K6dB7i 4AU02Oup0Vdl6A3kV2WT8zEcOGIlDVVVcFpvkkZYxf1O8B/lstWphsr7QvZt2I17K+ma ZKUkIql1jWT5+TGNutWKcWI4DhBut88+5QoPR2Pw9CHn3lXCnOAw8i8w7ItXYWWGmdbA i3UyQa2Hx9RxUFT+1SCRvDYaKTkOklDuKjfWA14o9U78oHR+Y5wQmX3UppzJtkVJ2nb7 K0eQ== X-Gm-Message-State: AOJu0YxCm+g3SUoUSntkI6YgPsICRKTuTJDtMLms3rXtltco0qAj4uRi DzgV5Dg1zFKXu+b5GCexlFkt7YAaNk7lC83wSqJIOcygizS4HTMRAxCukqZ9zwjE0XBknlf1egk Kq3wxNNSZlb1/nXROYGFFQRIF2wyHdBuxVg70mAfhmYReI7habJOXvVGMiWcL X-Gm-Gg: ASbGncuaXkWHFHFsP+PscE8otwrrD3Tki3enLvzUXDlDUHZaciGCVG0ss00dkW3QMWH kEyxY+tFQOgyylKnAjZ0aehMQXYs/MXkzLRgNZF8HQcFR9yM9iMVe870JMrJjVHXhA8BpxtgRxs /B0fYshPnV/zebjQNlEgz9HzA3p7vkG7EXIj5W2oN3kXcKtn26tLNfXlIb6WBvSZcwoKQ5lebLE RurjBoZbXO8OSgoUaNLwXDENTzy0CddweH+Jh3BPLRItv5DSPpy7NEuVXC5RbuYxQm+VAlfaRMX kqSotePtzwZFzW9syJnLeyG0+D/SCHxksA1C7oP+Ij8gWZu7m6RPsmuDUqDFmEDUF0blFheBHcc SSwBKJnfd X-Google-Smtp-Source: AGHT+IFQSVQCcCAhWGMkMP1v1oxIQLz4m0lWWn6G6wIvlAPQIHCFi913hebyTu3x0EpMuXDbcIAweZFrcY7Y X-Received: by 2002:a05:620a:c18:b0:8b2:9d6a:fb35 with SMTP id af79cd13be357-8b29d6afdefmr629882485a.52.1763045975345; Thu, 13 Nov 2025 06:59:35 -0800 (PST) Received: from postal.iol.unh.edu (postal.iol.unh.edu. [2606:4100:3880:1234::84]) by smtp-relay.gmail.com with ESMTPS id af79cd13be357-8b2aef0ce51sm22536985a.5.2025.11.13.06.59.35 (version=TLS1_2 cipher=ECDHE-ECDSA-AES128-GCM-SHA256 bits=128/128); Thu, 13 Nov 2025 06:59:35 -0800 (PST) X-Relaying-Domain: iol.unh.edu Date: Thu, 13 Nov 2025 06:59:35 -0800 (PST) Message-ID: <6915f257.050a0220.3b1750.a863SMTPIN_ADDED_MISSING@mx.google.com> Received: from [172.21.0.2] (unknown [172.18.0.240]) by postal.iol.unh.edu (Postfix) with ESMTP id 1BD096051830; Thu, 13 Nov 2025 09:59:35 -0500 (EST) Subject: |SUCCESS| pw158706 [PATCH] net/mlx5: fix send to kernel resources re From: dpdklab@iol.unh.edu To: Test Report Cc: dpdk-test-reports@iol.unh.edu In-Reply-To: <20251112162440.425611-1-getelson@nvidia.com> References: <20251112162440.425611-1-getelson@nvidia.com> Content-Type: text/plain X-BeenThere: test-report@dpdk.org X-Mailman-Version: 2.1.29 Precedence: list List-Id: automatic DPDK test reports List-Unsubscribe: , List-Archive: List-Post: List-Help: List-Subscribe: , Errors-To: test-report-bounces@dpdk.org Test-Label: iol-compile-arm64-testing Test-Status: SUCCESS http://dpdk.org/patch/158706 _Testing PASS_ Submitter: Gregory Etelson Date: Wednesday, November 12 2025 16:24:40 DPDK git baseline: Repo:dpdk-next-net-mlx Branch: master CommitID:ae657d56b1f0ea979b3f611edf28d773efc2ddcf 158706 --> testing pass Upstream job id: Generic-DPDK-Compile-Meson#443557 Test environment and result as below: +------------------------------+--------------------+ | Environment | dpdk_meson_compile | +==============================+====================+ | Ubuntu 20.04 | PASS | +------------------------------+--------------------+ | Debian GNU/Linux 12 | PASS | +------------------------------+--------------------+ | Fedora Linux 42 | PASS | +------------------------------+--------------------+ | Ubuntu 22.04 | PASS | +------------------------------+--------------------+ | Ubuntu 24.04 | PASS | +------------------------------+--------------------+ | CentOS Stream 9 | PASS | +------------------------------+--------------------+ | CentOS Stream 10 | PASS | +------------------------------+--------------------+ | Red Hat Enterprise Linux 9.5 | PASS | +------------------------------+--------------------+ Ubuntu 20.04 Kernel: 5.15 Compiler: aarch64-linux-gnu-gcc gcc (Ubuntu 9.4.0-1ubuntu1~20.04.2) 9.4.0 Debian GNU/Linux 12 Kernel: 5.4 Compiler: gcc gcc (Debian 12.2.0-14+deb12u1) 12.2.0 Fedora Linux 42 Kernel: 5.4 Compiler: gcc gcc (GCC) 15.2.1 20250808 (Red Hat 15.2.1-1) Ubuntu 22.04 Kernel: 5.4 Compiler: gcc gcc (Ubuntu 11.4.0-1ubuntu1~22.04) 11.4.0 Ubuntu 24.04 Kernel: 5.4 Compiler: gcc gcc (Ubuntu 13.3.0-6ubuntu2~24.04) 13.3.0 CentOS Stream 9 Kernel: 5.4 Compiler: gcc gcc (GCC) 11.5.0 20240719 (Red Hat 11.5.0-11) CentOS Stream 10 Kernel: 5.4 Compiler: gcc gcc (GCC) 14.2.1 20250110 (Red Hat 14.2.1-8) Red Hat Enterprise Linux 9.5 Kernel: 5.4 Compiler: gcc gcc (GCC) 11.5.0 20240719 (Red Hat 11.5.0-2) To view detailed results, visit: https://lab.dpdk.org/results/dashboard/patchsets/34558/ UNH-IOL DPDK Community Lab To manage your email subscriptions, visit: https://lab.dpdk.org/results/dashboard/preferences/subscriptions/