From mboxrd@z Thu Jan 1 00:00:00 1970 Return-Path: Received: from mails.dpdk.org (mails.dpdk.org [217.70.189.124]) by inbox.dpdk.org (Postfix) with ESMTP id EE3B048AFB for ; Thu, 13 Nov 2025 16:03:06 +0100 (CET) Received: from mails.dpdk.org (localhost [127.0.0.1]) by mails.dpdk.org (Postfix) with ESMTP id EB32640151; Thu, 13 Nov 2025 16:03:06 +0100 (CET) Received: from mail-vs1-f97.google.com (mail-vs1-f97.google.com [209.85.217.97]) by mails.dpdk.org (Postfix) with ESMTP id D06B140151 for ; Thu, 13 Nov 2025 16:03:05 +0100 (CET) Received: by mail-vs1-f97.google.com with SMTP id ada2fe7eead31-5dbdb139b5bso793210137.2 for ; Thu, 13 Nov 2025 07:03:05 -0800 (PST) DKIM-Signature: v=1; a=rsa-sha256; c=relaxed/relaxed; d=iol.unh.edu; s=unh-iol; t=1763046185; x=1763650985; darn=dpdk.org; h=cc:to:from:subject:message-id:date:from:to:cc:subject:date :message-id:reply-to; bh=5uZPLA6uHuO8J5/t2s4q9TDChHnDP0PMdOgBgvCPVyM=; b=UDV12nPzD+BuqjoviOCFJf/XeDBv9IGi9CUs2loYRJwOIUeXXO3hy2YdUbbUuc/+Le bQYnfn8DCYJOuouwMXOizAUxTlE/QkEUfqAHriIT2Gzv6GA2F2eMCozt8hfUj+9ZYDxl hOXwBz4vOqrepJYqiFkZgAFxPRgSoEXBXUs6g= X-Google-DKIM-Signature: v=1; a=rsa-sha256; c=relaxed/relaxed; d=1e100.net; s=20230601; t=1763046185; x=1763650985; h=cc:to:from:subject:message-id:date:x-gm-gg:x-gm-message-state:from :to:cc:subject:date:message-id:reply-to; bh=5uZPLA6uHuO8J5/t2s4q9TDChHnDP0PMdOgBgvCPVyM=; b=P+uILWLLahJM5xcpkbo2ZccGgE0VWZmDUjQpUMItcT7WcdFP15aREwLo1SLKqpSmwu kcfkZckdilzsBQsOkLj8cb/7kYTnTonVEEWw5p3CJYpqkZbiJITevg4blBF/j2sdgkm5 JDYLEL70+um4sEfTcj7i3sh5UFG8T+jZEHrTNSde25zYJ9nm5aiqwTzwJ0l6w9Q+YzTa wZ3SSXM8cB1cVqJRQwMqk+F5gvR3yXLmQjUIYdjfxmLTQbQfnyVmegzE5oMmhxtJ43sq jYd67mmoHwHt9aZntuq+rbdnYuhzPmqXa7rWittlRPjKF+O2r26Tkr4+7W9ac4u/b5p0 baGQ== X-Gm-Message-State: AOJu0Yzvn9jq5tqJpvL1WdsjEqOYIpEytoRLtyQ/x9CzAILx3PWDkcEl Nqg0Ew6JWi9JBYeNJF72jIsUQYIjS7t905aD3Po0TtTfmbM9aW1WXYtY9/yKQpqV8hMK54VqzhT IiK/S3dhTV/71YcyubyekpVLOjOLvJs1SEOUOZHBP1gkMG+3R455F X-Gm-Gg: ASbGnctmipmxdMdU6lDqfe05RsXlFih22BnJrekgwdT1GPKvRqVAW1xDTBpOn8GOP1J A76PP38nltOATWutlxXUpBp+uP+5ZEzCt527zX+TUFf7SDdsD6JmvcIhy/0CYat+C3aamMcQod7 oflaQ4PaxpmlR6+QAlMrvxpzyXsxKh9n1BdmW6TyF5ZTYPBDKaSF4N9mG21CUsNQwMYKFhbmWUg 58qfKTLZO+rBorgTavCUJqslGFOOnxRBcHHIo0wxmp5MtJRgKOTa1IvnXw6LT7MyISvdAzri8OR DlbQhN1AanoPCbH5NFwW6DmY6ZxQ95hFMAX9I+HR9wSYl8HfHBJaINU2YO4mKRf+e9Cu9NDPpVw ozYeIM5Nc X-Google-Smtp-Source: AGHT+IGMbJ+dJ9E7rX2SfSOr1MzfAhXRMGyK3pthdztv0F/PV1Sb9qtGj+kvf+q6bmBolEk+PW6NkF4ujoER X-Received: by 2002:a05:6102:d89:b0:5db:cf38:f506 with SMTP id ada2fe7eead31-5de07e16230mr2580200137.23.1763046165552; Thu, 13 Nov 2025 07:02:45 -0800 (PST) Received: from postal.iol.unh.edu (postal.iol.unh.edu. [2606:4100:3880:1234::84]) by smtp-relay.gmail.com with ESMTPS id ada2fe7eead31-5dfb708456dsm216913137.2.2025.11.13.07.02.45 (version=TLS1_2 cipher=ECDHE-ECDSA-AES128-GCM-SHA256 bits=128/128); Thu, 13 Nov 2025 07:02:45 -0800 (PST) X-Relaying-Domain: iol.unh.edu Date: Thu, 13 Nov 2025 07:02:45 -0800 (PST) Message-ID: <6915f315.050a0220.2a416b.a431SMTPIN_ADDED_MISSING@mx.google.com> Received: from [172.21.0.2] (unknown [172.18.0.240]) by postal.iol.unh.edu (Postfix) with ESMTP id 37BB96051830; Thu, 13 Nov 2025 10:02:45 -0500 (EST) Subject: |SUCCESS| [GIT MASTER] 9784db2c5af1eecd02fc21132b59b5b266039b87 From: dpdklab@iol.unh.edu To: Test Report Cc: dpdk-test-reports@iol.unh.edu, Xueming Li , Christian Ehrhardt , Kevin Traynor , Luca Boccassi Content-Type: text/plain X-BeenThere: test-report@dpdk.org X-Mailman-Version: 2.1.29 Precedence: list List-Id: automatic DPDK test reports List-Unsubscribe: , List-Archive: List-Post: List-Help: List-Subscribe: , Errors-To: test-report-bounces@dpdk.org _Testing PASS_ Branch: tags/v22.11 9784db2c5af1eecd02fc21132b59b5b266039b87 --> testing pass Upstream job id: Generic-DPDK-Compile-Meson#443625 Test environment and result as below: +------------------------------+--------------------+ | Environment | dpdk_meson_compile | +==============================+====================+ | Red Hat Enterprise Linux 9.5 | PASS | +------------------------------+--------------------+ | Ubuntu 20.04 | PASS | +------------------------------+--------------------+ | Debian GNU/Linux 12 | PASS | +------------------------------+--------------------+ | Fedora Linux 42 | PASS | +------------------------------+--------------------+ | Ubuntu 22.04 | PASS | +------------------------------+--------------------+ | Ubuntu 24.04 | PASS | +------------------------------+--------------------+ | CentOS Stream 9 | PASS | +------------------------------+--------------------+ | CentOS Stream 10 | PASS | +------------------------------+--------------------+ Red Hat Enterprise Linux 9.5 Kernel: 5.4 Compiler: gcc gcc (GCC) 11.5.0 20240719 (Red Hat 11.5.0-2) Ubuntu 20.04 Kernel: 5.15 Compiler: aarch64-linux-gnu-gcc gcc (Ubuntu 9.4.0-1ubuntu1~20.04.2) 9.4.0 Debian GNU/Linux 12 Kernel: 5.4 Compiler: gcc gcc (Debian 12.2.0-14+deb12u1) 12.2.0 Fedora Linux 42 Kernel: 5.4 Compiler: gcc gcc (GCC) 15.2.1 20250808 (Red Hat 15.2.1-1) Ubuntu 22.04 Kernel: 5.4 Compiler: gcc gcc (Ubuntu 11.4.0-1ubuntu1~22.04) 11.4.0 Ubuntu 24.04 Kernel: 5.4 Compiler: gcc gcc (Ubuntu 13.3.0-6ubuntu2~24.04) 13.3.0 CentOS Stream 9 Kernel: 5.4 Compiler: gcc gcc (GCC) 11.5.0 20240719 (Red Hat 11.5.0-11) CentOS Stream 10 Kernel: 5.4 Compiler: gcc gcc (GCC) 14.2.1 20250110 (Red Hat 14.2.1-8) To view detailed results, visit: https://lab.dpdk.org/results/dashboard/tarballs/35563/ UNH-IOL DPDK Community Lab To manage your email subscriptions, visit: https://lab.dpdk.org/results/dashboard/preferences/subscriptions/