From mboxrd@z Thu Jan 1 00:00:00 1970 Return-Path: Received: from mails.dpdk.org (mails.dpdk.org [217.70.189.124]) by inbox.dpdk.org (Postfix) with ESMTP id 055E348AFB for ; Thu, 13 Nov 2025 16:02:58 +0100 (CET) Received: from mails.dpdk.org (localhost [127.0.0.1]) by mails.dpdk.org (Postfix) with ESMTP id E114B40151; Thu, 13 Nov 2025 16:02:57 +0100 (CET) Received: from mail-il1-f228.google.com (mail-il1-f228.google.com [209.85.166.228]) by mails.dpdk.org (Postfix) with ESMTP id 9E44140151 for ; Thu, 13 Nov 2025 16:02:56 +0100 (CET) Received: by mail-il1-f228.google.com with SMTP id e9e14a558f8ab-43326c74911so5532725ab.2 for ; Thu, 13 Nov 2025 07:02:56 -0800 (PST) DKIM-Signature: v=1; a=rsa-sha256; c=relaxed/relaxed; d=iol.unh.edu; s=unh-iol; t=1763046176; x=1763650976; darn=dpdk.org; h=cc:to:from:subject:message-id:date:from:to:cc:subject:date :message-id:reply-to; bh=gHVLtZ5oCPkt0U8Vh/uzFTglmi+D9VTqYAam/1kmccI=; b=JqrI9Q+TneymjqYDXSu5mrJSimz1cZpeRnpZS1QrUlRUGI9DqZQCICipvayFvcCMCG ukOeA5HBFpmFmwLeJKwZQfqGsp9gaQ/f5iVdQjjoemtbm5Rd2P60lpwabV8oPdeX1O85 jK485KuoBqQzh/5BQc8lpmCl9cNuB5hm4n6mQ= X-Google-DKIM-Signature: v=1; a=rsa-sha256; c=relaxed/relaxed; d=1e100.net; s=20230601; t=1763046176; x=1763650976; h=cc:to:from:subject:message-id:date:x-gm-gg:x-gm-message-state:from :to:cc:subject:date:message-id:reply-to; bh=gHVLtZ5oCPkt0U8Vh/uzFTglmi+D9VTqYAam/1kmccI=; b=lrNPE045HQaQrIv2aTga2OArU6fYA5/L8vMqn5sK2vm2s2RrtOH8qo2sObQN3LywnB j+Wjd8kGzxWwqfAxjFBhR8JAR12P+icStHGUPtXqYE1/r+k1bEmM4DDCa94MiHObUzJK voKGWV6wDBQP4L/cOC13xmQjkpfwE046RG6uNsAxPVi1fEamDsB1gkbpZgIWFLSHmcdI Ua1TMJLguy7LTDXbvfjZNx/yAj3p/u2wrM9tJTRpV2QBt+k3C6mab/dM47w0iZNc4wl6 XJgSwwu3UwkGgy/CoyiUYMh3LURUklZ3qgi+WBYvRIhROFWkD8gJZvN57k+Jr8Uc9YXw eUKQ== X-Gm-Message-State: AOJu0YxABRON0VuvbWX8gKH5ZFZ42GDsb+tCdmz2egdpSP9qvNCMXv6M 4YDm0xx6aslSmDdhXAY2bLYW16sRvaZIJJmvvt5i6PMB3jfqzIFsG+roPg+fonU7Cg4XJ+eiS+5 uTxpTU43NzWj6sl2LeP7REinBSO2p69C4cgLn8wwGz6LyYTBzyrdm X-Gm-Gg: ASbGncscU0+ZXhytx66DkZOIDgNS3ABAhmtV6UQBfPyiKIgMGQkSy4W3JqffatKDn6D tcxcOQIfu4WjwtV9OuWI9Ioa8MOAYYa5GALUmbeliCemio7l5DShw8y9tN+iSnMXAfG2NS6Jpkx WwsNe/cr8OfmrqcFMKeBvk4J5I/loVH40NfA3mXxIyRhkI/HggohNqopvf+yAN7PtGC46IN0slm o0guKf+COo0ww7jyT1R6oQFQlePiy1gnrKOPoCn6lIJZqV1MjA/Zm+sWYXgpO1mZh7uwtxMolc7 r0p3+Jy7sW4sBiuHJ4INsgAIEX8AisFN14stgU2k2jZoS4OjrtVNsCciX53ns/b+H0MBVTLB0U7 sxYDm4AaO X-Google-Smtp-Source: AGHT+IGU+/5ekJhFApLe0SO6QeM+0sM+x5evB6YUk82jJ2X1nX94ktFJnsqLRcxIsvBTivRWCWxt8mujbEyW X-Received: by 2002:a05:6e02:2684:b0:434:6ef2:a43d with SMTP id e9e14a558f8ab-43473da4861mr77344145ab.19.1763046175768; Thu, 13 Nov 2025 07:02:55 -0800 (PST) Received: from postal.iol.unh.edu (postal.iol.unh.edu. [2606:4100:3880:1234::84]) by smtp-relay.gmail.com with ESMTPS id 8926c6da1cb9f-5b7bd27fb22sm188757173.18.2025.11.13.07.02.55 (version=TLS1_2 cipher=ECDHE-ECDSA-AES128-GCM-SHA256 bits=128/128); Thu, 13 Nov 2025 07:02:55 -0800 (PST) X-Relaying-Domain: iol.unh.edu Date: Thu, 13 Nov 2025 07:02:55 -0800 (PST) Message-ID: <6915f31f.050a0220.142f44.8ee1SMTPIN_ADDED_MISSING@mx.google.com> Received: from [172.21.0.2] (unknown [172.18.0.240]) by postal.iol.unh.edu (Postfix) with ESMTP id 3FA2E6051830; Thu, 13 Nov 2025 10:02:55 -0500 (EST) Subject: |SUCCESS| [GIT MASTER] 9784db2c5af1eecd02fc21132b59b5b266039b87 From: dpdklab@iol.unh.edu To: Test Report Cc: dpdk-test-reports@iol.unh.edu, Xueming Li , Christian Ehrhardt , Kevin Traynor , Luca Boccassi Content-Type: text/plain X-BeenThere: test-report@dpdk.org X-Mailman-Version: 2.1.29 Precedence: list List-Id: automatic DPDK test reports List-Unsubscribe: , List-Archive: List-Post: List-Help: List-Subscribe: , Errors-To: test-report-bounces@dpdk.org _Testing PASS_ Branch: tags/v22.11 9784db2c5af1eecd02fc21132b59b5b266039b87 --> testing pass Upstream job id: Generic-DPDK-Compile-Meson#443631 Test environment and result as below: +------------------------------+--------------------+ | Environment | dpdk_meson_compile | +==============================+====================+ | Red Hat Enterprise Linux 9.5 | PASS | +------------------------------+--------------------+ | Ubuntu 20.04 | PASS | +------------------------------+--------------------+ | Debian GNU/Linux 12 | PASS | +------------------------------+--------------------+ | Fedora Linux 42 | PASS | +------------------------------+--------------------+ | Ubuntu 22.04 | PASS | +------------------------------+--------------------+ | Ubuntu 24.04 | PASS | +------------------------------+--------------------+ | CentOS Stream 9 | PASS | +------------------------------+--------------------+ | CentOS Stream 10 | PASS | +------------------------------+--------------------+ Red Hat Enterprise Linux 9.5 Kernel: 5.4 Compiler: gcc gcc (GCC) 11.5.0 20240719 (Red Hat 11.5.0-2) Ubuntu 20.04 Kernel: 5.15 Compiler: aarch64-linux-gnu-gcc gcc (Ubuntu 9.4.0-1ubuntu1~20.04.2) 9.4.0 Debian GNU/Linux 12 Kernel: 5.4 Compiler: gcc gcc (Debian 12.2.0-14+deb12u1) 12.2.0 Fedora Linux 42 Kernel: 5.4 Compiler: gcc gcc (GCC) 15.2.1 20250808 (Red Hat 15.2.1-1) Ubuntu 22.04 Kernel: 5.4 Compiler: gcc gcc (Ubuntu 11.4.0-1ubuntu1~22.04) 11.4.0 Ubuntu 24.04 Kernel: 5.4 Compiler: gcc gcc (Ubuntu 13.3.0-6ubuntu2~24.04) 13.3.0 CentOS Stream 9 Kernel: 5.4 Compiler: gcc gcc (GCC) 11.5.0 20240719 (Red Hat 11.5.0-11) CentOS Stream 10 Kernel: 5.4 Compiler: gcc gcc (GCC) 14.2.1 20250110 (Red Hat 14.2.1-8) To view detailed results, visit: https://lab.dpdk.org/results/dashboard/tarballs/35563/ UNH-IOL DPDK Community Lab To manage your email subscriptions, visit: https://lab.dpdk.org/results/dashboard/preferences/subscriptions/