From mboxrd@z Thu Jan 1 00:00:00 1970 Return-Path: Received: from mails.dpdk.org (mails.dpdk.org [217.70.189.124]) by inbox.dpdk.org (Postfix) with ESMTP id 1B2BD48AFB for ; Thu, 13 Nov 2025 16:04:02 +0100 (CET) Received: from mails.dpdk.org (localhost [127.0.0.1]) by mails.dpdk.org (Postfix) with ESMTP id 16E4F40151; Thu, 13 Nov 2025 16:04:02 +0100 (CET) Received: from mail-pl1-f228.google.com (mail-pl1-f228.google.com [209.85.214.228]) by mails.dpdk.org (Postfix) with ESMTP id 52C9340151 for ; Thu, 13 Nov 2025 16:04:01 +0100 (CET) Received: by mail-pl1-f228.google.com with SMTP id d9443c01a7336-29853ec5b8cso9441765ad.3 for ; Thu, 13 Nov 2025 07:04:01 -0800 (PST) DKIM-Signature: v=1; a=rsa-sha256; c=relaxed/relaxed; d=iol.unh.edu; s=unh-iol; t=1763046240; x=1763651040; darn=dpdk.org; h=references:in-reply-to:cc:to:from:subject:message-id:date:from:to :cc:subject:date:message-id:reply-to; bh=dF2YCU43t2eWgz2QFI3F0MQ/ihVrSH5SFErNh2pX0Pc=; b=BNXqP+2DxxyHW5l5v+IspvVwL+uxuNLI7FXPxEdWRiCuwKJU7l3j2/vdwrUp4AyNAV T6pVIziT3kDori/W9yCoxUsdy6uHSytc9vFtQP6wct3+VxwlLeQW/7LWOKgG6ba+kMrV Pypr8+bn3ufc9uUn/+ZloSAPBKwPxCNdSY1Sk= X-Google-DKIM-Signature: v=1; a=rsa-sha256; c=relaxed/relaxed; d=1e100.net; s=20230601; t=1763046240; x=1763651040; h=references:in-reply-to:cc:to:from:subject:message-id:date:x-gm-gg :x-gm-message-state:from:to:cc:subject:date:message-id:reply-to; bh=dF2YCU43t2eWgz2QFI3F0MQ/ihVrSH5SFErNh2pX0Pc=; b=BIUJ0VyaR3gjPP+tah1qaxHCusmWseAkYC+hZYCM8U99qC2EqYscCetnoxR08bjDXN lIZb66Y66g3TWbnDgSzk/GTss+IayuMpl8w2KFNZElMd/LHxpHDdWRkS7FeqgShiBv25 WGaUj3ixs4vhF2qFkW1mP+LSXplxtVijqRA0OAM5LefPcPm8dbVrugjGKiSrpTN1z1Vc CBwu3GCAzHimww1hydkUc7wJ8VvUKX/nS6GkxD/UI2lLMqhrw+00rvz+hEXLLLYe5+92 1jQR+YwyCWDpEZ0qrxQe4EJZpESwqWtxzwlVax7TKrlXB7PIBoa9j1unBWPZ/X1p/Acu tZ0g== X-Gm-Message-State: AOJu0YzAlSpE5hCPu87PxVV2LXLZFzIsDm5vQs5m0G+xKPDEH80ic/ER 8z3dsjRLC9oIivVkSJ3iVgo/kdz5ShPgwVytj/LWUhSUWWbkzbclqnmD3cCN0MSh9oROYtMuxE4 FZD6ONEJnfXtthhEi9dy6pFRxy5bTVVxtIZ3r1HYkPlUD X-Gm-Gg: ASbGncuNCnmQM17dqynO1QiK4XcUXgfyW4H3KeE0oXa+5chuOCmlip75HnHTkZKyJ6w TkKGLUmdf1uV3PCk+pKh6wNTRPfZcfE5jK6w830CVNPES3bew5gXy3son+bucA/BBxoy7QZa68B 3V7Ebpctl5bL85oHwd5BDECzFpUv4gbYFRZZcUSjVx1LQ83hI5cfpdGpE3WOn7gQfALPWK/+Ac6 i624Crecgy9TgAZVg8oGwH30TlEwmXeVlIZ0QmQdxh0gqbTKiprYV+NgBFTvaunZrDwp9dbxgqn uaiLWXruJ9zPOhZ8nDdcSdOFFepuvzrkosGRuJkOpmFuYYC4mLsMztu+Izd7FP8LhTCzSegQGuI dApYZvoFkOlIYmqo6ShzayRzVwS93HAI= X-Google-Smtp-Source: AGHT+IEfrKLiOZbSs153tY+RIMKq0m30xZNLHXL14yXpAZqrh8A6u9un6/jZ4w3B/fp3DjWcgTC4cFcGTfID X-Received: by 2002:a17:903:1b30:b0:295:3eb5:6de1 with SMTP id d9443c01a7336-2984edc8db5mr83745595ad.34.1763046240162; Thu, 13 Nov 2025 07:04:00 -0800 (PST) Received: from postal.iol.unh.edu (postal.iol.unh.edu. [132.177.123.84]) by smtp-relay.gmail.com with ESMTPS id d9443c01a7336-2985ff821c1sm1525525ad.62.2025.11.13.07.04.00 (version=TLS1_2 cipher=ECDHE-ECDSA-AES128-GCM-SHA256 bits=128/128); Thu, 13 Nov 2025 07:04:00 -0800 (PST) X-Relaying-Domain: iol.unh.edu Date: Thu, 13 Nov 2025 07:04:00 -0800 (PST) Message-ID: <6915f360.170a0220.24ea6f.6ec3SMTPIN_ADDED_MISSING@mx.google.com> Received: from [172.21.0.2] (unknown [172.18.0.240]) by postal.iol.unh.edu (Postfix) with ESMTP id 900F96051830; Thu, 13 Nov 2025 10:03:59 -0500 (EST) Subject: |SUCCESS| pw158713-158715 [PATCH] [v7,3/3] dts: add performance test From: dpdklab@iol.unh.edu To: Test Report Cc: dpdk-test-reports@iol.unh.edu In-Reply-To: <20251113012732.1059669-4-probb@iol.unh.edu> References: <20251113012732.1059669-4-probb@iol.unh.edu> Content-Type: text/plain X-BeenThere: test-report@dpdk.org X-Mailman-Version: 2.1.29 Precedence: list List-Id: automatic DPDK test reports List-Unsubscribe: , List-Archive: List-Post: List-Help: List-Subscribe: , Errors-To: test-report-bounces@dpdk.org Test-Label: iol-compile-arm64-testing Test-Status: SUCCESS http://dpdk.org/patch/158715 _Testing PASS_ Submitter: Patrick Robb Date: Thursday, November 13 2025 01:27:32 DPDK git baseline: Repo:dpdk-next-dts Branch: master CommitID:8dcc93a520b22330e0ad59d360a4594b854f9ddd 158713-158715 --> testing pass Upstream job id: Generic-DPDK-Compile-Meson#443700 Test environment and result as below: +------------------------------+--------------------+ | Environment | dpdk_meson_compile | +==============================+====================+ | Red Hat Enterprise Linux 9.5 | PASS | +------------------------------+--------------------+ | Ubuntu 20.04 | PASS | +------------------------------+--------------------+ | Debian GNU/Linux 12 | PASS | +------------------------------+--------------------+ | Fedora Linux 42 | PASS | +------------------------------+--------------------+ | Ubuntu 22.04 | PASS | +------------------------------+--------------------+ | Ubuntu 24.04 | PASS | +------------------------------+--------------------+ | CentOS Stream 9 | PASS | +------------------------------+--------------------+ | CentOS Stream 10 | PASS | +------------------------------+--------------------+ Red Hat Enterprise Linux 9.5 Kernel: 5.4 Compiler: gcc gcc (GCC) 11.5.0 20240719 (Red Hat 11.5.0-2) Ubuntu 20.04 Kernel: 5.15 Compiler: aarch64-linux-gnu-gcc gcc (Ubuntu 9.4.0-1ubuntu1~20.04.2) 9.4.0 Debian GNU/Linux 12 Kernel: 5.4 Compiler: gcc gcc (Debian 12.2.0-14+deb12u1) 12.2.0 Fedora Linux 42 Kernel: 5.4 Compiler: gcc gcc (GCC) 15.2.1 20250808 (Red Hat 15.2.1-1) Ubuntu 22.04 Kernel: 5.4 Compiler: gcc gcc (Ubuntu 11.4.0-1ubuntu1~22.04) 11.4.0 Ubuntu 24.04 Kernel: 5.4 Compiler: gcc gcc (Ubuntu 13.3.0-6ubuntu2~24.04) 13.3.0 CentOS Stream 9 Kernel: 5.4 Compiler: gcc gcc (GCC) 11.5.0 20240719 (Red Hat 11.5.0-11) CentOS Stream 10 Kernel: 5.4 Compiler: gcc gcc (GCC) 14.2.1 20250110 (Red Hat 14.2.1-8) To view detailed results, visit: https://lab.dpdk.org/results/dashboard/patchsets/34561/ UNH-IOL DPDK Community Lab To manage your email subscriptions, visit: https://lab.dpdk.org/results/dashboard/preferences/subscriptions/