From mboxrd@z Thu Jan 1 00:00:00 1970 Return-Path: Received: from mails.dpdk.org (mails.dpdk.org [217.70.189.124]) by inbox.dpdk.org (Postfix) with ESMTP id 70E4348AFB for ; Thu, 13 Nov 2025 16:07:08 +0100 (CET) Received: from mails.dpdk.org (localhost [127.0.0.1]) by mails.dpdk.org (Postfix) with ESMTP id 5518540151; Thu, 13 Nov 2025 16:07:08 +0100 (CET) Received: from mail-pl1-f227.google.com (mail-pl1-f227.google.com [209.85.214.227]) by mails.dpdk.org (Postfix) with ESMTP id 9722440151 for ; Thu, 13 Nov 2025 16:07:07 +0100 (CET) Received: by mail-pl1-f227.google.com with SMTP id d9443c01a7336-297dc3e299bso9350425ad.1 for ; Thu, 13 Nov 2025 07:07:07 -0800 (PST) DKIM-Signature: v=1; a=rsa-sha256; c=relaxed/relaxed; d=iol.unh.edu; s=unh-iol; t=1763046427; x=1763651227; darn=dpdk.org; h=references:in-reply-to:cc:to:from:subject:message-id:date:from:to :cc:subject:date:message-id:reply-to; bh=Q0+SLZAlG6mUGmhGIaHYqm627e5XMaJuhCecyyZaMS8=; b=JT8KDOUCxgQaf2FqEk9BLaJW676h9M9eU+JTj4RfyLU5E5J1/nxcVI/DABI8wuBTK7 N1wsEEQo91j2JJ1gdkaKIf9t2cjsZ04Col9Rv1nGB55FezDPx086ExeVvJOS1YNaNcfg CO2ZWzocYxkYq4xdn9OTpU9wSmhofUNFZXfTQ= X-Google-DKIM-Signature: v=1; a=rsa-sha256; c=relaxed/relaxed; d=1e100.net; s=20230601; t=1763046427; x=1763651227; h=references:in-reply-to:cc:to:from:subject:message-id:date:x-gm-gg :x-gm-message-state:from:to:cc:subject:date:message-id:reply-to; bh=Q0+SLZAlG6mUGmhGIaHYqm627e5XMaJuhCecyyZaMS8=; b=C7xZVIGxGA5nIeCilHeayAxtr9aO+us2ntsSDtVqwEaoE4VHXWOTj/uS+VjFgj85AR E8/d5jTPih77rvJCVGNv25Q62L4N5EK1L4WOTK7aeMfLZ4y1XMj/zBD/qDA+Bim8MuNP oE4V7zfJXFyGSiOr0Q3HgxTgGirmcx2GyZRcXB4dAtk4XJglCOUEIQaz2pxr35XvYriw ryS96boVmbb8sedJSYccx7zOSVC6QdyhO5szDiY0BsF43pFhPua9A1XyjTpoqKwyI5Kg Dkgf1wjLR4ENSkkBH5m3XG7UZPHzYXRjiKVFFVQun1ZbkKPWpPfk32ZNpV8K4z8s48dX tnpQ== X-Gm-Message-State: AOJu0YyVPo+fVsqZ7K9NSDgs+VPtEt/rNIAXuNgquH/CaZOtX1ESuG67 iBfO34InMRGQm6V8NIbnXnTgm+XSIXdz3Di14OwwywjgUE4hBx82ve76aUejaitQ/vXWV3GBFaa /K9em4hKFhJ8rSw9EOjt8l1/xpWX0Jxl+30rLkYlRaXhR X-Gm-Gg: ASbGncvGdnzMdMHTuaVBLG6zQ4GTy7bCH9xX0VhO02w7ipNna++76A6u7i+33hw+KcL md1oKT+TeDQEm3TnQ2i2DVCaoVN5OJeAcFum8dYd6RsxPV0Y2uvYFGqzZzsEY7Jgc50S7dMxJJn YP51Oy0DSy05zilYhHfUcUGFIzJYEsZSNxc8HP/V/de91/anfbEbx0/+R6pixPi5Y70MdhtMY+p vVg6ma3rhseY8eezg0K6pUaWqatEOluREBNcItcGG6MyN+H6hcUbAYdZruwCfzNLuvdMt31mN+O Jig4ZevImK696PnVrtb8WZWBVLEVHszUbv6RxxUHVheYi0WdGoxgP40XVBhUiXGcSvi6o7tz9IO L9vFMj2miT/zrFv73b96mujDBHbe9Gdk= X-Google-Smtp-Source: AGHT+IEBZJNBBSKwt8BIAUVs0G3FwF3anvTOafXdLUxigdIYz/lXUZ46P/L65tNhPwDljUyjeZk/0lAel4Vm X-Received: by 2002:a17:903:28c:b0:295:5da6:5ff3 with SMTP id d9443c01a7336-2984ec8bdd8mr89155365ad.0.1763046426592; Thu, 13 Nov 2025 07:07:06 -0800 (PST) Received: from postal.iol.unh.edu (postal.iol.unh.edu. [132.177.123.84]) by smtp-relay.gmail.com with ESMTPS id d2e1a72fcca58-7b92268018dsm201421b3a.0.2025.11.13.07.07.06 (version=TLS1_2 cipher=ECDHE-ECDSA-AES128-GCM-SHA256 bits=128/128); Thu, 13 Nov 2025 07:07:06 -0800 (PST) X-Relaying-Domain: iol.unh.edu Date: Thu, 13 Nov 2025 07:07:06 -0800 (PST) Message-ID: <6915f41a.050a0220.1d4c58.98baSMTPIN_ADDED_MISSING@mx.google.com> Received: from [172.21.0.2] (unknown [172.18.0.240]) by postal.iol.unh.edu (Postfix) with ESMTP id CDCFB6050A61; Thu, 13 Nov 2025 10:07:05 -0500 (EST) Subject: |SUCCESS| pw158696-158697 [PATCH] [v3,2/2] test/crypto: add QAT AES- From: dpdklab@iol.unh.edu To: Test Report Cc: dpdk-test-reports@iol.unh.edu, Akhil Goyal In-Reply-To: <20251112101911.2377840-2-emma.finn@intel.com> References: <20251112101911.2377840-2-emma.finn@intel.com> Content-Type: text/plain X-BeenThere: test-report@dpdk.org X-Mailman-Version: 2.1.29 Precedence: list List-Id: automatic DPDK test reports List-Unsubscribe: , List-Archive: List-Post: List-Help: List-Subscribe: , Errors-To: test-report-bounces@dpdk.org Test-Label: iol-compile-amd64-testing Test-Status: SUCCESS http://dpdk.org/patch/158697 _Testing PASS_ Submitter: Emma Finn Date: Wednesday, November 12 2025 10:19:11 DPDK git baseline: Repo:dpdk-next-crypto Branch: master CommitID:8ae4f1d511226fd65a979e9f8a1e51835281a59b 158696-158697 --> testing pass Upstream job id: Windows-Compile-DPDK-VS#7515 Test environment and result as below: +-------------------------------+--------------------+------------------+-------------------+ | Environment | dpdk_meson_compile | dpdk_compile_ovs | dpdk_msvc_compile | +===============================+====================+==================+===================+ | FreeBSD 14.2 | PASS | SKIPPED | SKIPPED | +-------------------------------+--------------------+------------------+-------------------+ | Ubuntu 20.04 | PASS | SKIPPED | SKIPPED | +-------------------------------+--------------------+------------------+-------------------+ | CentOS Stream 9 | PASS | SKIPPED | SKIPPED | +-------------------------------+--------------------+------------------+-------------------+ | CentOS Stream 10 | PASS | SKIPPED | SKIPPED | +-------------------------------+--------------------+------------------+-------------------+ | Debian GNU/Linux 12 | PASS | SKIPPED | SKIPPED | +-------------------------------+--------------------+------------------+-------------------+ | Fedora Linux 42 | PASS | PASS | SKIPPED | +-------------------------------+--------------------+------------------+-------------------+ | openSUSE Leap 15.6 | PASS | SKIPPED | SKIPPED | +-------------------------------+--------------------+------------------+-------------------+ | Red Hat Enterprise Linux 8.10 | PASS | SKIPPED | SKIPPED | +-------------------------------+--------------------+------------------+-------------------+ | Red Hat Enterprise Linux 9.5 | PASS | SKIPPED | SKIPPED | +-------------------------------+--------------------+------------------+-------------------+ | Ubuntu 22.04 | PASS | SKIPPED | SKIPPED | +-------------------------------+--------------------+------------------+-------------------+ | Ubuntu 24.04 | PASS | PASS | SKIPPED | +-------------------------------+--------------------+------------------+-------------------+ | Alpine Linux 3.22.0 | PASS | SKIPPED | SKIPPED | +-------------------------------+--------------------+------------------+-------------------+ | Windows Server 2022 | SKIPPED | SKIPPED | PASS | +-------------------------------+--------------------+------------------+-------------------+ FreeBSD 14.2 Kernel: 14.2-RELEASE Compiler: clang 18.1.6 Ubuntu 20.04 Kernel: 4.19 Compiler: gcc gcc (Ubuntu 9.4.0-1ubuntu1~20.04.2) 9.4.0 CentOS Stream 9 Kernel: 5.15 Compiler: gcc gcc (GCC) 11.5.0 20240719 (Red Hat 11.5.0-11) CentOS Stream 10 Kernel: 5.15 Compiler: gcc gcc (GCC) 14.2.1 20250110 (Red Hat 14.2.1-8) Debian GNU/Linux 12 Kernel: 5.15 Compiler: gcc gcc (Debian 12.2.0-14+deb12u1) 12.2.0 Fedora Linux 42 Kernel: 5.15 Compiler: clang gcc (GCC) 15.2.1 20250808 (Red Hat 15.2.1-1) openSUSE Leap 15.6 Kernel: 5.15 Compiler: gcc gcc (SUSE Linux) 7.5.0 Red Hat Enterprise Linux 8.10 Kernel: 5.15 Compiler: gcc gcc (GCC) 8.5.0 20210514 (Red Hat 8.5.0-22) Red Hat Enterprise Linux 9.5 Kernel: 5.15 Compiler: gcc gcc (GCC) 11.5.0 20240719 (Red Hat 11.5.0-2) Ubuntu 22.04 Kernel: 5.15 Compiler: gcc gcc (Ubuntu 11.4.0-1ubuntu1~22.04) 11.4.0 Ubuntu 24.04 Kernel: 5.15 Compiler: gcc gcc (Ubuntu 13.3.0-6ubuntu2~24.04) 13.3.0 Alpine Linux 3.22.0 Kernel: 5.15 Compiler: gcc gcc (Alpine 14.2.0) 14.2.0 Windows Server 2022 Kernel: 10.0.20348.2031 Compiler: clang 15.0.7, gcc 14.1.0 (MinGW), and MSVC VS 19.39.33521 To view detailed results, visit: https://lab.dpdk.org/results/dashboard/patchsets/34546/ UNH-IOL DPDK Community Lab To manage your email subscriptions, visit: https://lab.dpdk.org/results/dashboard/preferences/subscriptions/