From mboxrd@z Thu Jan 1 00:00:00 1970 Return-Path: Received: from mails.dpdk.org (mails.dpdk.org [217.70.189.124]) by inbox.dpdk.org (Postfix) with ESMTP id 4E84648AFB for ; Thu, 13 Nov 2025 16:16:10 +0100 (CET) Received: from mails.dpdk.org (localhost [127.0.0.1]) by mails.dpdk.org (Postfix) with ESMTP id 4A9D040151; Thu, 13 Nov 2025 16:16:10 +0100 (CET) Received: from mail-il1-f228.google.com (mail-il1-f228.google.com [209.85.166.228]) by mails.dpdk.org (Postfix) with ESMTP id CB01240151 for ; Thu, 13 Nov 2025 16:16:08 +0100 (CET) Received: by mail-il1-f228.google.com with SMTP id e9e14a558f8ab-434717509afso4330185ab.2 for ; Thu, 13 Nov 2025 07:16:08 -0800 (PST) DKIM-Signature: v=1; a=rsa-sha256; c=relaxed/relaxed; d=iol.unh.edu; s=unh-iol; t=1763046968; x=1763651768; darn=dpdk.org; h=references:in-reply-to:cc:to:from:subject:message-id:date:from:to :cc:subject:date:message-id:reply-to; bh=SYZA03WJhcdWaAZDrnw1b647VQ1YI7dt3MOgxfZvChA=; b=Eaa0Ik50CJC43PFknqyasUpjnTfYvMY5Bjfp/VBbDD5wJbcEbDCB/gUnj72ZAyEDnz 94/MOe05EMO7DLPQ0cG4MgPEll01/Eien+J0shHIQtl3/luhETD4U2HZDMNXCX3BKx4s tAW0n/c9aqodua6mOl1UJ6kSUUNgVrLVj1DEE= X-Google-DKIM-Signature: v=1; a=rsa-sha256; c=relaxed/relaxed; d=1e100.net; s=20230601; t=1763046968; x=1763651768; h=references:in-reply-to:cc:to:from:subject:message-id:date:x-gm-gg :x-gm-message-state:from:to:cc:subject:date:message-id:reply-to; bh=SYZA03WJhcdWaAZDrnw1b647VQ1YI7dt3MOgxfZvChA=; b=rdcFpJ+xC0c/B7dP3SMF+Wuk8ybf2J38LpICX82Ur0O1rAd5IF8SK8WnHw/n8zQcXQ USh0eAepGE4iICmUs81pL/JL/4QIYFS2hT8s2eoJxwMwjp520p2/qGkhdCIXFenm9qV7 UPM6aWs6JbIL8cnHiW5JT9CtwTOqi/MKfy86fxJf97p/yxfDxRZXjcU0KIJ27mPXhivR Cnny5ei66lj8CPPz1ZREU0FvUEr4cyTRUdaOgS2SO5i/wEY6F0I8V5zT4XXBDZYtqrTA YMPs1VuCq7c7QOI3byotSPCM0RogIwjgDyP0duh18g3mw1OLdOCFroeLolLsAN6YMZ5Y OZ4w== X-Gm-Message-State: AOJu0YyazUMA2e00PP5Ov/CQrWbD2TrTMMsYAZwK5nrGBRZLN42PrCPT cU8fX7WbyuReSlajFwglBUjVGr8TdTIKPLfUtwxHxDVgDo5o59RH8yv9lYvZEUXBFOxUSw4dv6e oLXMx8dL9FlGHlTZR+/8SAYqO95N4oPEqzVv6F6Tx4UB3 X-Gm-Gg: ASbGncvvexcgw8VnB9wwR+EcRXVCxUgcrKMJvrt5Gp4CrfvEuubJRgh+sZxjVUYFIO+ LnWBQBRmYEkjEP0LEY6ZqLC9H0O6cAoW+ax0uDuIguq9oCOHO0wme0eqkC74fyaHc3MXF1Sq+9i Fng/HW2WbQ0Nj0/8u3LIE3sPq+UayBLiaV1iVHk16uOIcl9FnkgbX2c/jeBAIXbEoxMexSnEciC FKvttDLo/IYktnxz455jo5AaqwD8HvVUYof5jsSJrTwjyGdZWiDGZnixigwGytDL6id9bQZcNu0 giC0D75N5yjNsoDIR0EebVD7lZu0UntdglSk3zk+pI3i1LtfLq85jV3jyCIxn1RHJBOVhvVGGQ3 RTDDnO/AztvO+94Qr+i1lVRBgKr57LH4= X-Google-Smtp-Source: AGHT+IELbMt9dTLk0s7py6n4XOOZnueOgGgo8bo8vThD2GgJYAouob1iXE+ra/7dh9bmKwTjpfo3UX7d/rZF X-Received: by 2002:a05:6e02:3187:b0:433:330a:a576 with SMTP id e9e14a558f8ab-43473d1ba5amr113811815ab.14.1763046967690; Thu, 13 Nov 2025 07:16:07 -0800 (PST) Received: from postal.iol.unh.edu (postal.iol.unh.edu. [132.177.123.84]) by smtp-relay.gmail.com with ESMTPS id 8926c6da1cb9f-5b7bd3511c8sm181601173.36.2025.11.13.07.16.07 (version=TLS1_2 cipher=ECDHE-ECDSA-AES128-GCM-SHA256 bits=128/128); Thu, 13 Nov 2025 07:16:07 -0800 (PST) X-Relaying-Domain: iol.unh.edu Date: Thu, 13 Nov 2025 07:16:07 -0800 (PST) Message-ID: <6915f637.020a0220.376f4.8899SMTPIN_ADDED_MISSING@mx.google.com> Received: from [172.21.0.2] (unknown [172.18.0.240]) by postal.iol.unh.edu (Postfix) with ESMTP id 45D0D6050A61; Thu, 13 Nov 2025 10:16:07 -0500 (EST) Subject: |SUCCESS| pw158754 [PATCH] net/ice: add MAC anti-spoof disable optio From: dpdklab@iol.unh.edu To: Test Report Cc: dpdk-test-reports@iol.unh.edu, Bruce Richardson In-Reply-To: <20251113105914.34949-1-anurag.mandal@intel.com> References: <20251113105914.34949-1-anurag.mandal@intel.com> Content-Type: text/plain X-BeenThere: test-report@dpdk.org X-Mailman-Version: 2.1.29 Precedence: list List-Id: automatic DPDK test reports List-Unsubscribe: , List-Archive: List-Post: List-Help: List-Subscribe: , Errors-To: test-report-bounces@dpdk.org Test-Label: iol-compile-amd64-testing Test-Status: SUCCESS http://dpdk.org/patch/158754 _Testing PASS_ Submitter: Anurag Mandal Date: Thursday, November 13 2025 10:59:14 DPDK git baseline: Repo:dpdk-next-net-intel Branch: master CommitID:123703be5bdd0fa45e4fda14f36a0d941d1f7e63 158754 --> testing pass Upstream job id: Windows-Compile-DPDK-Native#32293 Test environment and result as below: +---------------------+--------------------+-------------------------+ | Environment | dpdk_meson_compile | dpdk_llvm_clang_compile | +=====================+====================+=========================+ | Ubuntu 20.04 | PASS | SKIPPED | +---------------------+--------------------+-------------------------+ | FreeBSD 14.2 | PASS | SKIPPED | +---------------------+--------------------+-------------------------+ | Windows Server 2022 | SKIPPED | PASS | +---------------------+--------------------+-------------------------+ Ubuntu 20.04 Kernel: 4.19 Compiler: gcc gcc (Ubuntu 9.4.0-1ubuntu1~20.04.2) 9.4.0 FreeBSD 14.2 Kernel: 14.2-RELEASE Compiler: clang 18.1.6 Windows Server 2022 Kernel: 10.0.20348.2031 Compiler: clang 15.0.7, gcc 14.1.0 (MinGW), and MSVC VS 19.39.33521 To view detailed results, visit: https://lab.dpdk.org/results/dashboard/patchsets/34571/ UNH-IOL DPDK Community Lab To manage your email subscriptions, visit: https://lab.dpdk.org/results/dashboard/preferences/subscriptions/