From mboxrd@z Thu Jan 1 00:00:00 1970 Return-Path: Received: from mails.dpdk.org (mails.dpdk.org [217.70.189.124]) by inbox.dpdk.org (Postfix) with ESMTP id 690E748AFB for ; Thu, 13 Nov 2025 16:26:43 +0100 (CET) Received: from mails.dpdk.org (localhost [127.0.0.1]) by mails.dpdk.org (Postfix) with ESMTP id 63D4E40151; Thu, 13 Nov 2025 16:26:43 +0100 (CET) Received: from mail-io1-f97.google.com (mail-io1-f97.google.com [209.85.166.97]) by mails.dpdk.org (Postfix) with ESMTP id 9033340151 for ; Thu, 13 Nov 2025 16:26:41 +0100 (CET) Received: by mail-io1-f97.google.com with SMTP id ca18e2360f4ac-948c66f367cso73207239f.2 for ; Thu, 13 Nov 2025 07:26:41 -0800 (PST) DKIM-Signature: v=1; a=rsa-sha256; c=relaxed/relaxed; d=iol.unh.edu; s=unh-iol; t=1763047601; x=1763652401; darn=dpdk.org; h=references:in-reply-to:cc:to:from:subject:message-id:date:from:to :cc:subject:date:message-id:reply-to; bh=LoddPVMY6hJ5jYMfTTZRgn82ajXl4xX01H4vGAi0gCg=; b=GJywdGTjj7P0KPV8VLfMBf9dpF8WZ/v34dGakhxO2ckIbaRNpmoR4MOG8gdzy9GvbZ onMnjFfT6hkNQD6ruXl1u0m/Lb43F8zfIjCQDdl/Mw7+JqJKLmqDqZHX1RFDL1Jxkc1H eS7/4NI/aOB3A4zymX3OZZXS3IwfmdyiNLGXI= X-Google-DKIM-Signature: v=1; a=rsa-sha256; c=relaxed/relaxed; d=1e100.net; s=20230601; t=1763047601; x=1763652401; h=references:in-reply-to:cc:to:from:subject:message-id:date:x-gm-gg :x-gm-message-state:from:to:cc:subject:date:message-id:reply-to; bh=LoddPVMY6hJ5jYMfTTZRgn82ajXl4xX01H4vGAi0gCg=; b=guvrZ2JxYYxtNKx61cElrV6nCP4L3O15rauyHV2VsoJdhgZV3qsAgAlbKEhAPVM2Ap N4AHw/C7iqsoSJns0Q2lv26/9W/cTj8GyxvnoFqmj/SiT20DfuquO2IIiMTZNWXF+EuR TulXNgd2P3mE9fy5Rkq8dIF3NDUBi07XnK5/LZmPJVlsSbnEl9a++9g/Yzux5LxA2U68 5T0CtRVTWtxPjB8xcoaDmJfhQT6Fyqy19YaWQTFCf/RT1DgbLYv+cwpVyBUW+4BQGiOU VO/VWrSzLTF+2bjiheive7uKoHOwAuyoYavPi1I79ytkqaTrxydrfvcf0VqZNEp8BGQI dzlQ== X-Gm-Message-State: AOJu0Yxflf2jN+V22zmXtZ/otB7U8aTLkHDpMWlIAYEl7orBjtnPwGNZ QNTLYrKOteObYv4Kv0w1Cf3g33HLqR01dKSQwIo84/7JYQSeo94emNENrGcv5jXlVElk4Fewcln vfbwNBTzc1OVY7od7qMPJXZibmPOgXLrk1Rdu0H5YHHaQ X-Gm-Gg: ASbGncsdPaDdrOOhB9Dt920F+LekoBaDFhWZXtTwu/OtlZv9zAoPFXo8KG/uhWN86jG N3UbxaMtpq1irnW6JvtjOuBpzMmhvqveSLnJ+kJMVrho3aSrpPDNeZSJ1kUYZYcADdrEYLJnQ5b uUTqb19axVUihmuvDJIH0tmUEWmT1K61yE22Hk4lBEOItY3qCTJDHurUr2b9RaFr0XuCSbCKb0x gBJ43v0dTz2SBvhSs/wk2gGVhr+jI4v/jPcFcPAbDZi9bv+f5cKzkBCAvrLJu+ZZonA6gtLUtRk kCGYZTuGlZG3vuBkIw7sIWrYutWpI2OtyPlg0M2+pie4QUqEhYID1KfKoH0iE/CjL3ozTogRG6B BMPHeqyG4WS4qh0dpges8cHLcCTv1UKI= X-Google-Smtp-Source: AGHT+IE+C6AHXZqbVuGY2QXbg1SuNS/xJVFYm/xFd7EiigjlZBqv3Zz4oC4SBzSLM43y5AlvnHKuuW7l5bgc X-Received: by 2002:a05:6602:158f:b0:906:c3ea:3fb7 with SMTP id ca18e2360f4ac-948c463b579mr961531239f.12.1763047600831; Thu, 13 Nov 2025 07:26:40 -0800 (PST) Received: from postal.iol.unh.edu (postal.iol.unh.edu. [132.177.123.84]) by smtp-relay.gmail.com with ESMTPS id 8926c6da1cb9f-5b7bd33517dsm179277173.30.2025.11.13.07.26.40 (version=TLS1_2 cipher=ECDHE-ECDSA-AES128-GCM-SHA256 bits=128/128); Thu, 13 Nov 2025 07:26:40 -0800 (PST) X-Relaying-Domain: iol.unh.edu Date: Thu, 13 Nov 2025 07:26:40 -0800 (PST) Message-ID: <6915f8b0.050a0220.3980b.8a18SMTPIN_ADDED_MISSING@mx.google.com> Received: from [172.21.0.6] (unknown [172.18.0.240]) by postal.iol.unh.edu (Postfix) with ESMTP id 663CB6051830; Thu, 13 Nov 2025 10:26:40 -0500 (EST) Subject: |SUCCESS| pw158765-158768 [PATCH] [v5,4/4] vhost_user: Function defs From: dpdklab@iol.unh.edu To: Test Report Cc: dpdk-test-reports@iol.unh.edu, Chenbo Xia , Maxime Coquelin In-Reply-To: <20251113124425.2913881-5-pravin.bathija@dell.com> References: <20251113124425.2913881-5-pravin.bathija@dell.com> Content-Type: text/plain X-BeenThere: test-report@dpdk.org X-Mailman-Version: 2.1.29 Precedence: list List-Id: automatic DPDK test reports List-Unsubscribe: , List-Archive: List-Post: List-Help: List-Subscribe: , Errors-To: test-report-bounces@dpdk.org Test-Label: iol-unit-amd64-testing Test-Status: SUCCESS http://dpdk.org/patch/158768 _Testing PASS_ Submitter: Bathija, Pravin Date: Thursday, November 13 2025 12:44:25 DPDK git baseline: Repo:dpdk-next-virtio Branch: master CommitID:6b37c26a95388aa41bb5267c7c42f604fd571a38 158765-158768 --> testing pass Upstream job id: Generic-Unit-Test-DPDK#392241 Test environment and result as below: +-------------------------------+----------------+ | Environment | dpdk_unit_test | +===============================+================+ | CentOS Stream 9 | PASS | +-------------------------------+----------------+ | CentOS Stream 10 | PASS | +-------------------------------+----------------+ | Fedora Linux 40 | PASS | +-------------------------------+----------------+ | Debian GNU/Linux 12 | PASS | +-------------------------------+----------------+ | Fedora Linux 41 | PASS | +-------------------------------+----------------+ | Fedora Linux 42 | PASS | +-------------------------------+----------------+ | Red Hat Enterprise Linux 9.5 | PASS | +-------------------------------+----------------+ | Red Hat Enterprise Linux 8.10 | PASS | +-------------------------------+----------------+ | Ubuntu 20.04 | PASS | +-------------------------------+----------------+ | Ubuntu 22.04 | PASS | +-------------------------------+----------------+ | Ubuntu 24.04 | PASS | +-------------------------------+----------------+ CentOS Stream 9 Kernel: 5.15 Compiler: gcc gcc (GCC) 11.5.0 20240719 (Red Hat 11.5.0-11) CentOS Stream 10 Kernel: 5.15 Compiler: gcc gcc (GCC) 14.2.1 20250110 (Red Hat 14.2.1-8) Fedora Linux 40 Kernel: 5.15 Compiler: gcc gcc (GCC) 14.2.1 20240912 (Red Hat 14.2.1-3) Debian GNU/Linux 12 Kernel: 5.15 Compiler: gcc gcc (Debian 12.2.0-14+deb12u1) 12.2.0 Fedora Linux 41 Kernel: 5.15 Compiler: gcc gcc (GCC) 14.3.1 20250523 (Red Hat 14.3.1-1) Fedora Linux 42 Kernel: 5.15 Compiler: gcc gcc (GCC) 15.2.1 20250808 (Red Hat 15.2.1-1) Red Hat Enterprise Linux 9.5 Kernel: 5.15 Compiler: gcc gcc (GCC) 11.5.0 20240719 (Red Hat 11.5.0-2) Red Hat Enterprise Linux 8.10 Kernel: 5.15 Compiler: gcc gcc (GCC) 8.5.0 20210514 (Red Hat 8.5.0-22) Ubuntu 20.04 Kernel: 5.15 Compiler: gcc gcc (Ubuntu 9.4.0-1ubuntu1~20.04.2) 9.4.0 Ubuntu 22.04 Kernel: 5.15 Compiler: gcc gcc (Ubuntu 11.4.0-1ubuntu1~22.04) 11.4.0 Ubuntu 24.04 Kernel: 5.15 Compiler: gcc gcc (Ubuntu 13.3.0-6ubuntu2~24.04) 13.3.0 To view detailed results, visit: https://lab.dpdk.org/results/dashboard/patchsets/34576/ UNH-IOL DPDK Community Lab To manage your email subscriptions, visit: https://lab.dpdk.org/results/dashboard/preferences/subscriptions/