From mboxrd@z Thu Jan 1 00:00:00 1970 Return-Path: Received: from mails.dpdk.org (mails.dpdk.org [217.70.189.124]) by inbox.dpdk.org (Postfix) with ESMTP id 9DA1C48AFB for ; Thu, 13 Nov 2025 16:28:48 +0100 (CET) Received: from mails.dpdk.org (localhost [127.0.0.1]) by mails.dpdk.org (Postfix) with ESMTP id 99CF340151; Thu, 13 Nov 2025 16:28:48 +0100 (CET) Received: from mail-io1-f98.google.com (mail-io1-f98.google.com [209.85.166.98]) by mails.dpdk.org (Postfix) with ESMTP id 8000540151 for ; Thu, 13 Nov 2025 16:28:47 +0100 (CET) Received: by mail-io1-f98.google.com with SMTP id ca18e2360f4ac-940d9772e28so40612239f.2 for ; Thu, 13 Nov 2025 07:28:47 -0800 (PST) DKIM-Signature: v=1; a=rsa-sha256; c=relaxed/relaxed; d=iol.unh.edu; s=unh-iol; t=1763047727; x=1763652527; darn=dpdk.org; h=references:in-reply-to:cc:to:from:subject:message-id:date:from:to :cc:subject:date:message-id:reply-to; bh=h79I3SWywn/oQULSwQ78Od5YQJ7bFSqAuTEix3R3d38=; b=iMxVUQQJ7rdYtilT7ckQrKLsFF4CMxb0jiSSHbTuw23DwLijhrKUVLGsA3nMKN80qV vZVI8xfdVe3ZSdVplkB2/MNuBYXARPxG+TCKttW1BacVFWI/f+8372nkP5Xd9d6KDhD/ U+l56ZjLi8C317eHsgOWWp8A5XWAqSs/hEwjk= X-Google-DKIM-Signature: v=1; a=rsa-sha256; c=relaxed/relaxed; d=1e100.net; s=20230601; t=1763047727; x=1763652527; h=references:in-reply-to:cc:to:from:subject:message-id:date:x-gm-gg :x-gm-message-state:from:to:cc:subject:date:message-id:reply-to; bh=h79I3SWywn/oQULSwQ78Od5YQJ7bFSqAuTEix3R3d38=; b=E9CXvIjpaFOuLL+43dwKY40HWZ9dNwQZ6FGROHef4G46BwYbelFeKw8zZYDyqkrVA/ h6SDDNloGPW/vNQLHTGRTc3S6NLfpv8qrxmGKMWjMwcRdlNzFaUNzJ9+zGENIUYNB7lM fAtH6dtsyLjFFBI4Tj0KTYLwD1D7z544I+kwvJLQKQ6X7WC6q2KGN7yS1NpFbb0NIn6f goV63oCV0f4dcKqcRwGZKN6Eliwbh1Xgu32uo9ImHvTE2Q1WYlQMRlkyumgJCn2qXsUk 0ta1eCeXTHjnuTWrfZOphzdOmsFDHg6/k1c9LWB581Vpd1IUp78MsFfB7AR6IHBfysMM mz8g== X-Gm-Message-State: AOJu0YyiBmggzAILgXB0sDQnQ1rUGeWl7HznAmjmXjp8vUqSYaR95dBh firAHHId7D/jP1St4+gUoa6IKI99Lu/2arbXdmjXenZvlYEV2LNEisRkP2fUSfX70Nk2DHtsyOu rpjaSKLvS+ULhI3iuVjBpx/P+CUizasF4oyG6s0gBboq/WmUkQJb/v7dM54ha X-Gm-Gg: ASbGncub5DoISa1CJCR4QuLNAfWU1lZYtHfO6OieZvrHS/bJ8mIS95KPKiycPQwXX/j ZVw/3IUJBCroWZxWe9RS/PbLIQzUIt1R01b84TPX2RymdIfFF1ai4vDyXRlm8WPJKGitXcT7usv WdRhfO13zp9L7Lj5gPY8S3V7/BLHEGl1Ec1UgMdInstiEW6SNxCUABkW6R4TiAww1sIXtgGz5gA iA+TFJyMPnhTIVlydPL9++PM5Kzdf3o0q8sI5n2kvlPXuyHu/e3PQs7blE5dJCySi1tahd3G6DR 3bhiKE8lEgwY0ZdrUmaws+1pznn5tqai7JiE/8WTmFKG6CmEQucZDEusQsORikTVmZYdN31YiSs bwPrbNQ/j X-Google-Smtp-Source: AGHT+IGpvCunFXLPUCHSgoPSsnE6xaY6fywkxLaCBSCFGIUxBJR7vIDV84z7Kt1xmLzsS/rd6S7RzoMpPaoW X-Received: by 2002:a05:6e02:1524:b0:433:8109:3ed9 with SMTP id e9e14a558f8ab-43473d750demr88939365ab.16.1763047726811; Thu, 13 Nov 2025 07:28:46 -0800 (PST) Received: from postal.iol.unh.edu (postal.iol.unh.edu. [2606:4100:3880:1234::84]) by smtp-relay.gmail.com with ESMTPS id 8926c6da1cb9f-5b7bd319dfbsm176131173.21.2025.11.13.07.28.46 (version=TLS1_2 cipher=ECDHE-ECDSA-AES128-GCM-SHA256 bits=128/128); Thu, 13 Nov 2025 07:28:46 -0800 (PST) X-Relaying-Domain: iol.unh.edu Date: Thu, 13 Nov 2025 07:28:46 -0800 (PST) Message-ID: <6915f92e.050a0220.8605a.8646SMTPIN_ADDED_MISSING@mx.google.com> Received: from [172.21.0.5] (unknown [172.18.0.240]) by postal.iol.unh.edu (Postfix) with ESMTP id 60C6F6051830; Thu, 13 Nov 2025 10:28:46 -0500 (EST) Subject: |SUCCESS| pw158690-158694 [PATCH] [v2,5/5] bus/fslmc: remove raw dev From: dpdklab@iol.unh.edu To: Test Report Cc: dpdk-test-reports@iol.unh.edu In-Reply-To: <20251112091049.2669481-6-david.marchand@redhat.com> References: <20251112091049.2669481-6-david.marchand@redhat.com> Content-Type: text/plain X-BeenThere: test-report@dpdk.org X-Mailman-Version: 2.1.29 Precedence: list List-Id: automatic DPDK test reports List-Unsubscribe: , List-Archive: List-Post: List-Help: List-Subscribe: , Errors-To: test-report-bounces@dpdk.org Test-Label: iol-unit-amd64-testing Test-Status: SUCCESS http://dpdk.org/patch/158694 _Testing PASS_ Submitter: David Marchand Date: Wednesday, November 12 2025 09:10:48 DPDK git baseline: Repo:dpdk Branch: master CommitID:be0112878b4fc3a1b918370ed2fe615c52039d77 158690-158694 --> testing pass Upstream job id: Generic-VM-Unit-Test-DPDK#32485 Test environment and result as below: +-------------------------------+----------------+ | Environment | dpdk_unit_test | +===============================+================+ | Fedora Linux 40 | PASS | +-------------------------------+----------------+ | CentOS Stream 10 | PASS | +-------------------------------+----------------+ | Red Hat Enterprise Linux 8.10 | PASS | +-------------------------------+----------------+ | Fedora Linux 41 | PASS | +-------------------------------+----------------+ | Fedora Linux 42 | PASS | +-------------------------------+----------------+ | Debian GNU/Linux 12 | PASS | +-------------------------------+----------------+ | CentOS Stream 9 | PASS | +-------------------------------+----------------+ | Ubuntu 24.04 | PASS | +-------------------------------+----------------+ | Ubuntu 20.04 | PASS | +-------------------------------+----------------+ | Ubuntu 22.04 | PASS | +-------------------------------+----------------+ | Red Hat Enterprise Linux 9.5 | PASS | +-------------------------------+----------------+ | Windows Server 2022 | PASS | +-------------------------------+----------------+ Fedora Linux 40 Kernel: 5.15 Compiler: gcc gcc (GCC) 14.2.1 20240912 (Red Hat 14.2.1-3) CentOS Stream 10 Kernel: 5.15 Compiler: gcc gcc (GCC) 14.2.1 20250110 (Red Hat 14.2.1-8) Red Hat Enterprise Linux 8.10 Kernel: 5.15 Compiler: gcc gcc (GCC) 8.5.0 20210514 (Red Hat 8.5.0-22) Fedora Linux 41 Kernel: 5.15 Compiler: clang gcc (GCC) 14.3.1 20250523 (Red Hat 14.3.1-1) Fedora Linux 42 Kernel: 5.15 Compiler: gcc gcc (GCC) 15.2.1 20250808 (Red Hat 15.2.1-1) Debian GNU/Linux 12 Kernel: 5.15 Compiler: gcc gcc (Debian 12.2.0-14+deb12u1) 12.2.0 CentOS Stream 9 Kernel: 5.15 Compiler: gcc gcc (GCC) 11.5.0 20240719 (Red Hat 11.5.0-11) Ubuntu 24.04 Kernel: 5.15 Compiler: gcc gcc (Ubuntu 13.3.0-6ubuntu2~24.04) 13.3.0 Ubuntu 20.04 Kernel: 5.15 Compiler: gcc gcc (Ubuntu 9.4.0-1ubuntu1~20.04.2) 9.4.0 Ubuntu 22.04 Kernel: 5.15 Compiler: gcc gcc (Ubuntu 11.4.0-1ubuntu1~22.04) 11.4.0 Red Hat Enterprise Linux 9.5 Kernel: 5.15 Compiler: gcc gcc (GCC) 11.5.0 20240719 (Red Hat 11.5.0-2) Windows Server 2022 Kernel: 10.0.20348.2031 Compiler: clang 15.0.7, gcc 14.1.0 (MinGW), and MSVC VS 19.39.33521 To view detailed results, visit: https://lab.dpdk.org/results/dashboard/patchsets/34543/ UNH-IOL DPDK Community Lab To manage your email subscriptions, visit: https://lab.dpdk.org/results/dashboard/preferences/subscriptions/