From mboxrd@z Thu Jan 1 00:00:00 1970 Return-Path: Received: from mails.dpdk.org (mails.dpdk.org [217.70.189.124]) by inbox.dpdk.org (Postfix) with ESMTP id B80E348AFB for ; Thu, 13 Nov 2025 16:29:43 +0100 (CET) Received: from mails.dpdk.org (localhost [127.0.0.1]) by mails.dpdk.org (Postfix) with ESMTP id B306F40151; Thu, 13 Nov 2025 16:29:43 +0100 (CET) Received: from mail-pl1-f227.google.com (mail-pl1-f227.google.com [209.85.214.227]) by mails.dpdk.org (Postfix) with ESMTP id 1B7B540151 for ; Thu, 13 Nov 2025 16:29:42 +0100 (CET) Received: by mail-pl1-f227.google.com with SMTP id d9443c01a7336-29845b06dd2so9812415ad.2 for ; Thu, 13 Nov 2025 07:29:42 -0800 (PST) DKIM-Signature: v=1; a=rsa-sha256; c=relaxed/relaxed; d=iol.unh.edu; s=unh-iol; t=1763047781; x=1763652581; darn=dpdk.org; h=references:in-reply-to:cc:to:from:subject:message-id:date:from:to :cc:subject:date:message-id:reply-to; bh=Y0CLeP3CSJpv7btAUlX0xdniVnJdz68C9BoJ1g4nRRI=; b=SMl6SMbBVFuX/B9VW9U8Q4M1svDGfhwX1isxEW60eXUYRb6xHMA6cRZQn3Er6fVTLZ 4IzG7FgqkH5dP5u3M99ruQySSKyg4uJZq5X+rlJYM3LNeZod0LYL2ENwBhJmi6SBbxzp ldA1+Ogxs/96Xq5vxCrAey+HezxLJqnYooYQQ= X-Google-DKIM-Signature: v=1; a=rsa-sha256; c=relaxed/relaxed; d=1e100.net; s=20230601; t=1763047781; x=1763652581; h=references:in-reply-to:cc:to:from:subject:message-id:date:x-gm-gg :x-gm-message-state:from:to:cc:subject:date:message-id:reply-to; bh=Y0CLeP3CSJpv7btAUlX0xdniVnJdz68C9BoJ1g4nRRI=; b=ItmQFdl4/aDsrFBRz3v3k6ZaGEGM+nu2r4CsyeKDRX1UwEjHMEF3TMQRi7Q4wVggGY KjHd0aYQNhrOzkbj2VjpRnvAhC2LfhUQF/rg6MClH87Iwa2Tqeowb1JrHlQ5vXB0I9kb ibMPZGp9IHzGLNWS48MXHwzSg0ATcIF50UfaKeTrJ6vLpo7zu/1CeO8RpzxBulwRe8H9 feKelt9tDkrTmNLyt0ko6WTtSkep54qE9v32Ao6V0ZKMuBieNUoMs/0jHSnr3IJGIvOq kK6QfM4claY2dF73A1v/Yo+90dzWK24Q9kM9mSjL6YV7eBYUl0AbAnyXJ4lMTGIPGtWz hiTQ== X-Gm-Message-State: AOJu0YwZvJhV2IwdNUaU3a2C+VqKjyGd39W06pmCOLO+2RQMAtWmRQwf j1koIpGuVS99x6PTm2UldnAi/Ucwdov97tpD/jDl4aCltBHCZffp/t587JrDNXW3U1DMWxGpoBX w7asl4TZ1+jGC3wRDhr8vuFNE/3mxgkU0FRkGL/TCryKJmGX8EP9Tq/jF9IBe X-Gm-Gg: ASbGncunsgmMWy3ocytsCSEXNTW9dBzCnJlAaq9fMYDvgnOqvpGqgTADYe8YNZYdjq+ 8TmBzRXDv1WeFynJ/Kj7toAS6DtiM70Y5+t62I9eRPqioZkxkJBJt9mzT19DaETaiLq3FcZPCOS 6/geV409GMFDbvc+9xE0T+xXvpJu2fbFO3rj7waTCJJfcQ9LcnDyGorl2gG0ZXk4USdX9+Q5Ayj /y0kTfbn/IBx55TzFSSr3nJqaUnveK6G58ZFv22me29X4/cujEqIG+XEIQClhFzYwdVCic7vh11 nlOQ0eD7r1aS9xv63mRjP6yRtnhROI5uw5lRdpX09cS4aEnCc2htI4d0MS2U2KIfxRWBntL0V14 swsEYLHKg X-Google-Smtp-Source: AGHT+IFQtJ2IJ+gl/VibIEvcyC1umnc4R/snqUGbXMJ9yHM9ZesAfX/ZLqub2yhU6G8cVjLRilhA4EAt7xis X-Received: by 2002:a17:902:ce04:b0:295:9db1:ff41 with SMTP id d9443c01a7336-2984ed41fb1mr91564195ad.21.1763047781115; Thu, 13 Nov 2025 07:29:41 -0800 (PST) Received: from postal.iol.unh.edu (postal.iol.unh.edu. [2606:4100:3880:1234::84]) by smtp-relay.gmail.com with ESMTPS id d9443c01a7336-2985c2c47e1sm2587865ad.64.2025.11.13.07.29.41 (version=TLS1_2 cipher=ECDHE-ECDSA-AES128-GCM-SHA256 bits=128/128); Thu, 13 Nov 2025 07:29:41 -0800 (PST) X-Relaying-Domain: iol.unh.edu Date: Thu, 13 Nov 2025 07:29:41 -0800 (PST) Message-ID: <6915f965.170a0220.18661.c5b9SMTPIN_ADDED_MISSING@mx.google.com> Received: from [172.21.0.6] (unknown [172.18.0.240]) by postal.iol.unh.edu (Postfix) with ESMTP id 5DEC86051830; Thu, 13 Nov 2025 10:29:40 -0500 (EST) Subject: |SUCCESS| pw158755 [PATCH] [v1] net/axgbe: fix the build warninig fo From: dpdklab@iol.unh.edu To: Test Report Cc: dpdk-test-reports@iol.unh.edu, Stephen Hemminger In-Reply-To: <20251113113055.371-1-VenkatKumar.Ande@amd.com> References: <20251113113055.371-1-VenkatKumar.Ande@amd.com> Content-Type: text/plain X-BeenThere: test-report@dpdk.org X-Mailman-Version: 2.1.29 Precedence: list List-Id: automatic DPDK test reports List-Unsubscribe: , List-Archive: List-Post: List-Help: List-Subscribe: , Errors-To: test-report-bounces@dpdk.org Test-Label: iol-compile-amd64-testing Test-Status: SUCCESS http://dpdk.org/patch/158755 _Testing PASS_ Submitter: Venkat Kumar Ande Date: Thursday, November 13 2025 11:30:55 DPDK git baseline: Repo:dpdk-next-net Branch: master CommitID:29807269854f9bfc72f1323273de8e23adc724d4 158755 --> testing pass Upstream job id: Generic-DPDK-Compile-Meson#443750 Test environment and result as below: +------------------+--------------------+ | Environment | dpdk_meson_compile | +==================+====================+ | Ubuntu 20.04 | PASS | +------------------+--------------------+ | FreeBSD 14.2 | PASS | +------------------+--------------------+ | CentOS Stream 10 | PASS | +------------------+--------------------+ Ubuntu 20.04 Kernel: 4.19 Compiler: gcc gcc (Ubuntu 9.4.0-1ubuntu1~20.04.2) 9.4.0 FreeBSD 14.2 Kernel: 14.2-RELEASE Compiler: clang 18.1.6 CentOS Stream 10 Kernel: 5.15 Compiler: gcc gcc (GCC) 14.2.1 20250110 (Red Hat 14.2.1-8) To view detailed results, visit: https://lab.dpdk.org/results/dashboard/patchsets/34572/ UNH-IOL DPDK Community Lab To manage your email subscriptions, visit: https://lab.dpdk.org/results/dashboard/preferences/subscriptions/