From mboxrd@z Thu Jan 1 00:00:00 1970 Return-Path: Received: from mails.dpdk.org (mails.dpdk.org [217.70.189.124]) by inbox.dpdk.org (Postfix) with ESMTP id B526548AFB for ; Thu, 13 Nov 2025 16:39:23 +0100 (CET) Received: from mails.dpdk.org (localhost [127.0.0.1]) by mails.dpdk.org (Postfix) with ESMTP id 8E7E340151; Thu, 13 Nov 2025 16:39:23 +0100 (CET) Received: from mail-io1-f99.google.com (mail-io1-f99.google.com [209.85.166.99]) by mails.dpdk.org (Postfix) with ESMTP id 16B7740151 for ; Thu, 13 Nov 2025 16:39:22 +0100 (CET) Received: by mail-io1-f99.google.com with SMTP id ca18e2360f4ac-948cda204a7so82829039f.3 for ; Thu, 13 Nov 2025 07:39:22 -0800 (PST) DKIM-Signature: v=1; a=rsa-sha256; c=relaxed/relaxed; d=iol.unh.edu; s=unh-iol; t=1763048361; x=1763653161; darn=dpdk.org; h=references:in-reply-to:cc:to:from:subject:message-id:date:from:to :cc:subject:date:message-id:reply-to; bh=479xoDocwb1ylNuoJfzmzR/n6+YLQraOqToqXoH5f3M=; b=h8SQgT0+KntzJRNTLus2Zx3x/q3YU8ZcDDnls0pqxeG+qomWA2oAOnkDnBI00O0ClB mo/KOorJa3TsuxoZgZrlo7h6oFN8W3KvENJ6y2+kL0sNKdlvZ/SZQr0URAq57OI3hYt1 MQnGC8P1raKvXWQJjupCgq8NedgqYu7t8zNN4= X-Google-DKIM-Signature: v=1; a=rsa-sha256; c=relaxed/relaxed; d=1e100.net; s=20230601; t=1763048361; x=1763653161; h=references:in-reply-to:cc:to:from:subject:message-id:date:x-gm-gg :x-gm-message-state:from:to:cc:subject:date:message-id:reply-to; bh=479xoDocwb1ylNuoJfzmzR/n6+YLQraOqToqXoH5f3M=; b=ABUBhCimyUwEFoUG89st7HlxaQVEIJFsAD/HGh6LwcqXS8q+Ph0HaaThcF2f5D4S/h FEZNvAlj03JXo6gkzumizau+P2Vq/xMkMwJi7b6FhgeV/Qu5Zg6t/m9O2UUrCjo5cTUq LOewvhQL2WddXNnuaEguHCIXvsbjfc0+HhKRwzhNNP50aVXg+xfyJD9uhZQ9FjfIm/v7 AdXQmwMQ8hvldqcJaShCQ375z0z1cVMO6x9qkvVplOy58fDOMvNQ4Ip2SzpwwLhblXZi 6804ZP8fzaItkvUh8XJnVT2G7i5IOqrpZNNlXXnQFK/8Av07i8ZjPjXMM9a15a0pLdTc Uf8A== X-Gm-Message-State: AOJu0YzXN4549AglY24/6dnnq1f2I3zfpl/PnxFbgar3NJLI9E6AfpaJ tdRZhHwbb4hYwlcU4dJLnOwfyn6u01Ex8P/StU1jTM+oDMgv+H97W1XS1gBu173IfkSF4saiVex +1d5tDBv7DC+mf8EZVgokxgu4XNlhW4wrn25JK9Ua7xbVyfpqa8cKuYy3woJo X-Gm-Gg: ASbGncsLN6iDovVWjGD/A8XZN23hNUjB2CmDic6zumicYbwNir7uBVq4VTavpMULFXK 1fyugmuqLoBXUf/flhkLFM6H1M2CxMqXJUd/EcN0V/0QgKxUtfVkLag0LKKf5Grj9CzoDpm+0oG QFmSTiq+pDlbl2x1fXEPm7axoHiaueNLOLM9CY/vZk46R12FvhvTwTdOPP3sQ2CfenZS0ArU4SB QSktNVkPFh/k2UwcsFxcKyI+ygnNb4R8gJd8aUaENiWfiuX4CzKJtJTf/rZ8xQmVOvOY23cXr9l YIhIpexgiH0daOKLWFpWghXhQSEZVi32odHtJx0tVq8BJP0OYIqElothMvzNFetYbjynZpuL8WS 8hOrmRGxc X-Google-Smtp-Source: AGHT+IH2BicTw/T3BbcbhIDOdzm0zQFaiSRK/QaV2AUFCFFSFj5A19gctQMPleE8snD40rjBWGCks4tptzCU X-Received: by 2002:a05:6602:26cd:b0:948:6640:5693 with SMTP id ca18e2360f4ac-948c460e6c9mr922790539f.8.1763048361309; Thu, 13 Nov 2025 07:39:21 -0800 (PST) Received: from postal.iol.unh.edu (postal.iol.unh.edu. [2606:4100:3880:1234::84]) by smtp-relay.gmail.com with ESMTPS id ca18e2360f4ac-948d2bbc996sm11612039f.6.2025.11.13.07.39.21 (version=TLS1_2 cipher=ECDHE-ECDSA-AES128-GCM-SHA256 bits=128/128); Thu, 13 Nov 2025 07:39:21 -0800 (PST) X-Relaying-Domain: iol.unh.edu Date: Thu, 13 Nov 2025 07:39:21 -0800 (PST) Message-ID: <6915fba9.050a0220.3219a9.56d6SMTPIN_ADDED_MISSING@mx.google.com> Received: from [172.21.0.2] (unknown [172.18.0.240]) by postal.iol.unh.edu (Postfix) with ESMTP id D73856051830; Thu, 13 Nov 2025 10:39:20 -0500 (EST) Subject: |SUCCESS| pw158705 [PATCH] net/intel: ensure correct Rx path is sele From: dpdklab@iol.unh.edu To: Test Report Cc: dpdk-test-reports@iol.unh.edu, Bruce Richardson In-Reply-To: <20251112151123.3757688-1-ciara.loftus@intel.com> References: <20251112151123.3757688-1-ciara.loftus@intel.com> Content-Type: text/plain X-BeenThere: test-report@dpdk.org X-Mailman-Version: 2.1.29 Precedence: list List-Id: automatic DPDK test reports List-Unsubscribe: , List-Archive: List-Post: List-Help: List-Subscribe: , Errors-To: test-report-bounces@dpdk.org Test-Label: iol-unit-arm64-testing Test-Status: SUCCESS http://dpdk.org/patch/158705 _Testing PASS_ Submitter: Ciara Loftus Date: Wednesday, November 12 2025 15:11:23 DPDK git baseline: Repo:dpdk-next-net-intel Branch: master CommitID:c63646d076330fb2ef3282cbd413aaf93f0509e6 158705 --> testing pass Upstream job id: Generic-Unit-Test-DPDK#391583 Test environment and result as below: +------------------------------+--------------+---------------------------+------------------------------+----------------+ | Environment | lpm_autotest | cryptodev_sw_zuc_autotest | cryptodev_sw_snow3g_autotest | dpdk_unit_test | +==============================+==============+===========================+==============================+================+ | Ubuntu 20.04 | PASS | SKIPPED | SKIPPED | PASS | +------------------------------+--------------+---------------------------+------------------------------+----------------+ | Debian 12 (arm) | SKIPPED | PASS | PASS | SKIPPED | +------------------------------+--------------+---------------------------+------------------------------+----------------+ | CentOS Stream 10 | SKIPPED | SKIPPED | SKIPPED | PASS | +------------------------------+--------------+---------------------------+------------------------------+----------------+ | Debian GNU/Linux 12 | SKIPPED | SKIPPED | SKIPPED | PASS | +------------------------------+--------------+---------------------------+------------------------------+----------------+ | CentOS Stream 9 | SKIPPED | SKIPPED | SKIPPED | PASS | +------------------------------+--------------+---------------------------+------------------------------+----------------+ | Ubuntu 22.04 | SKIPPED | SKIPPED | SKIPPED | PASS | +------------------------------+--------------+---------------------------+------------------------------+----------------+ | Fedora Linux 42 | SKIPPED | SKIPPED | SKIPPED | PASS | +------------------------------+--------------+---------------------------+------------------------------+----------------+ | Fedora Linux 41 | SKIPPED | SKIPPED | SKIPPED | PASS | +------------------------------+--------------+---------------------------+------------------------------+----------------+ | Fedora Linux 40 | SKIPPED | SKIPPED | SKIPPED | PASS | +------------------------------+--------------+---------------------------+------------------------------+----------------+ | Red Hat Enterprise Linux 9.5 | SKIPPED | SKIPPED | SKIPPED | PASS | +------------------------------+--------------+---------------------------+------------------------------+----------------+ | Ubuntu 24.04 | SKIPPED | SKIPPED | SKIPPED | PASS | +------------------------------+--------------+---------------------------+------------------------------+----------------+ Ubuntu 20.04 Kernel: 5.4 Compiler: gcc gcc (Ubuntu 9.4.0-1ubuntu1~20.04.2) 9.4.0 Debian 12 (arm) Kernel: Depends on container host Compiler: gcc (Debian 12.2.0-14) 12.2.0 CentOS Stream 10 Kernel: 5.4 Compiler: gcc gcc (GCC) 14.2.1 20250110 (Red Hat 14.2.1-8) Debian GNU/Linux 12 Kernel: 5.4 Compiler: gcc gcc (Debian 12.2.0-14+deb12u1) 12.2.0 CentOS Stream 9 Kernel: 5.4 Compiler: gcc gcc (GCC) 11.5.0 20240719 (Red Hat 11.5.0-11) Ubuntu 22.04 Kernel: 5.15 Compiler: gcc gcc (Ubuntu 11.4.0-1ubuntu1~22.04.2) 11.4.0 Fedora Linux 42 Kernel: 5.4 Compiler: clang gcc (GCC) 15.2.1 20250808 (Red Hat 15.2.1-1) Fedora Linux 41 Kernel: 5.4 Compiler: clang gcc (GCC) 14.3.1 20250523 (Red Hat 14.3.1-1) Fedora Linux 40 Kernel: 5.4 Compiler: gcc gcc (GCC) 14.2.1 20240912 (Red Hat 14.2.1-3) Red Hat Enterprise Linux 9.5 Kernel: 5.4 Compiler: gcc gcc (GCC) 11.5.0 20240719 (Red Hat 11.5.0-2) Ubuntu 24.04 Kernel: 5.4 Compiler: gcc gcc (Ubuntu 13.3.0-6ubuntu2~24.04) 13.3.0 To view detailed results, visit: https://lab.dpdk.org/results/dashboard/patchsets/34552/ UNH-IOL DPDK Community Lab To manage your email subscriptions, visit: https://lab.dpdk.org/results/dashboard/preferences/subscriptions/