From mboxrd@z Thu Jan 1 00:00:00 1970 Return-Path: Received: from mails.dpdk.org (mails.dpdk.org [217.70.189.124]) by inbox.dpdk.org (Postfix) with ESMTP id 3D57D48AFB for ; Thu, 13 Nov 2025 16:46:29 +0100 (CET) Received: from mails.dpdk.org (localhost [127.0.0.1]) by mails.dpdk.org (Postfix) with ESMTP id 39A3F40151; Thu, 13 Nov 2025 16:46:29 +0100 (CET) Received: from mail-pj1-f98.google.com (mail-pj1-f98.google.com [209.85.216.98]) by mails.dpdk.org (Postfix) with ESMTP id 0897C40151 for ; Thu, 13 Nov 2025 16:46:27 +0100 (CET) Received: by mail-pj1-f98.google.com with SMTP id 98e67ed59e1d1-343dfb673a8so952097a91.0 for ; Thu, 13 Nov 2025 07:46:26 -0800 (PST) DKIM-Signature: v=1; a=rsa-sha256; c=relaxed/relaxed; d=iol.unh.edu; s=unh-iol; t=1763048786; x=1763653586; darn=dpdk.org; h=references:in-reply-to:cc:to:from:subject:message-id:date:from:to :cc:subject:date:message-id:reply-to; bh=zF+W1SPS/iK4MGz81aEQUQx1ksHOz4fTL4ErrMKvx2I=; b=GJfqTpRP9Qm80rXydsa0UE2RNQhc7+tCdXjxf6PEVm5Z8Cyib3QyyFqQrZoM2wXAGp itaUFeC7IXqwhNy/a+NZ5UQKMbpsFMD08TMz/LOcq+C2ngl13e19/nl1VLgP29K1LLbj tLnughENB4w0n+V2kDDnjPYfNPPN+O+h5ejwI= X-Google-DKIM-Signature: v=1; a=rsa-sha256; c=relaxed/relaxed; d=1e100.net; s=20230601; t=1763048786; x=1763653586; h=references:in-reply-to:cc:to:from:subject:message-id:date:x-gm-gg :x-gm-message-state:from:to:cc:subject:date:message-id:reply-to; bh=zF+W1SPS/iK4MGz81aEQUQx1ksHOz4fTL4ErrMKvx2I=; b=VwYppGUmXyJEQtpSKiy7TUEIe/TjzLikPwzHXgOSKQkjiGjsy3Z78sIko2VqNoGT6q moP47GrOrx4x9FTlNrpAf3pa/hlgLg0RJxUvni1MfM3m9GaPjWM8aX+ElCF8Vwd2qYbV EktQmLhNby7g4MGDUp8eU0ZGAybv6erVwF0b5JePfdvJg9vnTPZ4J5smJmETMQ1vZU4Y b+7n/N80KlFL+EzL6fyxKXDFjtlV4FYstnUdprZDv+aPdCPEE3YqT46vefgTxD41NVfW Vqn99Bv6fE6VbFsvruuFyeG4TrSklKOWccjnEP/NR2k1VV7k7/yy5W0Cr0uhmpX6wSFj z3rQ== X-Gm-Message-State: AOJu0YzVLCOeJA22xzU8WlhmxDVjvOQZRNSr/UrVVL29t0Re2UvTbHbw Dc3Sytjc2bL7rn1gCzc504kWsk7Z96oB4AYMP70iKAwLZJRDzqDuT04yp37XETjfg7y/btZeYAW pEZi6UJd8xVjVjqlJ2o7dRoAHhjU7Y5ory/tiNHyr7CKtJP6u7lZBkEtgx+7P X-Gm-Gg: ASbGncv17YNiJdTQza5+ixmx68IKMc6sawDOd3E5ZWJmfRQpMfXSSZNqJ3CLq4Rq/jl i//1c7wTlMtCrKBTI91tpb47M+GkS8sGhsr3asc0IxBI2q+vwgi0wJChWdHtfXkDMItuszFSC43 a77HktQybPuoASdSOv0n3hVbmQwRLJw23rfBRHjfsslLp1SmKH+dm/w5zUjI180KFHFXOYwUoqK 6qBxdJObLPMSu+L48eSA2LAFJGKZ6p/zeC6eNRV/FLm2+r9EyulYnL561JPOO0LgBqOqWlpAOWn IOKNxSegGkDCIsQKLgmL5/CW+NiKa8F3Hp71hA+K++F0lXnBObJDmjMy6axpUiugU4HNUQKoZQM 1bN3osPPW X-Google-Smtp-Source: AGHT+IGgUys/lO1wLqZoQZdS8RGgtAmIvoZyxwadRyib8KdPYL6ZBL9nDyGH7hxwXcrwkx0h1vnRdPDtdeH8 X-Received: by 2002:a17:90b:4b0e:b0:336:b563:993a with SMTP id 98e67ed59e1d1-343dde82174mr8978779a91.23.1763048786173; Thu, 13 Nov 2025 07:46:26 -0800 (PST) Received: from postal.iol.unh.edu (postal.iol.unh.edu. [2606:4100:3880:1234::84]) by smtp-relay.gmail.com with ESMTPS id 98e67ed59e1d1-343ee0a2455sm252506a91.3.2025.11.13.07.46.26 (version=TLS1_2 cipher=ECDHE-ECDSA-AES128-GCM-SHA256 bits=128/128); Thu, 13 Nov 2025 07:46:26 -0800 (PST) X-Relaying-Domain: iol.unh.edu Date: Thu, 13 Nov 2025 07:46:26 -0800 (PST) Message-ID: <6915fd52.170a0220.399c40.bdf5SMTPIN_ADDED_MISSING@mx.google.com> Received: from [172.21.0.3] (unknown [172.18.0.240]) by postal.iol.unh.edu (Postfix) with ESMTP id 893986050A61; Thu, 13 Nov 2025 10:46:25 -0500 (EST) Subject: |SUCCESS| pw158690-158694 [PATCH] [v2,5/5] bus/fslmc: remove raw dev From: dpdklab@iol.unh.edu To: Test Report Cc: dpdk-test-reports@iol.unh.edu In-Reply-To: <20251112091049.2669481-6-david.marchand@redhat.com> References: <20251112091049.2669481-6-david.marchand@redhat.com> Content-Type: text/plain X-BeenThere: test-report@dpdk.org X-Mailman-Version: 2.1.29 Precedence: list List-Id: automatic DPDK test reports List-Unsubscribe: , List-Archive: List-Post: List-Help: List-Subscribe: , Errors-To: test-report-bounces@dpdk.org Test-Label: iol-unit-amd64-testing Test-Status: SUCCESS http://dpdk.org/patch/158694 _Testing PASS_ Submitter: David Marchand Date: Wednesday, November 12 2025 09:10:48 DPDK git baseline: Repo:dpdk Branch: master CommitID:be0112878b4fc3a1b918370ed2fe615c52039d77 158690-158694 --> testing pass Upstream job id: Generic-VM-Unit-Test-DPDK#32486 Test environment and result as below: +-------------------------------+----------------+ | Environment | dpdk_unit_test | +===============================+================+ | Fedora Linux 40 | PASS | +-------------------------------+----------------+ | CentOS Stream 10 | PASS | +-------------------------------+----------------+ | Red Hat Enterprise Linux 8.10 | PASS | +-------------------------------+----------------+ | Fedora Linux 41 | PASS | +-------------------------------+----------------+ | Fedora Linux 42 | PASS | +-------------------------------+----------------+ | Debian GNU/Linux 12 | PASS | +-------------------------------+----------------+ | CentOS Stream 9 | PASS | +-------------------------------+----------------+ | Ubuntu 24.04 | PASS | +-------------------------------+----------------+ | Ubuntu 20.04 | PASS | +-------------------------------+----------------+ | Ubuntu 22.04 | PASS | +-------------------------------+----------------+ | Red Hat Enterprise Linux 9.5 | PASS | +-------------------------------+----------------+ | Windows Server 2022 | PASS | +-------------------------------+----------------+ Fedora Linux 40 Kernel: 5.15 Compiler: gcc gcc (GCC) 14.2.1 20240912 (Red Hat 14.2.1-3) CentOS Stream 10 Kernel: 5.15 Compiler: gcc gcc (GCC) 14.2.1 20250110 (Red Hat 14.2.1-8) Red Hat Enterprise Linux 8.10 Kernel: 5.15 Compiler: gcc gcc (GCC) 8.5.0 20210514 (Red Hat 8.5.0-22) Fedora Linux 41 Kernel: 5.15 Compiler: clang gcc (GCC) 14.3.1 20250523 (Red Hat 14.3.1-1) Fedora Linux 42 Kernel: 5.15 Compiler: gcc gcc (GCC) 15.2.1 20250808 (Red Hat 15.2.1-1) Debian GNU/Linux 12 Kernel: 5.15 Compiler: gcc gcc (Debian 12.2.0-14+deb12u1) 12.2.0 CentOS Stream 9 Kernel: 5.15 Compiler: gcc gcc (GCC) 11.5.0 20240719 (Red Hat 11.5.0-11) Ubuntu 24.04 Kernel: 5.15 Compiler: gcc gcc (Ubuntu 13.3.0-6ubuntu2~24.04) 13.3.0 Ubuntu 20.04 Kernel: 5.15 Compiler: gcc gcc (Ubuntu 9.4.0-1ubuntu1~20.04.2) 9.4.0 Ubuntu 22.04 Kernel: 5.15 Compiler: gcc gcc (Ubuntu 11.4.0-1ubuntu1~22.04) 11.4.0 Red Hat Enterprise Linux 9.5 Kernel: 5.15 Compiler: gcc gcc (GCC) 11.5.0 20240719 (Red Hat 11.5.0-2) Windows Server 2022 Kernel: 10.0.20348.2031 Compiler: clang 15.0.7, gcc 14.1.0 (MinGW), and MSVC VS 19.39.33521 To view detailed results, visit: https://lab.dpdk.org/results/dashboard/patchsets/34543/ UNH-IOL DPDK Community Lab To manage your email subscriptions, visit: https://lab.dpdk.org/results/dashboard/preferences/subscriptions/