From mboxrd@z Thu Jan 1 00:00:00 1970 Return-Path: Received: from mails.dpdk.org (mails.dpdk.org [217.70.189.124]) by inbox.dpdk.org (Postfix) with ESMTP id DEB3148AFB for ; Thu, 13 Nov 2025 17:21:11 +0100 (CET) Received: from mails.dpdk.org (localhost [127.0.0.1]) by mails.dpdk.org (Postfix) with ESMTP id D7AEF40151; Thu, 13 Nov 2025 17:21:11 +0100 (CET) Received: from mail-pl1-f225.google.com (mail-pl1-f225.google.com [209.85.214.225]) by mails.dpdk.org (Postfix) with ESMTP id 8D88640151 for ; Thu, 13 Nov 2025 17:21:10 +0100 (CET) Received: by mail-pl1-f225.google.com with SMTP id d9443c01a7336-29844c68068so8827625ad.2 for ; Thu, 13 Nov 2025 08:21:10 -0800 (PST) DKIM-Signature: v=1; a=rsa-sha256; c=relaxed/relaxed; d=iol.unh.edu; s=unh-iol; t=1763050870; x=1763655670; darn=dpdk.org; h=references:in-reply-to:cc:to:from:subject:message-id:date:from:to :cc:subject:date:message-id:reply-to; bh=NS64K7B4YavVWD9UN1AgBEqGi754fR8YyR/o6SqSbIE=; b=CjZepYyYvlaQWjJF1YFoRh1DcNDsvcWfGTOvgGWLKydbsMToCfXA71D1i5WCJhJSVb sZFc6jrg/KSHmD5rb1a38bB4CBSrk8YJBJLmqZQcfOmaGe1UMAH2qHwXGcVnOXAvkXx5 JlCR7/V/rDkaxhm761Hi1GKeieQCCIRGfPeGo= X-Google-DKIM-Signature: v=1; a=rsa-sha256; c=relaxed/relaxed; d=1e100.net; s=20230601; t=1763050870; x=1763655670; h=references:in-reply-to:cc:to:from:subject:message-id:date:x-gm-gg :x-gm-message-state:from:to:cc:subject:date:message-id:reply-to; bh=NS64K7B4YavVWD9UN1AgBEqGi754fR8YyR/o6SqSbIE=; b=rnuSH3wqz0atwfACGJHjRXJoW0CZP6AM0tgWZ2qKqnhX4+Kdg/GgNBaF+5FZ5sVuZ/ gb5DNItnEcPtDLegD/mBzwX2W5fO23CarXxOMbDNGrY0qHp2/BP1q5RLNbq6ePjONZIc onXlM6WoBlio6zrbrI1izZGHIZhfMfO97omLB5cnfq3rc9YODQ68Lcbj7I1nAAvWDryV i7qiOXLTglalKEdx5LPIyqW3XGCTRJKXq+JwYO+KyR09coku/WYMfMzBi92AOleFaOqT mX1IJ8xlVhx8VclXJQWHwGkb47njDod7SiLQt7EallKRqcq6tigneE/Xp7BVIceWPQ6U gnIg== X-Gm-Message-State: AOJu0YzfkxD303lPEHBfNpBL6jqgdzf7IkM+U0a2xA4lfjnUGz2q2jFw t59n6mcRQYMJ+w7YKbkKPdV6vj96FnEoVUcFu0mjKugHB9oTCTevqd81/8vyMy01nEwiDoat9Bv 75ug3Ggrw3qog8wKqGWAeNg2XRDqSl0IKECJAxcTLQUO/ X-Gm-Gg: ASbGncsSJNx639HGJbODofSPPVvq071FMseamYnkjso16YMs8MpVlLDrWFTghBjSg13 AmROhhCNWqvJ062Vz2oPwMvHyogOT+/HtkIgWHvHXfrOV4WwAIVuUaq6F2afgQqNuidjKCJxmJZ BfzldahvaE21SLlpxYNkxn+hQ+JvMzrvJNKvEHcLtNZwSEbFPmsmsDzttaEkHltJJKQoxgSGDWd ASx72qf548hG7MBr0EcWXJuyiAz5EvAPipLkV4McY1lVruKCvTXCWYjZcWEYLp2dRJfPygluvO3 IJoEYauwizDAFMF+odTr+GZRtIuoQv0rVLyW8moTpA0WaqlUE2ruCcrwpSCAcWkI44qrOQf/sNX i5zzCI7tJm6xG2/zAV5U4YK9fOtfYeh0= X-Google-Smtp-Source: AGHT+IEDe30MlWHrYf8YUQsZi3nm4cdzhIFonM8xfcZs4XB/dEGItCHzFuM2nFnZ15o/MLUNuyy6jwFFdfpM X-Received: by 2002:a17:902:dace:b0:295:915d:1eed with SMTP id d9443c01a7336-2984edcd3b4mr91343645ad.47.1763050869480; Thu, 13 Nov 2025 08:21:09 -0800 (PST) Received: from postal.iol.unh.edu (postal.iol.unh.edu. [132.177.123.84]) by smtp-relay.gmail.com with ESMTPS id d9443c01a7336-2985c2b7a93sm2774045ad.43.2025.11.13.08.21.09 (version=TLS1_2 cipher=ECDHE-ECDSA-AES128-GCM-SHA256 bits=128/128); Thu, 13 Nov 2025 08:21:09 -0800 (PST) X-Relaying-Domain: iol.unh.edu Date: Thu, 13 Nov 2025 08:21:09 -0800 (PST) Message-ID: <69160575.170a0220.2535f6.d9afSMTPIN_ADDED_MISSING@mx.google.com> Received: from [172.21.0.2] (unknown [172.18.0.240]) by postal.iol.unh.edu (Postfix) with ESMTP id DF679604D420; Thu, 13 Nov 2025 11:21:08 -0500 (EST) Subject: |SUCCESS| pw158739-158743 [PATCH] [v2,5/5] bus/fslmc: add support fo From: dpdklab@iol.unh.edu To: Test Report Cc: dpdk-test-reports@iol.unh.edu, Stephen Hemminger In-Reply-To: <20251113052931.1784953-5-hemant.agrawal@nxp.com> References: <20251113052931.1784953-5-hemant.agrawal@nxp.com> Content-Type: text/plain X-BeenThere: test-report@dpdk.org X-Mailman-Version: 2.1.29 Precedence: list List-Id: automatic DPDK test reports List-Unsubscribe: , List-Archive: List-Post: List-Help: List-Subscribe: , Errors-To: test-report-bounces@dpdk.org Test-Label: iol-compile-amd64-testing Test-Status: SUCCESS http://dpdk.org/patch/158743 _Testing PASS_ Submitter: Hemant Agrawal Date: Thursday, November 13 2025 05:29:31 DPDK git baseline: Repo:dpdk-next-net Branch: master CommitID:29807269854f9bfc72f1323273de8e23adc724d4 158739-158743 --> testing pass Upstream job id: Generic-DPDK-Compile-Meson#443763 Test environment and result as below: +-------------------------------+--------------------+------------------+ | Environment | dpdk_meson_compile | dpdk_compile_ovs | +===============================+====================+==================+ | Ubuntu 20.04 | PASS | SKIPPED | +-------------------------------+--------------------+------------------+ | FreeBSD 14.2 | PASS | SKIPPED | +-------------------------------+--------------------+------------------+ | CentOS Stream 9 | PASS | SKIPPED | +-------------------------------+--------------------+------------------+ | CentOS Stream 10 | PASS | SKIPPED | +-------------------------------+--------------------+------------------+ | Debian GNU/Linux 12 | PASS | SKIPPED | +-------------------------------+--------------------+------------------+ | Fedora Linux 42 | PASS | PASS | +-------------------------------+--------------------+------------------+ | openSUSE Leap 15.6 | PASS | SKIPPED | +-------------------------------+--------------------+------------------+ | Red Hat Enterprise Linux 8.10 | PASS | SKIPPED | +-------------------------------+--------------------+------------------+ | Red Hat Enterprise Linux 9.5 | PASS | SKIPPED | +-------------------------------+--------------------+------------------+ | Ubuntu 22.04 | PASS | SKIPPED | +-------------------------------+--------------------+------------------+ | Ubuntu 24.04 | PASS | PASS | +-------------------------------+--------------------+------------------+ | Alpine Linux 3.22.0 | PASS | SKIPPED | +-------------------------------+--------------------+------------------+ Ubuntu 20.04 Kernel: 4.19 Compiler: gcc gcc (Ubuntu 9.4.0-1ubuntu1~20.04.2) 9.4.0 FreeBSD 14.2 Kernel: 14.2-RELEASE Compiler: clang 18.1.6 CentOS Stream 9 Kernel: 5.15 Compiler: gcc gcc (GCC) 11.5.0 20240719 (Red Hat 11.5.0-11) CentOS Stream 10 Kernel: 5.15 Compiler: gcc gcc (GCC) 14.2.1 20250110 (Red Hat 14.2.1-8) Debian GNU/Linux 12 Kernel: 5.15 Compiler: gcc gcc (Debian 12.2.0-14+deb12u1) 12.2.0 Fedora Linux 42 Kernel: 5.15 Compiler: clang gcc (GCC) 15.2.1 20250808 (Red Hat 15.2.1-1) openSUSE Leap 15.6 Kernel: 5.15 Compiler: gcc gcc (SUSE Linux) 7.5.0 Red Hat Enterprise Linux 8.10 Kernel: 5.15 Compiler: gcc gcc (GCC) 8.5.0 20210514 (Red Hat 8.5.0-22) Red Hat Enterprise Linux 9.5 Kernel: 5.15 Compiler: gcc gcc (GCC) 11.5.0 20240719 (Red Hat 11.5.0-2) Ubuntu 22.04 Kernel: 5.15 Compiler: gcc gcc (Ubuntu 11.4.0-1ubuntu1~22.04) 11.4.0 Ubuntu 24.04 Kernel: 5.15 Compiler: gcc gcc (Ubuntu 13.3.0-6ubuntu2~24.04) 13.3.0 Alpine Linux 3.22.0 Kernel: 5.15 Compiler: gcc gcc (Alpine 14.2.0) 14.2.0 To view detailed results, visit: https://lab.dpdk.org/results/dashboard/patchsets/34563/ UNH-IOL DPDK Community Lab To manage your email subscriptions, visit: https://lab.dpdk.org/results/dashboard/preferences/subscriptions/