From mboxrd@z Thu Jan 1 00:00:00 1970 Return-Path: Received: from mails.dpdk.org (mails.dpdk.org [217.70.189.124]) by inbox.dpdk.org (Postfix) with ESMTP id CD3B648AFB for ; Thu, 13 Nov 2025 17:29:06 +0100 (CET) Received: from mails.dpdk.org (localhost [127.0.0.1]) by mails.dpdk.org (Postfix) with ESMTP id A4FF340151; Thu, 13 Nov 2025 17:29:06 +0100 (CET) Received: from mail-pj1-f98.google.com (mail-pj1-f98.google.com [209.85.216.98]) by mails.dpdk.org (Postfix) with ESMTP id DB28140151 for ; Thu, 13 Nov 2025 17:29:04 +0100 (CET) Received: by mail-pj1-f98.google.com with SMTP id 98e67ed59e1d1-3418ad69672so747412a91.3 for ; Thu, 13 Nov 2025 08:29:04 -0800 (PST) DKIM-Signature: v=1; a=rsa-sha256; c=relaxed/relaxed; d=iol.unh.edu; s=unh-iol; t=1763051344; x=1763656144; darn=dpdk.org; h=references:in-reply-to:cc:to:from:subject:message-id:date:from:to :cc:subject:date:message-id:reply-to; bh=nldErk+FRH4x8ih5bRUBmYTPglIp3VJZ7LRKkOlHTvY=; b=Bchk7RHo1caeuxvXPGeOVedbZlscvrTJoyx5q+0lsQbkhfU0hZdlXk1XOp0v9whHzT pY7SlgBEtAed8xu9n7iWRjGUpraDTRjcbsC3m6MS1sUeeNcGDoQYilm7QQDqVVVJOtCa 00OPzLWU5fkNVJ1zEwasmVnrwoK3KFabH6T70= X-Google-DKIM-Signature: v=1; a=rsa-sha256; c=relaxed/relaxed; d=1e100.net; s=20230601; t=1763051344; x=1763656144; h=references:in-reply-to:cc:to:from:subject:message-id:date:x-gm-gg :x-gm-message-state:from:to:cc:subject:date:message-id:reply-to; bh=nldErk+FRH4x8ih5bRUBmYTPglIp3VJZ7LRKkOlHTvY=; b=oThmnvGL5NK1Ihnba+vpt6eDTjXf48BdFr0JlEyq9CIpT8AqVYCnztbtemUHnS9+HK MH85k3ZH7jxEuE6MJhp+kfhZkpf+JAau1Oy3gY4F+7gSKNOqc5afj8oqlyLNkFkPfxcN 5Gun06VF6u1Ae4juQKrCI/6r3MsOmvQiIu1T4fK5A6NUBnrmP8tXMfo9bswo9Z3aofen 0oJjUqhIB8te8CoRmE6HeXoDqUdIHa5HodscKcOaR1KFv/4fZ8RyFzDYvdzbWYArbx+u EScwJ4GH3nnhWwb2IEh0cBXmvRDvwxNRqvCW/m3CQkwqOrZvHwBxjSVO+egdU+/MIVwk wI3A== X-Gm-Message-State: AOJu0YyE8Ve8khr9WYsQgaY3K3X4K1NOFMHKQkvAzexhJRbicNd6VpLZ TWvBCRe2sDTCDFLYA12hYf05wzbZrG91WS4H7PQkuQb2RqW1jksWGvg3NuPvO9PQ04GzrI1BviJ 4yB396ZbQEjR6XKeaF7JNN9h/KkBoFLF61ZgxDTuuWbPQ X-Gm-Gg: ASbGncuTIXk9Y7ktHaVu1FroPJhkGVrx+WDLcH5QYpGgAufrm9NvfBisqThf6Xy115q nab3QIMQXcizAgvfSyHbkzNpAp+Pa3gqX1f4BKMlvvKAKcg/SSTr7oSxDTd2yDfY/WBNFTiGujW MWWifIaVtC42OR5aSNl1ohx/99gPTKL3xvsvsbAkHeI3qROaGHPmq6zj48YVhlnYqqds2P/5frN X+5XuzlejwK9y8o7PUbFnl6mN9Tw2jtrLGbA3dJL6acXxNa62peVCU01khs3j0lJ+obMZaRyT/z BCh4fvescnWWdhZSL8dTaGAY+kQ9GHZzE3n5QCw1aMYYQzjHuNdHU6Yj1Awrd24s/kMYqyzsgaW CIqJVibdsgQS9+khQH+huQxuidVT7M14= X-Google-Smtp-Source: AGHT+IEapc9cvu24nw+/MXM1JyqKVQrv0aThtxOM7lmt+GH+SIJvEjuagiTuLR1GwuxbXhCYOojCUcqQEIxg X-Received: by 2002:a17:90b:4c4a:b0:341:88c5:2073 with SMTP id 98e67ed59e1d1-343dddd439dmr7896902a91.2.1763051344002; Thu, 13 Nov 2025 08:29:04 -0800 (PST) Received: from postal.iol.unh.edu (postal.iol.unh.edu. [132.177.123.84]) by smtp-relay.gmail.com with ESMTPS id 98e67ed59e1d1-343ed570798sm299610a91.5.2025.11.13.08.29.03 (version=TLS1_2 cipher=ECDHE-ECDSA-AES128-GCM-SHA256 bits=128/128); Thu, 13 Nov 2025 08:29:03 -0800 (PST) X-Relaying-Domain: iol.unh.edu Date: Thu, 13 Nov 2025 08:29:03 -0800 (PST) Message-ID: <6916074f.170a0220.8ead.e1faSMTPIN_ADDED_MISSING@mx.google.com> Received: from [172.21.0.2] (unknown [172.18.0.240]) by postal.iol.unh.edu (Postfix) with ESMTP id 369D360003E8; Thu, 13 Nov 2025 11:29:03 -0500 (EST) Subject: |SUCCESS| pw158744 [PATCH] net/mlx5: fix cross GVMI metadata match f From: dpdklab@iol.unh.edu To: Test Report Cc: dpdk-test-reports@iol.unh.edu In-Reply-To: <20251113071746.434067-1-getelson@nvidia.com> References: <20251113071746.434067-1-getelson@nvidia.com> Content-Type: text/plain X-BeenThere: test-report@dpdk.org X-Mailman-Version: 2.1.29 Precedence: list List-Id: automatic DPDK test reports List-Unsubscribe: , List-Archive: List-Post: List-Help: List-Subscribe: , Errors-To: test-report-bounces@dpdk.org Test-Label: iol-compile-amd64-testing Test-Status: SUCCESS http://dpdk.org/patch/158744 _Testing PASS_ Submitter: Gregory Etelson Date: Thursday, November 13 2025 07:17:45 DPDK git baseline: Repo:dpdk-next-net-mlx Branch: master CommitID:ae657d56b1f0ea979b3f611edf28d773efc2ddcf 158744 --> testing pass Upstream job id: Generic-DPDK-Compile-Meson#443794 Test environment and result as below: +-------------------------------+--------------------+------------------+ | Environment | dpdk_meson_compile | dpdk_compile_ovs | +===============================+====================+==================+ | FreeBSD 14.2 | PASS | SKIPPED | +-------------------------------+--------------------+------------------+ | Ubuntu 20.04 | PASS | SKIPPED | +-------------------------------+--------------------+------------------+ | CentOS Stream 9 | PASS | SKIPPED | +-------------------------------+--------------------+------------------+ | CentOS Stream 10 | PASS | SKIPPED | +-------------------------------+--------------------+------------------+ | Debian GNU/Linux 12 | PASS | SKIPPED | +-------------------------------+--------------------+------------------+ | Fedora Linux 42 | PASS | PASS | +-------------------------------+--------------------+------------------+ | openSUSE Leap 15.6 | PASS | SKIPPED | +-------------------------------+--------------------+------------------+ | Red Hat Enterprise Linux 9.5 | PASS | SKIPPED | +-------------------------------+--------------------+------------------+ | Red Hat Enterprise Linux 8.10 | PASS | SKIPPED | +-------------------------------+--------------------+------------------+ | Ubuntu 22.04 | PASS | SKIPPED | +-------------------------------+--------------------+------------------+ | Alpine Linux 3.22.0 | PASS | SKIPPED | +-------------------------------+--------------------+------------------+ | Ubuntu 24.04 | PASS | PASS | +-------------------------------+--------------------+------------------+ FreeBSD 14.2 Kernel: 14.2-RELEASE Compiler: clang 18.1.6 Ubuntu 20.04 Kernel: 4.19 Compiler: gcc gcc (Ubuntu 9.4.0-1ubuntu1~20.04.2) 9.4.0 CentOS Stream 9 Kernel: 5.15 Compiler: gcc gcc (GCC) 11.5.0 20240719 (Red Hat 11.5.0-11) CentOS Stream 10 Kernel: 5.15 Compiler: gcc gcc (GCC) 14.2.1 20250110 (Red Hat 14.2.1-8) Debian GNU/Linux 12 Kernel: 5.15 Compiler: gcc gcc (Debian 12.2.0-14+deb12u1) 12.2.0 Fedora Linux 42 Kernel: 5.15 Compiler: clang gcc (GCC) 15.2.1 20250808 (Red Hat 15.2.1-1) openSUSE Leap 15.6 Kernel: 5.15 Compiler: gcc gcc (SUSE Linux) 7.5.0 Red Hat Enterprise Linux 9.5 Kernel: 5.15 Compiler: gcc gcc (GCC) 11.5.0 20240719 (Red Hat 11.5.0-2) Red Hat Enterprise Linux 8.10 Kernel: 5.15 Compiler: gcc gcc (GCC) 8.5.0 20210514 (Red Hat 8.5.0-22) Ubuntu 22.04 Kernel: 5.15 Compiler: gcc gcc (Ubuntu 11.4.0-1ubuntu1~22.04) 11.4.0 Alpine Linux 3.22.0 Kernel: 5.15 Compiler: gcc gcc (Alpine 14.2.0) 14.2.0 Ubuntu 24.04 Kernel: 5.15 Compiler: gcc gcc (Ubuntu 13.3.0-6ubuntu2~24.04) 13.3.0 To view detailed results, visit: https://lab.dpdk.org/results/dashboard/patchsets/34564/ UNH-IOL DPDK Community Lab To manage your email subscriptions, visit: https://lab.dpdk.org/results/dashboard/preferences/subscriptions/