From mboxrd@z Thu Jan 1 00:00:00 1970 Return-Path: Received: from mails.dpdk.org (mails.dpdk.org [217.70.189.124]) by inbox.dpdk.org (Postfix) with ESMTP id CD54D48AFB for ; Thu, 13 Nov 2025 17:30:16 +0100 (CET) Received: from mails.dpdk.org (localhost [127.0.0.1]) by mails.dpdk.org (Postfix) with ESMTP id C735640151; Thu, 13 Nov 2025 17:30:16 +0100 (CET) Received: from mail-yx1-f99.google.com (mail-yx1-f99.google.com [74.125.224.99]) by mails.dpdk.org (Postfix) with ESMTP id 8238840151 for ; Thu, 13 Nov 2025 17:30:15 +0100 (CET) Received: by mail-yx1-f99.google.com with SMTP id 956f58d0204a3-640c857ce02so955477d50.0 for ; Thu, 13 Nov 2025 08:30:15 -0800 (PST) DKIM-Signature: v=1; a=rsa-sha256; c=relaxed/relaxed; d=iol.unh.edu; s=unh-iol; t=1763051415; x=1763656215; darn=dpdk.org; h=references:in-reply-to:cc:to:from:subject:message-id:date:from:to :cc:subject:date:message-id:reply-to; bh=l3HYvOcsItW1OUkqIDvxhx5VYKwg6xRbwt5cEkmSFyI=; b=RZY7WpVVVAY/qgXo3IH/hRqagBYW/k/hgIrRqEGPvD+hdVWYS0PlwiHlFBpQEaBBlC 3SOHsVN+E/Yh8n7mp1pTBlrKLp/3gIUpuGK8ZjPS2cyANjsN1OsMZEyhr4a8XCAv+lyO 0FOeqRb5c7Owk2eoRiULfJUEgKYduv4KZQN1Q= X-Google-DKIM-Signature: v=1; a=rsa-sha256; c=relaxed/relaxed; d=1e100.net; s=20230601; t=1763051415; x=1763656215; h=references:in-reply-to:cc:to:from:subject:message-id:date:x-gm-gg :x-gm-message-state:from:to:cc:subject:date:message-id:reply-to; bh=l3HYvOcsItW1OUkqIDvxhx5VYKwg6xRbwt5cEkmSFyI=; b=KYkUWMg/u5jKQgbK9e7dp+kUa+NEyNKI05d/Q9tUylr4VvDzhK7zBNTjHgr8LD0cUm 1lgcAR/CxbEdRXfY+42BsG1bEv5gxFs4fhh1DP+0bhNlsMWOqUK4bbWwY+Gkg9JjshPn OI07/gpos2t0EJFnsnCx48/sS4LzAQOWL5znIMiHdwRp7N4NdvgXjsgly+ecCZ8YRwCK hieldKd567efagh1s7J/Jv82StypcBNoJFVl9Ka70D7bhkKv1sViOHqyV6Bhyu9RQgjf m9+fbSb/U72LTg27f49LGHT8gS30tSRCnWkidm0wDujnsIVz8P2spkkqBjqSNF4W6wOO /fag== X-Gm-Message-State: AOJu0YycRZIc2V3Uwp6I/Hzgy4biD1rxkxYvyCBupTSqtq+ICuMp9yj/ BgPG6dx2pASJLbESjnkM9g6UXjMkzaCrmMxf/98AhmSPCX8qFQFTjcz1X4VAy0lJ5F1/ZZE8J2P bY2HBMllXSIzx4GUqUK+qu9e/iojQF6jfVrjIbnlYxDuk X-Gm-Gg: ASbGnctnXCWOVPDc1LgN4P3noRlrLU1OY0WhXTQ3Tbln0rGsF5jdBn6EWWP6TT/H80H ts8JOItgGeAbv4G3BPzZmYrBDm4vZJdrYfL+7QocVjT1NacRaaJOlq37cX3ejkR6LD+PJyQB1aA I+86VeZ4hTdbUcvw8WjI/jfGWbe4DqzIwpLSd6pYIS4GPTUpnkYbikYF8MgwMo1He5Wn5m7C9rR AJTz+cMcchzREn/O/7HBcrC7vI0afYvKzNNhpRF/+RBpGfRiW2ddlSIecHZC1v6xqFsHvoLzBrL kcXIaC8VK30IDeNiisvLoFXWcT2+Z7n4RIYtASJzCWSta2o2ulffBRiSEEZVVYQaRUSGfm9b8/Y EjK3u57gn6ABH92iPh7BFeWiN6Falb7o= X-Google-Smtp-Source: AGHT+IEV//7l+ZZz7zauYVXM+1EYdMvodLA61PQmDO8B5Sr9k/OwKfmZm4qOr96Uy7rsJFFjTOGyQZ3K+wDo X-Received: by 2002:a53:c053:0:10b0:63f:a165:b9ed with SMTP id 956f58d0204a3-641e74dbeaamr5297d50.6.1763051414669; Thu, 13 Nov 2025 08:30:14 -0800 (PST) Received: from postal.iol.unh.edu (postal.iol.unh.edu. [132.177.123.84]) by smtp-relay.gmail.com with ESMTPS id 956f58d0204a3-6410eaccb12sm158953d50.11.2025.11.13.08.30.14 (version=TLS1_2 cipher=ECDHE-ECDSA-AES128-GCM-SHA256 bits=128/128); Thu, 13 Nov 2025 08:30:14 -0800 (PST) X-Relaying-Domain: iol.unh.edu Date: Thu, 13 Nov 2025 08:30:14 -0800 (PST) Message-ID: <69160796.050a0220.272b66.7208SMTPIN_ADDED_MISSING@mx.google.com> Received: from [172.21.0.3] (unknown [172.18.0.240]) by postal.iol.unh.edu (Postfix) with ESMTP id 502566051830; Thu, 13 Nov 2025 11:30:14 -0500 (EST) Subject: |SUCCESS| pw158699 [PATCH] net/ice: fix path selection for QinQ Tx o From: dpdklab@iol.unh.edu To: Test Report Cc: dpdk-test-reports@iol.unh.edu, Bruce Richardson In-Reply-To: <20251112115726.1286735-1-bruce.richardson@intel.com> References: <20251112115726.1286735-1-bruce.richardson@intel.com> Content-Type: text/plain X-BeenThere: test-report@dpdk.org X-Mailman-Version: 2.1.29 Precedence: list List-Id: automatic DPDK test reports List-Unsubscribe: , List-Archive: List-Post: List-Help: List-Subscribe: , Errors-To: test-report-bounces@dpdk.org Test-Label: iol-compile-amd64-testing Test-Status: SUCCESS http://dpdk.org/patch/158699 _Testing PASS_ Submitter: Bruce Richardson Date: Wednesday, November 12 2025 11:57:26 DPDK git baseline: Repo:dpdk-next-net-intel Branch: master CommitID:1655dc989bc95fa85fc76d32912d2e46c0851148 158699 --> testing pass Upstream job id: Windows-Compile-DPDK-VS#7516 Test environment and result as below: +-------------------------------+--------------------+------------------+-------------------+ | Environment | dpdk_meson_compile | dpdk_compile_ovs | dpdk_msvc_compile | +===============================+====================+==================+===================+ | Ubuntu 20.04 | PASS | SKIPPED | SKIPPED | +-------------------------------+--------------------+------------------+-------------------+ | FreeBSD 14.2 | PASS | SKIPPED | SKIPPED | +-------------------------------+--------------------+------------------+-------------------+ | CentOS Stream 9 | PASS | SKIPPED | SKIPPED | +-------------------------------+--------------------+------------------+-------------------+ | CentOS Stream 10 | PASS | SKIPPED | SKIPPED | +-------------------------------+--------------------+------------------+-------------------+ | Debian GNU/Linux 12 | PASS | SKIPPED | SKIPPED | +-------------------------------+--------------------+------------------+-------------------+ | Fedora Linux 42 | PASS | PASS | SKIPPED | +-------------------------------+--------------------+------------------+-------------------+ | openSUSE Leap 15.6 | PASS | SKIPPED | SKIPPED | +-------------------------------+--------------------+------------------+-------------------+ | Red Hat Enterprise Linux 8.10 | PASS | SKIPPED | SKIPPED | +-------------------------------+--------------------+------------------+-------------------+ | Red Hat Enterprise Linux 9.5 | PASS | SKIPPED | SKIPPED | +-------------------------------+--------------------+------------------+-------------------+ | Ubuntu 22.04 | PASS | SKIPPED | SKIPPED | +-------------------------------+--------------------+------------------+-------------------+ | Ubuntu 24.04 | PASS | PASS | SKIPPED | +-------------------------------+--------------------+------------------+-------------------+ | Alpine Linux 3.22.0 | PASS | SKIPPED | SKIPPED | +-------------------------------+--------------------+------------------+-------------------+ | Windows Server 2022 | SKIPPED | SKIPPED | PASS | +-------------------------------+--------------------+------------------+-------------------+ Ubuntu 20.04 Kernel: 4.19 Compiler: gcc gcc (Ubuntu 9.4.0-1ubuntu1~20.04.2) 9.4.0 FreeBSD 14.2 Kernel: 14.2-RELEASE Compiler: clang 18.1.6 CentOS Stream 9 Kernel: 5.15 Compiler: gcc gcc (GCC) 11.5.0 20240719 (Red Hat 11.5.0-11) CentOS Stream 10 Kernel: 5.15 Compiler: gcc gcc (GCC) 14.2.1 20250110 (Red Hat 14.2.1-8) Debian GNU/Linux 12 Kernel: 5.15 Compiler: gcc gcc (Debian 12.2.0-14+deb12u1) 12.2.0 Fedora Linux 42 Kernel: 5.15 Compiler: clang gcc (GCC) 15.2.1 20250808 (Red Hat 15.2.1-1) openSUSE Leap 15.6 Kernel: 5.15 Compiler: gcc gcc (SUSE Linux) 7.5.0 Red Hat Enterprise Linux 8.10 Kernel: 5.15 Compiler: gcc gcc (GCC) 8.5.0 20210514 (Red Hat 8.5.0-22) Red Hat Enterprise Linux 9.5 Kernel: 5.15 Compiler: gcc gcc (GCC) 11.5.0 20240719 (Red Hat 11.5.0-2) Ubuntu 22.04 Kernel: 5.15 Compiler: gcc gcc (Ubuntu 11.4.0-1ubuntu1~22.04) 11.4.0 Ubuntu 24.04 Kernel: 5.15 Compiler: gcc gcc (Ubuntu 13.3.0-6ubuntu2~24.04) 13.3.0 Alpine Linux 3.22.0 Kernel: 5.15 Compiler: gcc gcc (Alpine 14.2.0) 14.2.0 Windows Server 2022 Kernel: 10.0.20348.2031 Compiler: clang 15.0.7, gcc 14.1.0 (MinGW), and MSVC VS 19.39.33521 To view detailed results, visit: https://lab.dpdk.org/results/dashboard/patchsets/34548/ UNH-IOL DPDK Community Lab To manage your email subscriptions, visit: https://lab.dpdk.org/results/dashboard/preferences/subscriptions/