From: dpdklab@iol.unh.edu
To: Test Report <test-report@dpdk.org>
Cc: dpdk-test-reports@iol.unh.edu,
Stephen Hemminger <stephen@networkplumber.org>
Subject: |SUCCESS| pw158752 [PATCH] ethdev: add GENEVE encapsulation and deca
Date: Thu, 13 Nov 2025 08:34:10 -0800 (PST) [thread overview]
Message-ID: <69160882.170a0220.6d491.ce3aSMTPIN_ADDED_MISSING@mx.google.com> (raw)
In-Reply-To: <20251113102158.48040-1-sunyang.wu@jaguarmicro.com>
Test-Label: iol-compile-amd64-testing
Test-Status: SUCCESS
http://dpdk.org/patch/158752
_Testing PASS_
Submitter: Sunyang Wu <sunyang.wu@jaguarmicro.com>
Date: Thursday, November 13 2025 10:21:58
DPDK git baseline: Repo:dpdk-next-net
Branch: master
CommitID:29807269854f9bfc72f1323273de8e23adc724d4
158752 --> testing pass
Upstream job id: Generic-DPDK-Compile-Meson#443808
Test environment and result as below:
+---------------------+--------------------+-------------------+
| Environment | dpdk_meson_compile | dpdk_msvc_compile |
+=====================+====================+===================+
| Ubuntu 20.04 | PASS | SKIPPED |
+---------------------+--------------------+-------------------+
| FreeBSD 14.2 | PASS | SKIPPED |
+---------------------+--------------------+-------------------+
| Ubuntu 22.04 | PASS | SKIPPED |
+---------------------+--------------------+-------------------+
| Windows Server 2022 | SKIPPED | PASS |
+---------------------+--------------------+-------------------+
Ubuntu 20.04
Kernel: 4.19
Compiler: gcc gcc (Ubuntu 9.4.0-1ubuntu1~20.04.2) 9.4.0
FreeBSD 14.2
Kernel: 14.2-RELEASE
Compiler: clang 18.1.6
Ubuntu 22.04
Kernel: 5.15
Compiler: gcc gcc (Ubuntu 11.4.0-1ubuntu1~22.04) 11.4.0
Windows Server 2022
Kernel: 10.0.20348.2031
Compiler: clang 15.0.7, gcc 14.1.0 (MinGW), and MSVC VS 19.39.33521
To view detailed results, visit:
https://lab.dpdk.org/results/dashboard/patchsets/34569/
UNH-IOL DPDK Community Lab
To manage your email subscriptions, visit:
https://lab.dpdk.org/results/dashboard/preferences/subscriptions/
next prev parent reply other threads:[~2025-11-13 16:34 UTC|newest]
Thread overview: 21+ messages / expand[flat|nested] mbox.gz Atom feed top
[not found] <20251113102158.48040-1-sunyang.wu@jaguarmicro.com>
2025-11-13 9:50 ` |SUCCESS| pw158752 [PATCH] ethdev: add GENEVE encapsulation and decapsulation actions qemudev
2025-11-13 9:55 ` qemudev
2025-11-13 10:24 ` checkpatch
2025-11-13 11:19 ` |SUCCESS| pw158752 [PATCH] ethdev: add GENEVE encapsulation and deca dpdklab
2025-11-13 11:31 ` dpdklab
2025-11-13 11:52 ` dpdklab
2025-11-13 11:55 ` dpdklab
2025-11-13 11:58 ` |PENDING| " dpdklab
2025-11-13 12:01 ` dpdklab
2025-11-13 12:15 ` |SUCCESS| " dpdklab
2025-11-13 12:47 ` dpdklab
2025-11-13 13:02 ` |SUCCESS| pw158752 [PATCH] ethdev: add GENEVE encapsulation and decapsulation actions 0-day Robot
2025-11-13 13:03 ` 0-day Robot
2025-11-13 13:11 ` |SUCCESS| pw158752 [PATCH] ethdev: add GENEVE encapsulation and deca dpdklab
2025-11-13 13:50 ` dpdklab
2025-11-13 13:51 ` dpdklab
2025-11-13 13:52 ` dpdklab
2025-11-13 14:46 ` dpdklab
2025-11-13 16:34 ` dpdklab [this message]
2025-11-13 18:17 ` dpdklab
2025-11-13 18:40 ` dpdklab
Reply instructions:
You may reply publicly to this message via plain-text email
using any one of the following methods:
* Save the following mbox file, import it into your mail client,
and reply-to-all from there: mbox
Avoid top-posting and favor interleaved quoting:
https://en.wikipedia.org/wiki/Posting_style#Interleaved_style
* Reply using the --to, --cc, and --in-reply-to
switches of git-send-email(1):
git send-email \
--in-reply-to=69160882.170a0220.6d491.ce3aSMTPIN_ADDED_MISSING@mx.google.com \
--to=dpdklab@iol.unh.edu \
--cc=dpdk-test-reports@iol.unh.edu \
--cc=stephen@networkplumber.org \
--cc=test-report@dpdk.org \
/path/to/YOUR_REPLY
https://kernel.org/pub/software/scm/git/docs/git-send-email.html
* If your mail client supports setting the In-Reply-To header
via mailto: links, try the mailto: link
Be sure your reply has a Subject: header at the top and a blank line
before the message body.
This is a public inbox, see mirroring instructions
for how to clone and mirror all data and code used for this inbox;
as well as URLs for NNTP newsgroup(s).