From mboxrd@z Thu Jan 1 00:00:00 1970 Return-Path: Received: from mails.dpdk.org (mails.dpdk.org [217.70.189.124]) by inbox.dpdk.org (Postfix) with ESMTP id 8296948AFB for ; Thu, 13 Nov 2025 17:34:13 +0100 (CET) Received: from mails.dpdk.org (localhost [127.0.0.1]) by mails.dpdk.org (Postfix) with ESMTP id 7BC3040151; Thu, 13 Nov 2025 17:34:13 +0100 (CET) Received: from mail-pl1-f227.google.com (mail-pl1-f227.google.com [209.85.214.227]) by mails.dpdk.org (Postfix) with ESMTP id 7356940151 for ; Thu, 13 Nov 2025 17:34:11 +0100 (CET) Received: by mail-pl1-f227.google.com with SMTP id d9443c01a7336-29555b384acso11044945ad.1 for ; Thu, 13 Nov 2025 08:34:11 -0800 (PST) DKIM-Signature: v=1; a=rsa-sha256; c=relaxed/relaxed; d=iol.unh.edu; s=unh-iol; t=1763051650; x=1763656450; darn=dpdk.org; h=references:in-reply-to:cc:to:from:subject:message-id:date:from:to :cc:subject:date:message-id:reply-to; bh=5kCxLMYx554VRZnztF7rX6NIcQQYmlEg3vhiwBJRYS4=; b=H3myG5IqpdkA711O39trg27Xw9og0FgP06xSz+BkTjOjP65vm9FY14JJYfSn6Xfy68 1kbCu89f/fRtN3K82PVImnzRA+9QlmSJZM9kFHB1o/JUpQ5TxvHjYGZ2HClZcGNXj/5r u0vrdWRNfZt5weORVnod7eltQGwayuYaQASqs= X-Google-DKIM-Signature: v=1; a=rsa-sha256; c=relaxed/relaxed; d=1e100.net; s=20230601; t=1763051650; x=1763656450; h=references:in-reply-to:cc:to:from:subject:message-id:date:x-gm-gg :x-gm-message-state:from:to:cc:subject:date:message-id:reply-to; bh=5kCxLMYx554VRZnztF7rX6NIcQQYmlEg3vhiwBJRYS4=; b=vndtzzcE07gFQLazcpt0rlsCmHE7nPPF033nBwnCxCeT0cvvMZIUwD0ljYSwFpRKUe NRdX6fzOxeme+uoKV3Z9Oj0MIZY4cqN6p/YwYFnz2EXoUCfB+0Q+BFeLwmmxvMriptRF 9pRcveaUMaX7mkxgo8nFbmnRtp/SdShucTtypeGabtmkXntftQGZW+2FqGesXWNHZ5ET nLjlKasCHoZj4AvCwPXFsG4tQ7QnH6YZFcuqapV9wm7ZOh7Ea60R9J4XkMFd7kZ8kozL WjIEeISefOSzr/VcXLehXKUM54ss3+vb3PefqIPjggB032bFzhIIqAkz6NNLsPhI0LjY zOWA== X-Gm-Message-State: AOJu0Yx2RWSBw22GB0bnewa88RBBUQc63BB438xlOZopQEywXpn79jRU L4mti+Wb94XaE0xFlSXH2emJstX7eLbP++SxnMYNJ5mR+KJjbsvLddsirA6ogbK69wexwOlQCCg YekfYHFVASk13ZHPd5WE/PWUISxPJeqW1cXTuf3oTFAfK X-Gm-Gg: ASbGncsBLISBORQSedf8lURNaiSXj0ADbSzht1caEUjHcO0q6PZOSNfRiU5I/q87WXC yPiHIM6wdQDSsAxAnq25+OSseCwiD8cm+r6nHzQnHBfggWqzeHUlJ7WS3Pq1R1574E6btj9KiQR 4CzW8pVirsBeaNUJKCVimyQwpoDk190zmK+Y4FBTc5aLP9Q8j5hxMMpTlyrSgkPChXTQwAn6SqE NSHc60uBhnCDrflzvwDqQUsZdXM2RVWCfsHzXCPHlE1bqKpyMWmiFHr4arte+gA+oBf7hj/CwlV 4oOvq2L/UOHFi8ZIyeT1HfXMwoTPe5vwG5379lyDfVaIVV/JMbCuVv1czLS8+NgShot7K2/Asrq RrKUMwUrfNQs9bjXZkMfaw5AoFKz9o8Y= X-Google-Smtp-Source: AGHT+IH3wTV0jZ4Vx16GnSpAoca5Tup4H70oQHIftzBx/YQXjUjkaxMGR1uMdoNx8+p3F/PRwlpXBDkue6QM X-Received: by 2002:a17:902:f687:b0:295:82b4:216a with SMTP id d9443c01a7336-2984edde7efmr87950785ad.55.1763051650376; Thu, 13 Nov 2025 08:34:10 -0800 (PST) Received: from postal.iol.unh.edu (postal.iol.unh.edu. [132.177.123.84]) by smtp-relay.gmail.com with ESMTPS id d9443c01a7336-2985c2a838dsm2723745ad.41.2025.11.13.08.34.10 (version=TLS1_2 cipher=ECDHE-ECDSA-AES128-GCM-SHA256 bits=128/128); Thu, 13 Nov 2025 08:34:10 -0800 (PST) X-Relaying-Domain: iol.unh.edu Date: Thu, 13 Nov 2025 08:34:10 -0800 (PST) Message-ID: <69160882.170a0220.6d491.ce3aSMTPIN_ADDED_MISSING@mx.google.com> Received: from [172.21.0.2] (unknown [172.18.0.240]) by postal.iol.unh.edu (Postfix) with ESMTP id C23986051830; Thu, 13 Nov 2025 11:34:09 -0500 (EST) Subject: |SUCCESS| pw158752 [PATCH] ethdev: add GENEVE encapsulation and deca From: dpdklab@iol.unh.edu To: Test Report Cc: dpdk-test-reports@iol.unh.edu, Stephen Hemminger In-Reply-To: <20251113102158.48040-1-sunyang.wu@jaguarmicro.com> References: <20251113102158.48040-1-sunyang.wu@jaguarmicro.com> Content-Type: text/plain X-BeenThere: test-report@dpdk.org X-Mailman-Version: 2.1.29 Precedence: list List-Id: automatic DPDK test reports List-Unsubscribe: , List-Archive: List-Post: List-Help: List-Subscribe: , Errors-To: test-report-bounces@dpdk.org Test-Label: iol-compile-amd64-testing Test-Status: SUCCESS http://dpdk.org/patch/158752 _Testing PASS_ Submitter: Sunyang Wu Date: Thursday, November 13 2025 10:21:58 DPDK git baseline: Repo:dpdk-next-net Branch: master CommitID:29807269854f9bfc72f1323273de8e23adc724d4 158752 --> testing pass Upstream job id: Generic-DPDK-Compile-Meson#443808 Test environment and result as below: +---------------------+--------------------+-------------------+ | Environment | dpdk_meson_compile | dpdk_msvc_compile | +=====================+====================+===================+ | Ubuntu 20.04 | PASS | SKIPPED | +---------------------+--------------------+-------------------+ | FreeBSD 14.2 | PASS | SKIPPED | +---------------------+--------------------+-------------------+ | Ubuntu 22.04 | PASS | SKIPPED | +---------------------+--------------------+-------------------+ | Windows Server 2022 | SKIPPED | PASS | +---------------------+--------------------+-------------------+ Ubuntu 20.04 Kernel: 4.19 Compiler: gcc gcc (Ubuntu 9.4.0-1ubuntu1~20.04.2) 9.4.0 FreeBSD 14.2 Kernel: 14.2-RELEASE Compiler: clang 18.1.6 Ubuntu 22.04 Kernel: 5.15 Compiler: gcc gcc (Ubuntu 11.4.0-1ubuntu1~22.04) 11.4.0 Windows Server 2022 Kernel: 10.0.20348.2031 Compiler: clang 15.0.7, gcc 14.1.0 (MinGW), and MSVC VS 19.39.33521 To view detailed results, visit: https://lab.dpdk.org/results/dashboard/patchsets/34569/ UNH-IOL DPDK Community Lab To manage your email subscriptions, visit: https://lab.dpdk.org/results/dashboard/preferences/subscriptions/