From mboxrd@z Thu Jan 1 00:00:00 1970 Return-Path: Received: from mails.dpdk.org (mails.dpdk.org [217.70.189.124]) by inbox.dpdk.org (Postfix) with ESMTP id E714B48AFB for ; Thu, 13 Nov 2025 17:36:45 +0100 (CET) Received: from mails.dpdk.org (localhost [127.0.0.1]) by mails.dpdk.org (Postfix) with ESMTP id DF62240151; Thu, 13 Nov 2025 17:36:45 +0100 (CET) Received: from mail-yw1-f226.google.com (mail-yw1-f226.google.com [209.85.128.226]) by mails.dpdk.org (Postfix) with ESMTP id 97F0040151 for ; Thu, 13 Nov 2025 17:36:44 +0100 (CET) Received: by mail-yw1-f226.google.com with SMTP id 00721157ae682-7866375e943so8684957b3.0 for ; Thu, 13 Nov 2025 08:36:44 -0800 (PST) DKIM-Signature: v=1; a=rsa-sha256; c=relaxed/relaxed; d=iol.unh.edu; s=unh-iol; t=1763051804; x=1763656604; darn=dpdk.org; h=references:in-reply-to:cc:to:from:subject:message-id:date:from:to :cc:subject:date:message-id:reply-to; bh=wOAiRMPWSyzuBUfUOKeKRROiTE6TDxOc/NqjYCam4lE=; b=QblfcJQdTv6SALOoNK1qhcWCKOmoWCE5ZpFjHjTNQartaZjeArcWGKOc+Fz6dNbsYj SstCSQb2AEUCMUaRhuDY+8CZa29zOpc/uf/+nD8hjrQbQk+MmaA4hB3wTBUUVEWnYgmb AnS9uCM80HZ/BnecyUrJ/4Xe5v5ptfjpaJBXI= X-Google-DKIM-Signature: v=1; a=rsa-sha256; c=relaxed/relaxed; d=1e100.net; s=20230601; t=1763051804; x=1763656604; h=references:in-reply-to:cc:to:from:subject:message-id:date:x-gm-gg :x-gm-message-state:from:to:cc:subject:date:message-id:reply-to; bh=wOAiRMPWSyzuBUfUOKeKRROiTE6TDxOc/NqjYCam4lE=; b=m/BG0aYeaf0anVRpBHVq2HW5eoOnUPeMise1o5fpRWTWRnLg2dOV8eCq88RbHYNxpx HkCARGWcaGj6JNFejr4KKELgq04hOe81hbJ9YIQJ4LHHs/Z0JksREt1XYLY+VCjA44+Q J5JniQFXxjx3l7r9NfAS6wJrIEQ4NbFCgluw39J4fEZxtXJTzc4sgOXzn5WG/Pp0ZLzJ KlqwOTUm4mJU+J0MKOYAkhaZzUcNuQho0b7tS1Jf8y9Yrits4WeyICXl3l1P6k4eSHPp fgEvuV1lHf3UZ0uv1l2B8Etrn2UDTW25+1syBWnggoB9XeODbYDZas0rd/3rvuoUpnGW 5/cA== X-Gm-Message-State: AOJu0Yxzg/6GpuHJqRmZTvGdMcFhUbkesrHsWBlBFRi8DUGesQUFCUIK W2sK7i6NJgt47H4noLv9SpG8AlYP3DZEEEyfRmZ+rjX8XFez8KPJZ7X9kqCW7RKLiThuYSrwcGL fXm4D97JmvrBKvu8jn/ydspJO8opoOdQhSeZqaMrO3eZN X-Gm-Gg: ASbGncvy1VMH9UwBnaOcRX6LB1Qt3OYDTy2ngNm+iPNmLnhOEJOjr53IVOJO0LIMGpY eC869jEx6CU/itl19bbYWg1YbyZjAPAFebuIykS/zsRM5MTIffMyKAL/yqS71NB9UiITCYEQvFo tqYLcsZ+9ckUiWTjJxokjKG4IJq6wG4VOsakZ4DYG3Q4XYMETl/BcBFEPDSQFjCLUVFW58GRsAt Vj6v9rYF305hsOZX3OG8iS8jV2KJqb74W/y0JuOVbQNUkFWyIeq9Hl/peBsBCtRTEUVqrrcFwv3 U0/mXpClrHi9O4ehIOeW4XheS7xYDr7Wyxw3ddYezF5cYehLMCvJuRgI/W/q4ocxAWsAUXBozNS Oi/D+I/GjoDlFY9Gwk/3Pjq8Lol3G5EQ= X-Google-Smtp-Source: AGHT+IEX6VJKjNeS9ieHE02qBrnyvyqonSSOXpWpf5UB+NMcdJBdWgHLudDw19jnVzyi1/nG8SBfYU3IOBMs X-Received: by 2002:a05:690c:4d09:b0:786:56ec:e3c6 with SMTP id 00721157ae682-788136b40d2mr67977627b3.55.1763051803992; Thu, 13 Nov 2025 08:36:43 -0800 (PST) Received: from postal.iol.unh.edu (postal.iol.unh.edu. [132.177.123.84]) by smtp-relay.gmail.com with ESMTPS id 00721157ae682-78821feea2asm1424277b3.32.2025.11.13.08.36.43 (version=TLS1_2 cipher=ECDHE-ECDSA-AES128-GCM-SHA256 bits=128/128); Thu, 13 Nov 2025 08:36:43 -0800 (PST) X-Relaying-Domain: iol.unh.edu Date: Thu, 13 Nov 2025 08:36:43 -0800 (PST) Message-ID: <6916091b.050a0220.22af4b.7612SMTPIN_ADDED_MISSING@mx.google.com> Received: from [172.21.0.2] (unknown [172.18.0.240]) by postal.iol.unh.edu (Postfix) with ESMTP id AB3606051830; Thu, 13 Nov 2025 11:36:43 -0500 (EST) Subject: |SUCCESS| pw158769 [PATCH] [v2] net/mlx5: remove representor matchin From: dpdklab@iol.unh.edu To: Test Report Cc: dpdk-test-reports@iol.unh.edu In-Reply-To: <20251113131758.1524043-1-dsosnowski@nvidia.com> References: <20251113131758.1524043-1-dsosnowski@nvidia.com> Content-Type: text/plain X-BeenThere: test-report@dpdk.org X-Mailman-Version: 2.1.29 Precedence: list List-Id: automatic DPDK test reports List-Unsubscribe: , List-Archive: List-Post: List-Help: List-Subscribe: , Errors-To: test-report-bounces@dpdk.org Test-Label: iol-unit-amd64-testing Test-Status: SUCCESS http://dpdk.org/patch/158769 _Testing PASS_ Submitter: Dariusz Sosnowski Date: Thursday, November 13 2025 13:17:58 DPDK git baseline: Repo:dpdk-next-net-mlx Branch: master CommitID:ae657d56b1f0ea979b3f611edf28d773efc2ddcf 158769 --> testing pass Upstream job id: Generic-Unit-Test-DPDK#392299 Test environment and result as below: +-------------------------------+----------------+ | Environment | dpdk_unit_test | +===============================+================+ | CentOS Stream 9 | PASS | +-------------------------------+----------------+ | Debian GNU/Linux 12 | PASS | +-------------------------------+----------------+ | CentOS Stream 10 | PASS | +-------------------------------+----------------+ | Fedora Linux 40 | PASS | +-------------------------------+----------------+ | Fedora Linux 41 | PASS | +-------------------------------+----------------+ | Fedora Linux 42 | PASS | +-------------------------------+----------------+ | Red Hat Enterprise Linux 8.10 | PASS | +-------------------------------+----------------+ | Ubuntu 24.04 | PASS | +-------------------------------+----------------+ | Ubuntu 20.04 | PASS | +-------------------------------+----------------+ | Red Hat Enterprise Linux 9.5 | PASS | +-------------------------------+----------------+ | Ubuntu 22.04 | PASS | +-------------------------------+----------------+ CentOS Stream 9 Kernel: 5.15 Compiler: gcc gcc (GCC) 11.5.0 20240719 (Red Hat 11.5.0-11) Debian GNU/Linux 12 Kernel: 5.15 Compiler: gcc gcc (Debian 12.2.0-14+deb12u1) 12.2.0 CentOS Stream 10 Kernel: 5.15 Compiler: gcc gcc (GCC) 14.2.1 20250110 (Red Hat 14.2.1-8) Fedora Linux 40 Kernel: 5.15 Compiler: gcc gcc (GCC) 14.2.1 20240912 (Red Hat 14.2.1-3) Fedora Linux 41 Kernel: 5.15 Compiler: clang gcc (GCC) 14.3.1 20250523 (Red Hat 14.3.1-1) Fedora Linux 42 Kernel: 5.15 Compiler: gcc gcc (GCC) 15.2.1 20250808 (Red Hat 15.2.1-1) Red Hat Enterprise Linux 8.10 Kernel: 5.15 Compiler: gcc gcc (GCC) 8.5.0 20210514 (Red Hat 8.5.0-22) Ubuntu 24.04 Kernel: 5.15 Compiler: gcc gcc (Ubuntu 13.3.0-6ubuntu2~24.04) 13.3.0 Ubuntu 20.04 Kernel: 5.15 Compiler: gcc gcc (Ubuntu 9.4.0-1ubuntu1~20.04.2) 9.4.0 Red Hat Enterprise Linux 9.5 Kernel: 5.15 Compiler: gcc gcc (GCC) 11.5.0 20240719 (Red Hat 11.5.0-2) Ubuntu 22.04 Kernel: 5.15 Compiler: gcc gcc (Ubuntu 11.4.0-1ubuntu1~22.04) 11.4.0 To view detailed results, visit: https://lab.dpdk.org/results/dashboard/patchsets/34577/ UNH-IOL DPDK Community Lab To manage your email subscriptions, visit: https://lab.dpdk.org/results/dashboard/preferences/subscriptions/