From mboxrd@z Thu Jan 1 00:00:00 1970 Return-Path: Received: from mails.dpdk.org (mails.dpdk.org [217.70.189.124]) by inbox.dpdk.org (Postfix) with ESMTP id 0192748AFB for ; Thu, 13 Nov 2025 17:45:37 +0100 (CET) Received: from mails.dpdk.org (localhost [127.0.0.1]) by mails.dpdk.org (Postfix) with ESMTP id D928940151; Thu, 13 Nov 2025 17:45:37 +0100 (CET) Received: from mail-pl1-f226.google.com (mail-pl1-f226.google.com [209.85.214.226]) by mails.dpdk.org (Postfix) with ESMTP id D816B40151 for ; Thu, 13 Nov 2025 17:45:35 +0100 (CET) Received: by mail-pl1-f226.google.com with SMTP id d9443c01a7336-2956d816c10so11437485ad.1 for ; Thu, 13 Nov 2025 08:45:35 -0800 (PST) DKIM-Signature: v=1; a=rsa-sha256; c=relaxed/relaxed; d=iol.unh.edu; s=unh-iol; t=1763052335; x=1763657135; darn=dpdk.org; h=references:in-reply-to:cc:to:from:subject:message-id:date:from:to :cc:subject:date:message-id:reply-to; bh=WIcHA9hc3N+Mc93ppU7et5gX3L6gmtf7VHXKXte6/0g=; b=IqgqSoJb8tGzyOXeToGOEu+lNc3X3XBrDRcF3X2SFCPcaWa3bWnQzcld+7VlBgRxW3 LzNwXwbpuXFear1nGKjP9RGxM7KJ/cdTp6fjyab6e+xFvJi57tggR+o444sjvp8TOAda f6YG1Bp+kf3wZ/sqQgwYSrohxciOJTb7L04SU= X-Google-DKIM-Signature: v=1; a=rsa-sha256; c=relaxed/relaxed; d=1e100.net; s=20230601; t=1763052335; x=1763657135; h=references:in-reply-to:cc:to:from:subject:message-id:date:x-gm-gg :x-gm-message-state:from:to:cc:subject:date:message-id:reply-to; bh=WIcHA9hc3N+Mc93ppU7et5gX3L6gmtf7VHXKXte6/0g=; b=ZRqnuAJGlNghTzPO1CvgDPzk2HtE1Oty/J7bhEv2Uj1dqZBHrSrHuobhEy0Q39kV4+ LX5yFyZrShqRsTXIaUhQOf5oOtBluqcQlgXKDPUNN55O5YyNRr+Nh8mIynynWBvdATag oJNbBaKrG1r3Ra81zGVeDQp0KGHYVFcnlphBX1lyQh6igxsAdOl9idC6xivIth9B/HAL +tOp10xFlMkKCDCkKEe08ZK7eiCNq/Gely04D4VUNAtm5R5eqDBmKMN22DWqaK+JiDPi PonSV1ofB2MtRQza0VllJv1pEA/fLcuEZ6b7TMI1fCRmMlc5YOdMTPZhF0A8Xb2PDBrX VWMg== X-Gm-Message-State: AOJu0Yw6sk7L0J6xwkLptzzwSAp/eqb3LgIJNP1DqSO/ixWPzcorI/R5 tPbhQuwUssVZyWr3s/AOjU3J2TLEgIxw/h1koes2o+i97+niQP4bCsKsA6LrwKqZGFxxbJgeYeQ fPylBNhKDic5h61uDuPIzQ8bsMn39YLjZK5sW1ht5/rBt X-Gm-Gg: ASbGncscSzx4mltRUbdChirVmTd7wM18iMsFJfMQBSiQ4PnavfwNLdmse01Wlg5TXNP zLnizzYHQZGcmcYerOLgGgox1wy0I8K3sclVEn3ktv4VwU9XWY4n5ZgRZ/sTQ7BOY+Hfhlflk+e u+AI0TE/nB5bmNZVGgmtGvyCTR7V961Mo2rXnQxRH7fpNJRVA3F1OsuedtAPIPIrgCIbpFUg98w jbuEQJszIrGPimoSWghRZqvYyshu0hW2bZAezvb9MQrQBEQJtm1nZ8r9Mv9TjvQ6EAsa67yU6Yu eaqxHtT9lojkUeu7EIVv4i+PqHDuMoR6XhbAg/JkNpfZADWAd5AEfc56SNQcCtoj86Y0bCK46jp 8lsgVFXsuzXhrquIVOWameQPhmV1hbvs= X-Google-Smtp-Source: AGHT+IFMKxzaVanusCd9LW80XFV96pbIyYePFUKACltuai2NHeCDauh6qzwMjnO1ckRV96kAdcYng4MIi7t+ X-Received: by 2002:a17:902:f68c:b0:298:603b:dc46 with SMTP id d9443c01a7336-298603bdd1cmr24240705ad.39.1763052334937; Thu, 13 Nov 2025 08:45:34 -0800 (PST) Received: from postal.iol.unh.edu (postal.iol.unh.edu. [132.177.123.84]) by smtp-relay.gmail.com with ESMTPS id 41be03b00d2f7-bc375c09b73sm183751a12.13.2025.11.13.08.45.34 (version=TLS1_2 cipher=ECDHE-ECDSA-AES128-GCM-SHA256 bits=128/128); Thu, 13 Nov 2025 08:45:34 -0800 (PST) X-Relaying-Domain: iol.unh.edu Date: Thu, 13 Nov 2025 08:45:34 -0800 (PST) Message-ID: <69160b2e.630a0220.3b5f33.860cSMTPIN_ADDED_MISSING@mx.google.com> Received: from [172.21.0.2] (unknown [172.18.0.240]) by postal.iol.unh.edu (Postfix) with ESMTP id 319E46051830; Thu, 13 Nov 2025 11:45:34 -0500 (EST) Subject: |SUCCESS| pw158695 [PATCH] license: standardize SPDX tag for 3-Claus From: dpdklab@iol.unh.edu To: Test Report Cc: dpdk-test-reports@iol.unh.edu In-Reply-To: <20251112091335.662991-1-thomas@monjalon.net> References: <20251112091335.662991-1-thomas@monjalon.net> Content-Type: text/plain X-BeenThere: test-report@dpdk.org X-Mailman-Version: 2.1.29 Precedence: list List-Id: automatic DPDK test reports List-Unsubscribe: , List-Archive: List-Post: List-Help: List-Subscribe: , Errors-To: test-report-bounces@dpdk.org Test-Label: iol-unit-amd64-testing Test-Status: SUCCESS http://dpdk.org/patch/158695 _Testing PASS_ Submitter: Thomas Monjalon Date: Wednesday, November 12 2025 09:13:35 DPDK git baseline: Repo:dpdk Branch: master CommitID:be0112878b4fc3a1b918370ed2fe615c52039d77 158695 --> testing pass Upstream job id: Generic-VM-Unit-Test-DPDK#32487 Test environment and result as below: +-------------------------------+----------------+ | Environment | dpdk_unit_test | +===============================+================+ | CentOS Stream 10 | PASS | +-------------------------------+----------------+ | CentOS Stream 9 | PASS | +-------------------------------+----------------+ | Debian GNU/Linux 12 | PASS | +-------------------------------+----------------+ | Fedora Linux 40 | PASS | +-------------------------------+----------------+ | Fedora Linux 41 | PASS | +-------------------------------+----------------+ | Fedora Linux 42 | PASS | +-------------------------------+----------------+ | Red Hat Enterprise Linux 8.10 | PASS | +-------------------------------+----------------+ | Red Hat Enterprise Linux 9.5 | PASS | +-------------------------------+----------------+ | Ubuntu 22.04 | PASS | +-------------------------------+----------------+ | Ubuntu 20.04 | PASS | +-------------------------------+----------------+ | Ubuntu 24.04 | PASS | +-------------------------------+----------------+ | Windows Server 2022 | PASS | +-------------------------------+----------------+ CentOS Stream 10 Kernel: 5.15 Compiler: gcc gcc (GCC) 14.2.1 20250110 (Red Hat 14.2.1-8) CentOS Stream 9 Kernel: 5.15 Compiler: gcc gcc (GCC) 11.5.0 20240719 (Red Hat 11.5.0-11) Debian GNU/Linux 12 Kernel: 5.15 Compiler: gcc gcc (Debian 12.2.0-14+deb12u1) 12.2.0 Fedora Linux 40 Kernel: 5.15 Compiler: gcc gcc (GCC) 14.2.1 20240912 (Red Hat 14.2.1-3) Fedora Linux 41 Kernel: 5.15 Compiler: gcc gcc (GCC) 14.3.1 20250523 (Red Hat 14.3.1-1) Fedora Linux 42 Kernel: 5.15 Compiler: gcc gcc (GCC) 15.2.1 20250808 (Red Hat 15.2.1-1) Red Hat Enterprise Linux 8.10 Kernel: 5.15 Compiler: gcc gcc (GCC) 8.5.0 20210514 (Red Hat 8.5.0-22) Red Hat Enterprise Linux 9.5 Kernel: 5.15 Compiler: gcc gcc (GCC) 11.5.0 20240719 (Red Hat 11.5.0-2) Ubuntu 22.04 Kernel: 5.15 Compiler: gcc gcc (Ubuntu 11.4.0-1ubuntu1~22.04) 11.4.0 Ubuntu 20.04 Kernel: 5.15 Compiler: gcc gcc (Ubuntu 9.4.0-1ubuntu1~20.04.2) 9.4.0 Ubuntu 24.04 Kernel: 5.15 Compiler: gcc gcc (Ubuntu 13.3.0-6ubuntu2~24.04) 13.3.0 Windows Server 2022 Kernel: 10.0.20348.2031 Compiler: clang 15.0.7, gcc 14.1.0 (MinGW), and MSVC VS 19.39.33521 To view detailed results, visit: https://lab.dpdk.org/results/dashboard/patchsets/34545/ UNH-IOL DPDK Community Lab To manage your email subscriptions, visit: https://lab.dpdk.org/results/dashboard/preferences/subscriptions/