From mboxrd@z Thu Jan 1 00:00:00 1970 Return-Path: Received: from mails.dpdk.org (mails.dpdk.org [217.70.189.124]) by inbox.dpdk.org (Postfix) with ESMTP id 3561248AFB for ; Thu, 13 Nov 2025 17:48:23 +0100 (CET) Received: from mails.dpdk.org (localhost [127.0.0.1]) by mails.dpdk.org (Postfix) with ESMTP id 2F0C340151; Thu, 13 Nov 2025 17:48:23 +0100 (CET) Received: from mail-il1-f227.google.com (mail-il1-f227.google.com [209.85.166.227]) by mails.dpdk.org (Postfix) with ESMTP id 293D640151 for ; Thu, 13 Nov 2025 17:48:22 +0100 (CET) Received: by mail-il1-f227.google.com with SMTP id e9e14a558f8ab-43377ee4825so5843165ab.2 for ; Thu, 13 Nov 2025 08:48:22 -0800 (PST) DKIM-Signature: v=1; a=rsa-sha256; c=relaxed/relaxed; d=iol.unh.edu; s=unh-iol; t=1763052501; x=1763657301; darn=dpdk.org; h=references:in-reply-to:cc:to:from:subject:message-id:date:from:to :cc:subject:date:message-id:reply-to; bh=R4N2ZB6kUn0RuHrNQ0jbvQWNgQP1RHeXEJLF53HFXvU=; b=LPd9VwodGn4VuM9XmMAVW5eD445JSkk2SQP4S234gOrK2HU9AxPWDhBoy0NR/ENA7t 7o74y8tQLMh3LLXbbpyJubVVTQz9vvQtOk16/sMayFJVLz6d9FiYVIbMdCUWR7LdfYDe bNlJuzm8J0IExqmZD3q0aElSmI08JAyGyXXJs= X-Google-DKIM-Signature: v=1; a=rsa-sha256; c=relaxed/relaxed; d=1e100.net; s=20230601; t=1763052501; x=1763657301; h=references:in-reply-to:cc:to:from:subject:message-id:date:x-gm-gg :x-gm-message-state:from:to:cc:subject:date:message-id:reply-to; bh=R4N2ZB6kUn0RuHrNQ0jbvQWNgQP1RHeXEJLF53HFXvU=; b=dsCQ2nFem+LhuWwa8JiRYaVQdDDOWInj+pgxwFDxZ4cwAbu1vqm0aSPdtiWi9m3/MW JfDoW3oXVVHRMmyNM0l5FiS6KDBx2LgERB6h3Ry86Ult6jyS6ADzF9wYBkK6YBx9vdRC Gz299G2XsHAC7Y+hF1bm9atpZpYpDGrzaJg4uw3xYjS6wo17NVPgr8gJMC1dP7CPZ0/D eM3rIIL1KhkkMHTICha6bIqRhzqVGfDqcoCmR/cZZFLQ5VuAHbczWv9mQSMZCTkRF6c8 84wk5G3+dyNsmjm5h/WT+A81lVpyTkDJ4NU1gNp86diGq6dthCD1d0ku79A5+6KnNS9v wQMQ== X-Gm-Message-State: AOJu0YyXaeLJ8Pm+7HuQK+y/6s4XeKuZj90VJKmJiB7pDVbQ7bntrqyn +9RcAUflAx75HvTs6+ubj9fSLT5tg+ViSg5g+VqAax/ggxM1W3ke4BbGanXE1nglseVpUBCPOVc 2axTYZ9/yVhifih/MaQ5Km2gsQDXjwCl+0TRH564jIqb9 X-Gm-Gg: ASbGncuyzdQx77i/XB0viGl8erQqTbzT0dXHQd1U7oeBna84JwQqeV9TX8yXUbP1gBq UVVYWuk1vLuJcJQhailBTQpih8aNoUS4lp4SRJqdvhsdHNEQU3ReC9tIGf5Bi5VAFJgN8Du+jSZ eecAuMioBNiuNDPN1V2wramfHkzzp00BGUOFm7GUmExbxwFU++LQxjrzAdIxRl2SAHL7ngylOfK /8uo/PL0JdIYPc0eudI2QhnhaLBDE3S89G/iqBSCPbUs9TQC9FTGtH/C5GRw4lFIhfSpDx46ief ZzEEWsJfz8C75gyb3Y6HFrc+Laj4uL6dkPyrf7lvA8A9SDnoqnCKBSDEgD94s5ZSLXXfGHpxrIK zF70GhkVO1upEuVHDMVZWc/jbAxl+Ekg= X-Google-Smtp-Source: AGHT+IEKOiGu0A+Wsu51e/kykUKmg3+/BuZ1L+FUHa6BuuzyNFrc5DasPq4ubiA240LR6WlHphKfobHZKGhO X-Received: by 2002:a05:6e02:3d86:b0:433:283c:b9f with SMTP id e9e14a558f8ab-4348c86466fmr2871185ab.3.1763052501300; Thu, 13 Nov 2025 08:48:21 -0800 (PST) Received: from postal.iol.unh.edu (postal.iol.unh.edu. [132.177.123.84]) by smtp-relay.gmail.com with ESMTPS id 8926c6da1cb9f-5b7bd3347f4sm205559173.28.2025.11.13.08.48.21 (version=TLS1_2 cipher=ECDHE-ECDSA-AES128-GCM-SHA256 bits=128/128); Thu, 13 Nov 2025 08:48:21 -0800 (PST) X-Relaying-Domain: iol.unh.edu Date: Thu, 13 Nov 2025 08:48:21 -0800 (PST) Message-ID: <69160bd5.050a0220.32d6d6.982eSMTPIN_ADDED_MISSING@mx.google.com> Received: from [172.21.0.3] (unknown [172.18.0.240]) by postal.iol.unh.edu (Postfix) with ESMTP id D70AD6051830; Thu, 13 Nov 2025 11:48:20 -0500 (EST) Subject: |SUCCESS| pw158745 [PATCH] [v3] net/ice: fix statistics read error From: dpdklab@iol.unh.edu To: Test Report Cc: dpdk-test-reports@iol.unh.edu, Bruce Richardson In-Reply-To: <20251113074710.8251-1-zhichaox.zeng@intel.com> References: <20251113074710.8251-1-zhichaox.zeng@intel.com> Content-Type: text/plain X-BeenThere: test-report@dpdk.org X-Mailman-Version: 2.1.29 Precedence: list List-Id: automatic DPDK test reports List-Unsubscribe: , List-Archive: List-Post: List-Help: List-Subscribe: , Errors-To: test-report-bounces@dpdk.org Test-Label: iol-compile-amd64-testing Test-Status: SUCCESS http://dpdk.org/patch/158745 _Testing PASS_ Submitter: Zhichao Zeng Date: Thursday, November 13 2025 07:47:10 DPDK git baseline: Repo:dpdk-next-net-intel Branch: master CommitID:c63646d076330fb2ef3282cbd413aaf93f0509e6 158745 --> testing pass Upstream job id: Generic-DPDK-Compile-Meson#443798 Test environment and result as below: +-------------------------------+--------------------+-------------------------+------------------+ | Environment | dpdk_meson_compile | dpdk_llvm_clang_compile | dpdk_compile_ovs | +===============================+====================+=========================+==================+ | FreeBSD 14.2 | PASS | SKIPPED | SKIPPED | +-------------------------------+--------------------+-------------------------+------------------+ | Ubuntu 20.04 | PASS | SKIPPED | SKIPPED | +-------------------------------+--------------------+-------------------------+------------------+ | CentOS Stream 9 | PASS | SKIPPED | SKIPPED | +-------------------------------+--------------------+-------------------------+------------------+ | CentOS Stream 10 | PASS | SKIPPED | SKIPPED | +-------------------------------+--------------------+-------------------------+------------------+ | Debian GNU/Linux 12 | PASS | SKIPPED | SKIPPED | +-------------------------------+--------------------+-------------------------+------------------+ | Fedora Linux 42 | PASS | SKIPPED | PASS | +-------------------------------+--------------------+-------------------------+------------------+ | openSUSE Leap 15.6 | PASS | SKIPPED | SKIPPED | +-------------------------------+--------------------+-------------------------+------------------+ | Red Hat Enterprise Linux 8.10 | PASS | SKIPPED | SKIPPED | +-------------------------------+--------------------+-------------------------+------------------+ | Red Hat Enterprise Linux 9.5 | PASS | SKIPPED | SKIPPED | +-------------------------------+--------------------+-------------------------+------------------+ | Ubuntu 22.04 | PASS | SKIPPED | SKIPPED | +-------------------------------+--------------------+-------------------------+------------------+ | Ubuntu 24.04 | PASS | SKIPPED | PASS | +-------------------------------+--------------------+-------------------------+------------------+ | Alpine Linux 3.22.0 | PASS | SKIPPED | SKIPPED | +-------------------------------+--------------------+-------------------------+------------------+ | Windows Server 2022 | SKIPPED | PASS | SKIPPED | +-------------------------------+--------------------+-------------------------+------------------+ FreeBSD 14.2 Kernel: 14.2-RELEASE Compiler: clang 18.1.6 Ubuntu 20.04 Kernel: 4.19 Compiler: gcc gcc (Ubuntu 9.4.0-1ubuntu1~20.04.2) 9.4.0 CentOS Stream 9 Kernel: 5.15 Compiler: gcc gcc (GCC) 11.5.0 20240719 (Red Hat 11.5.0-11) CentOS Stream 10 Kernel: 5.15 Compiler: gcc gcc (GCC) 14.2.1 20250110 (Red Hat 14.2.1-8) Debian GNU/Linux 12 Kernel: 5.15 Compiler: gcc gcc (Debian 12.2.0-14+deb12u1) 12.2.0 Fedora Linux 42 Kernel: 5.15 Compiler: clang gcc (GCC) 15.2.1 20250808 (Red Hat 15.2.1-1) openSUSE Leap 15.6 Kernel: 5.15 Compiler: gcc gcc (SUSE Linux) 7.5.0 Red Hat Enterprise Linux 8.10 Kernel: 5.15 Compiler: gcc gcc (GCC) 8.5.0 20210514 (Red Hat 8.5.0-22) Red Hat Enterprise Linux 9.5 Kernel: 5.15 Compiler: gcc gcc (GCC) 11.5.0 20240719 (Red Hat 11.5.0-2) Ubuntu 22.04 Kernel: 5.15 Compiler: gcc gcc (Ubuntu 11.4.0-1ubuntu1~22.04) 11.4.0 Ubuntu 24.04 Kernel: 5.15 Compiler: gcc gcc (Ubuntu 13.3.0-6ubuntu2~24.04) 13.3.0 Alpine Linux 3.22.0 Kernel: 5.15 Compiler: gcc gcc (Alpine 14.2.0) 14.2.0 Windows Server 2022 Kernel: 10.0.20348.2031 Compiler: clang 15.0.7, gcc 14.1.0 (MinGW), and MSVC VS 19.39.33521 To view detailed results, visit: https://lab.dpdk.org/results/dashboard/patchsets/34565/ UNH-IOL DPDK Community Lab To manage your email subscriptions, visit: https://lab.dpdk.org/results/dashboard/preferences/subscriptions/