From mboxrd@z Thu Jan 1 00:00:00 1970 Return-Path: Received: from mails.dpdk.org (mails.dpdk.org [217.70.189.124]) by inbox.dpdk.org (Postfix) with ESMTP id A40DF48AFB for ; Thu, 13 Nov 2025 17:52:07 +0100 (CET) Received: from mails.dpdk.org (localhost [127.0.0.1]) by mails.dpdk.org (Postfix) with ESMTP id 89B6B40151; Thu, 13 Nov 2025 17:52:07 +0100 (CET) Received: from mail-io1-f99.google.com (mail-io1-f99.google.com [209.85.166.99]) by mails.dpdk.org (Postfix) with ESMTP id A875F40151 for ; Thu, 13 Nov 2025 17:52:06 +0100 (CET) Received: by mail-io1-f99.google.com with SMTP id ca18e2360f4ac-9486d008fdbso56004139f.1 for ; Thu, 13 Nov 2025 08:52:06 -0800 (PST) DKIM-Signature: v=1; a=rsa-sha256; c=relaxed/relaxed; d=iol.unh.edu; s=unh-iol; t=1763052726; x=1763657526; darn=dpdk.org; h=references:in-reply-to:cc:to:from:subject:message-id:date:from:to :cc:subject:date:message-id:reply-to; bh=wLwQVazezxs0lERF0wgE+OjioYc6jr80V2G2Qz1RwPA=; b=fYyw+qWdBIdkwJNN/L+bDdzudjE6leGJnz3XsZblDxrnR3wj0WPbMF9Dslk1GgdI5g AR2YxPbbQrzwdF5KW1eUNELVYLYcjJagG+FhXGyFD3v4GdLHO0LKCxlJVbxrriyeNQFd 2uHCvlebvI5k1LnbqwpUX0KMKwzdw5ldXMXm8= X-Google-DKIM-Signature: v=1; a=rsa-sha256; c=relaxed/relaxed; d=1e100.net; s=20230601; t=1763052726; x=1763657526; h=references:in-reply-to:cc:to:from:subject:message-id:date:x-gm-gg :x-gm-message-state:from:to:cc:subject:date:message-id:reply-to; bh=wLwQVazezxs0lERF0wgE+OjioYc6jr80V2G2Qz1RwPA=; b=V04B+IhCwGXRVvbXPmD4XI58rrT81q/e/9EEYL9aTre2EfMx2JTT0DFy5mcP7qq3qj ye8JV3CYOA45HUtfap4QiElmnwOiHIR0+CoJO5qXoTxa05rJ/HrfcFJmoPs+RuQrbvxo iABUVm7qCwxoAzoL5SklyyHcOdOh4qsroXkwmBwtOyDeUh9RoxtnFdYTOKAkFPsEY626 Ug45XHj9nBM9oFEPHpL/QuOjocAmp1u5Lo5pCyc032f/XksIsbHDVf/DJGFHcBwPPASw Bc17BW+SPc+uCrB1SRu1oHLXGh3VIPq1rkK0osAqVSfo3I8Okl7RomYZgloYCHMfNN2R 8MKQ== X-Gm-Message-State: AOJu0YxUw9w/k/xXjLPLE7KrIGj42Y4ioZzCHgdNsbESQMjmpLr5r9Lu MvvSC7limZoAolHSonVx1gm9IQjHRHtU49Szlgf6C0oRJexPNn1+vtGXlThlLSY2LwOTOH8tvuO CqsDdSUhVPnPv5MpqE4W+2XmaNfDZQyzuoqXdqT+WHTQ2VXs3/yH+KXmuEiaY X-Gm-Gg: ASbGnctb9rU/wMg6mSrKQ+yLopS2YbWu7TePeyRM4Fqgvd+uUhIAJwxvfcm0mGm58YR pvJqwvRkM+VlaxlqV4vXrNFrENnZH4xB8/rPwxyyecapYjpdMK3NkawQ8sKVvwl92qwABrOhXbW 9F1pzhFZuVhugkiZ1uy2pAYkZVRFu5NPthxJ1v/bxXv7GTEqZwYqD7DsHqnfJg9XhcS+Yie3LST rJhXyQOPwk9xCH9MauzRXg6emJy9hgAQfRpkCXuua1DpRASYCiRW/s2h73ZMSMiZbv+cW8aKHQ2 n1LE2gE2A/eelw6D/I2d3hO0nTwZ+VWzzEa2AN5vKAkgub/oK/2Kwi8nJ8ojveb+T7PE6kTcC/X VB1sbqHOm X-Google-Smtp-Source: AGHT+IG/baLiMBary1sz8MTezwC+62mzkHg02WY29GmOxm8KKVJ34n61kNwgBKSmsBREhqXiEKrvQce+cx2W X-Received: by 2002:a05:6e02:c8d:b0:433:786a:5203 with SMTP id e9e14a558f8ab-4347c4c87d1mr50353435ab.10.1763052725941; Thu, 13 Nov 2025 08:52:05 -0800 (PST) Received: from postal.iol.unh.edu (postal.iol.unh.edu. [2606:4100:3880:1234::84]) by smtp-relay.gmail.com with ESMTPS id e9e14a558f8ab-434833c6059sm2022505ab.6.2025.11.13.08.52.05 (version=TLS1_2 cipher=ECDHE-ECDSA-AES128-GCM-SHA256 bits=128/128); Thu, 13 Nov 2025 08:52:05 -0800 (PST) X-Relaying-Domain: iol.unh.edu Date: Thu, 13 Nov 2025 08:52:05 -0800 (PST) Message-ID: <69160cb5.050a0220.8c33d.90cfSMTPIN_ADDED_MISSING@mx.google.com> Received: from [172.21.0.4] (unknown [172.18.0.240]) by postal.iol.unh.edu (Postfix) with ESMTP id 9256C6051830; Thu, 13 Nov 2025 11:52:05 -0500 (EST) Subject: |SUCCESS| pw158746 [PATCH] app/proc-info: allow overriding defaults From: dpdklab@iol.unh.edu To: Test Report Cc: dpdk-test-reports@iol.unh.edu In-Reply-To: <20251112130326.2674728-1-mprajapat@marvell.com> References: <20251112130326.2674728-1-mprajapat@marvell.com> Content-Type: text/plain X-BeenThere: test-report@dpdk.org X-Mailman-Version: 2.1.29 Precedence: list List-Id: automatic DPDK test reports List-Unsubscribe: , List-Archive: List-Post: List-Help: List-Subscribe: , Errors-To: test-report-bounces@dpdk.org Test-Label: iol-compile-amd64-testing Test-Status: SUCCESS http://dpdk.org/patch/158746 _Testing PASS_ Submitter: Mohit Kumar Parjapat Date: Wednesday, November 12 2025 13:03:13 DPDK git baseline: Repo:dpdk Branch: master CommitID:be0112878b4fc3a1b918370ed2fe615c52039d77 158746 --> testing pass Upstream job id: Generic-DPDK-Compile-Meson#443823 Test environment and result as below: +------------------+--------------------+ | Environment | dpdk_meson_compile | +==================+====================+ | Ubuntu 20.04 | PASS | +------------------+--------------------+ | FreeBSD 14.2 | PASS | +------------------+--------------------+ | CentOS Stream 9 | PASS | +------------------+--------------------+ | CentOS Stream 10 | PASS | +------------------+--------------------+ Ubuntu 20.04 Kernel: 4.19 Compiler: gcc gcc (Ubuntu 9.4.0-1ubuntu1~20.04.2) 9.4.0 FreeBSD 14.2 Kernel: 14.2-RELEASE Compiler: clang 18.1.6 CentOS Stream 9 Kernel: 5.15 Compiler: gcc gcc (GCC) 11.5.0 20240719 (Red Hat 11.5.0-11) CentOS Stream 10 Kernel: 5.15 Compiler: gcc gcc (GCC) 14.2.1 20250110 (Red Hat 14.2.1-8) To view detailed results, visit: https://lab.dpdk.org/results/dashboard/patchsets/34566/ UNH-IOL DPDK Community Lab To manage your email subscriptions, visit: https://lab.dpdk.org/results/dashboard/preferences/subscriptions/