From mboxrd@z Thu Jan 1 00:00:00 1970 Return-Path: Received: from mails.dpdk.org (mails.dpdk.org [217.70.189.124]) by inbox.dpdk.org (Postfix) with ESMTP id B1A9048AFB for ; Thu, 13 Nov 2025 17:52:54 +0100 (CET) Received: from mails.dpdk.org (localhost [127.0.0.1]) by mails.dpdk.org (Postfix) with ESMTP id A762540151; Thu, 13 Nov 2025 17:52:54 +0100 (CET) Received: from mail-qv1-f97.google.com (mail-qv1-f97.google.com [209.85.219.97]) by mails.dpdk.org (Postfix) with ESMTP id AEFA840151 for ; Thu, 13 Nov 2025 17:52:53 +0100 (CET) Received: by mail-qv1-f97.google.com with SMTP id 6a1803df08f44-88249766055so11580306d6.1 for ; Thu, 13 Nov 2025 08:52:53 -0800 (PST) DKIM-Signature: v=1; a=rsa-sha256; c=relaxed/relaxed; d=iol.unh.edu; s=unh-iol; t=1763052773; x=1763657573; darn=dpdk.org; h=references:in-reply-to:cc:to:from:subject:message-id:date:from:to :cc:subject:date:message-id:reply-to; bh=D8ozZRFfTf3lRuvYcfVxQ78zeiy72c0GcNO8O/wpA1k=; b=A+l9T3S9SM1B3BNDgZkBSFpXIb1pZYbO4kVsA8a9uLwrJeop9sOxMbV/86h9wL1Dta TGGewc6rJ/VDLp1vsoomTCZa4SGYa9wXx8FrqrKpk6PCFSWxmVUqJe5yUyrmRP3SMhFQ dkIQF57UcH5M23gyoIA2sgbsEPn3aL2CUL+2k= X-Google-DKIM-Signature: v=1; a=rsa-sha256; c=relaxed/relaxed; d=1e100.net; s=20230601; t=1763052773; x=1763657573; h=references:in-reply-to:cc:to:from:subject:message-id:date:x-gm-gg :x-gm-message-state:from:to:cc:subject:date:message-id:reply-to; bh=D8ozZRFfTf3lRuvYcfVxQ78zeiy72c0GcNO8O/wpA1k=; b=PANjGK0XBf+ksQ6OCIfddITppZNnfMxGO1VWttDhIpWEK4jAUH3ogzzgUuqZJ+4GjV wG+KEHca7LKPdm6FhGngi0zuWmh+/m6JKpReTvofV9qj1N+Eo3TFkvrpJpxjiXyWpSju MHfYqz1OHgCds/H+Of5c3QMwfHHZPn75EprSNGzlfShDtL0gvMKG8M7aUGmhptfAfewK +pxyXiJp6WQpJV8eYWP7NxeYzeWrWLFEH3dn2xxH3yegLvG2tpjip88jMzxny8Tvyolb 6T85NOCuayG/q2QKHojK5yHA7N+XF3K7BuzfXe7NJ3psivHpouIX2k4OkOa8eEb5TQ5z u0TQ== X-Gm-Message-State: AOJu0Yy1wFgNHooC5zy5uZfvQIQrwVKCjr92IAWKi/mVaYeeTa7S0hMf rmqCPooUN0sxtWKPzS//Y9X3m4qQnrxwJ3BCeh31hCnuRYm7LosOe5lIBEgvzFWPvChrAzG6inF mhqGlw73vUw6pJhYfiaN3eH98tXXxS505aYXUgtyq6Fa4 X-Gm-Gg: ASbGncvdXs8L+BFxjSb657Y8C2pj7ZYh0HaCCfJSbV7m/ci1ix1cDsub8vq4fVqiZIM KF6XDLcHWUOeW7/MMYQF/Sf9cBtIdo6jYFFJDf52CeL0Gx1VPtBfZbArQ6rJ4dFjUJa+g7EJdFA jiJOPBAYL/P/3/ex9Bv3WiZfleTlhsWqmGDoPUgiCu9QiYMBelEMcWfpBfor9hBokkoA/6m8nfL qVTCJkA3PZ/KowJf+yzNGkSBA/RixQnU5wNYMjC9CO+iKFBMTTqBgWAOyUMOnbyCy6/UWUqUCJM 8D4sM2ZNrJB2mR8CbvoBPzAZ00Y1jm9UnxZyjFn+absHTFoz2LViDH+lL8AntTyhFsJ1i+Xt0Kr vWXKIn+SJAt0GaI47hA0oiAit4xP+2nw= X-Google-Smtp-Source: AGHT+IFJ5X6/IzhZImgOu0phvvvnug8eq6lPnAjaeO8F0x5GkV1PQglpQ+13fvNJzGgD7GxKphqxPgwBfaO1 X-Received: by 2002:a05:6214:529b:b0:880:58ef:3cb9 with SMTP id 6a1803df08f44-88271900fe8mr106079656d6.5.1763052773018; Thu, 13 Nov 2025 08:52:53 -0800 (PST) Received: from postal.iol.unh.edu (postal.iol.unh.edu. [132.177.123.84]) by smtp-relay.gmail.com with ESMTPS id 6a1803df08f44-88286572221sm2796976d6.28.2025.11.13.08.52.52 (version=TLS1_2 cipher=ECDHE-ECDSA-AES128-GCM-SHA256 bits=128/128); Thu, 13 Nov 2025 08:52:53 -0800 (PST) X-Relaying-Domain: iol.unh.edu Date: Thu, 13 Nov 2025 08:52:53 -0800 (PST) Message-ID: <69160ce5.050a0220.1c73a7.d205SMTPIN_ADDED_MISSING@mx.google.com> Received: from [172.21.0.3] (unknown [172.18.0.240]) by postal.iol.unh.edu (Postfix) with ESMTP id B8A2D6051830; Thu, 13 Nov 2025 11:52:52 -0500 (EST) Subject: |SUCCESS| pw158695 [PATCH] license: standardize SPDX tag for 3-Claus From: dpdklab@iol.unh.edu To: Test Report Cc: dpdk-test-reports@iol.unh.edu In-Reply-To: <20251112091335.662991-1-thomas@monjalon.net> References: <20251112091335.662991-1-thomas@monjalon.net> Content-Type: text/plain X-BeenThere: test-report@dpdk.org X-Mailman-Version: 2.1.29 Precedence: list List-Id: automatic DPDK test reports List-Unsubscribe: , List-Archive: List-Post: List-Help: List-Subscribe: , Errors-To: test-report-bounces@dpdk.org Test-Label: iol-unit-amd64-testing Test-Status: SUCCESS http://dpdk.org/patch/158695 _Testing PASS_ Submitter: Thomas Monjalon Date: Wednesday, November 12 2025 09:13:35 DPDK git baseline: Repo:dpdk Branch: master CommitID:be0112878b4fc3a1b918370ed2fe615c52039d77 158695 --> testing pass Upstream job id: Generic-VM-Unit-Test-DPDK#32488 Test environment and result as below: +-------------------------------+----------------+ | Environment | dpdk_unit_test | +===============================+================+ | CentOS Stream 10 | PASS | +-------------------------------+----------------+ | CentOS Stream 9 | PASS | +-------------------------------+----------------+ | Debian GNU/Linux 12 | PASS | +-------------------------------+----------------+ | Fedora Linux 40 | PASS | +-------------------------------+----------------+ | Fedora Linux 41 | PASS | +-------------------------------+----------------+ | Fedora Linux 42 | PASS | +-------------------------------+----------------+ | Red Hat Enterprise Linux 8.10 | PASS | +-------------------------------+----------------+ | Red Hat Enterprise Linux 9.5 | PASS | +-------------------------------+----------------+ | Ubuntu 22.04 | PASS | +-------------------------------+----------------+ | Ubuntu 20.04 | PASS | +-------------------------------+----------------+ | Ubuntu 24.04 | PASS | +-------------------------------+----------------+ | Windows Server 2022 | PASS | +-------------------------------+----------------+ CentOS Stream 10 Kernel: 5.15 Compiler: gcc gcc (GCC) 14.2.1 20250110 (Red Hat 14.2.1-8) CentOS Stream 9 Kernel: 5.15 Compiler: gcc gcc (GCC) 11.5.0 20240719 (Red Hat 11.5.0-11) Debian GNU/Linux 12 Kernel: 5.15 Compiler: gcc gcc (Debian 12.2.0-14+deb12u1) 12.2.0 Fedora Linux 40 Kernel: 5.15 Compiler: gcc gcc (GCC) 14.2.1 20240912 (Red Hat 14.2.1-3) Fedora Linux 41 Kernel: 5.15 Compiler: gcc gcc (GCC) 14.3.1 20250523 (Red Hat 14.3.1-1) Fedora Linux 42 Kernel: 5.15 Compiler: gcc gcc (GCC) 15.2.1 20250808 (Red Hat 15.2.1-1) Red Hat Enterprise Linux 8.10 Kernel: 5.15 Compiler: gcc gcc (GCC) 8.5.0 20210514 (Red Hat 8.5.0-22) Red Hat Enterprise Linux 9.5 Kernel: 5.15 Compiler: gcc gcc (GCC) 11.5.0 20240719 (Red Hat 11.5.0-2) Ubuntu 22.04 Kernel: 5.15 Compiler: gcc gcc (Ubuntu 11.4.0-1ubuntu1~22.04) 11.4.0 Ubuntu 20.04 Kernel: 5.15 Compiler: gcc gcc (Ubuntu 9.4.0-1ubuntu1~20.04.2) 9.4.0 Ubuntu 24.04 Kernel: 5.15 Compiler: gcc gcc (Ubuntu 13.3.0-6ubuntu2~24.04) 13.3.0 Windows Server 2022 Kernel: 10.0.20348.2031 Compiler: clang 15.0.7, gcc 14.1.0 (MinGW), and MSVC VS 19.39.33521 To view detailed results, visit: https://lab.dpdk.org/results/dashboard/patchsets/34545/ UNH-IOL DPDK Community Lab To manage your email subscriptions, visit: https://lab.dpdk.org/results/dashboard/preferences/subscriptions/