From mboxrd@z Thu Jan 1 00:00:00 1970 Return-Path: Received: from mails.dpdk.org (mails.dpdk.org [217.70.189.124]) by inbox.dpdk.org (Postfix) with ESMTP id 68A8448AFB for ; Thu, 13 Nov 2025 17:59:19 +0100 (CET) Received: from mails.dpdk.org (localhost [127.0.0.1]) by mails.dpdk.org (Postfix) with ESMTP id 43FBD40151; Thu, 13 Nov 2025 17:59:19 +0100 (CET) Received: from mail-yw1-f228.google.com (mail-yw1-f228.google.com [209.85.128.228]) by mails.dpdk.org (Postfix) with ESMTP id 475B540DD7 for ; Thu, 13 Nov 2025 17:59:18 +0100 (CET) Received: by mail-yw1-f228.google.com with SMTP id 00721157ae682-786635a8ce4so9490007b3.2 for ; Thu, 13 Nov 2025 08:59:18 -0800 (PST) DKIM-Signature: v=1; a=rsa-sha256; c=relaxed/relaxed; d=iol.unh.edu; s=unh-iol; t=1763053157; x=1763657957; darn=dpdk.org; h=references:in-reply-to:cc:to:from:subject:message-id:date:from:to :cc:subject:date:message-id:reply-to; bh=LusTBL401w+j78H/4VFUgXCH0vkDoWbVs09z7FGU+Eg=; b=VddJlpVUImxd83siIgj3ad7+gFJw+0IT0AEPFCIw2/SXZxTukm4OhFudffIMVqNKzv cC81pAxTq/hqbltXz2w3eeoVaRA4Q0zdpvCEN3Sh8PBpEjJoPYCBdKkByj4m68TBrOoE q+wz5IMxKCSwKQDTPgk7ImMZiR+Cf2wE3Wl0c= X-Google-DKIM-Signature: v=1; a=rsa-sha256; c=relaxed/relaxed; d=1e100.net; s=20230601; t=1763053157; x=1763657957; h=references:in-reply-to:cc:to:from:subject:message-id:date:x-gm-gg :x-gm-message-state:from:to:cc:subject:date:message-id:reply-to; bh=LusTBL401w+j78H/4VFUgXCH0vkDoWbVs09z7FGU+Eg=; b=uxVXR3KU+JLv87iiWwYn2i91nYb/wnI6leuSJ9nixTTXP3EVkEXLEI3Gl5UDh2sh+6 +U4MkI0QBw8FAvY0pPCZILN+T3XUYVQ4zTGH8Zaqu5x5VzF7jt0+Y9jT4Pg4HFS2O7xB EnizK2UtnOtfAm/Cf+SutS50zGcm1CG1gW3Z6KRpeoWKMJoFMIBdpT0p+jrBW+d86aao N+N//nMo1Bl7mUXiCDRPy4D/D539YxUK1L9mrPMs5ePseE/P9AxuKINzfNs/2UtpRc6x 7JKndZJ1Gk/FBy3Cccf/wRwjZE/HE5Aw+owpjDMn/OEM91EdTLIm3+Qqx1rkkOgEMMIW mX6g== X-Gm-Message-State: AOJu0YwqGjE9jA0NMpUxnFGae56F0HgPeM6HcVub+oQUAZXoriQ7vTHz 5pbsCZGsnwVYmdzNBhoPUr3JCHYr9iario3oAlxJnMobsMu4A5PW01qV3L3bDTUMUU3knXVEwdW cVefktlrbs+l5AWto6fVtjWbZ3AGK6WDTUPbxnAvuweQu X-Gm-Gg: ASbGnctMaI18lb3FoF3k34kFxbME2LRp0xqd6XWuC9qhMobQm81QdJYRkhB82zcdeq1 UKDvnhjdV6sXQF8hueVxSWbzvygfVZuYJ1ccZilTEl9mIy50pGH52U0v7viukiYPGzV0MNz8gBi D7m4PWeHbKBhFxq93IAT/6fmvUxeHwB4YTLq350UARzHbCkAGGbOZMZwGkEnfb83DBK72Gf21L7 S7eeSux8WrAMYpLg5+NjMvwheIoEjuQzk1CdIUM6mKRLxA85Xyhmoc4yz1SFixRaftriAz22yfr IzNJs7X3iwSHkxdG69vktE4dsLJQLA0UwOhOqqkKe5SQI53T9RLA3vUIllLHze/PQC+yPMANAbe 9d6qZBoPLkSSCDCsCIwM7zr45RYpIRFI= X-Google-Smtp-Source: AGHT+IFi+3aoFICrY9OpE9N7R8HOzF3mplZshOVW1clRGUVAX0fTE8jJuCTsVSWivRm1Opk+n5uIQAlAuczN X-Received: by 2002:a05:690c:c056:b0:786:6ea6:aead with SMTP id 00721157ae682-78929f0a551mr347617b3.38.1763053157642; Thu, 13 Nov 2025 08:59:17 -0800 (PST) Received: from postal.iol.unh.edu (postal.iol.unh.edu. [132.177.123.84]) by smtp-relay.gmail.com with ESMTPS id 00721157ae682-78821e32abdsm1298927b3.14.2025.11.13.08.59.17 (version=TLS1_2 cipher=ECDHE-ECDSA-AES128-GCM-SHA256 bits=128/128); Thu, 13 Nov 2025 08:59:17 -0800 (PST) X-Relaying-Domain: iol.unh.edu Date: Thu, 13 Nov 2025 08:59:17 -0800 (PST) Message-ID: <69160e65.050a0220.28274b.6024SMTPIN_ADDED_MISSING@mx.google.com> Received: from [172.21.0.2] (unknown [172.18.0.240]) by postal.iol.unh.edu (Postfix) with ESMTP id 51E696051830; Thu, 13 Nov 2025 11:59:17 -0500 (EST) Subject: |SUCCESS| pw158547 [PATCH] telemetry: make socket handler typedef pr From: dpdklab@iol.unh.edu To: Test Report Cc: dpdk-test-reports@iol.unh.edu In-Reply-To: <20251107093259.3305537-1-bruce.richardson@intel.com> References: <20251107093259.3305537-1-bruce.richardson@intel.com> Content-Type: text/plain X-BeenThere: test-report@dpdk.org X-Mailman-Version: 2.1.29 Precedence: list List-Id: automatic DPDK test reports List-Unsubscribe: , List-Archive: List-Post: List-Help: List-Subscribe: , Errors-To: test-report-bounces@dpdk.org Test-Label: iol-unit-arm64-testing Test-Status: SUCCESS http://dpdk.org/patch/158547 _Testing PASS_ Submitter: Bruce Richardson Date: Friday, November 07 2025 09:32:59 DPDK git baseline: Repo:dpdk Branch: master CommitID:be0112878b4fc3a1b918370ed2fe615c52039d77 158547 --> testing pass Upstream job id: Generic-Unit-Test-DPDK#391623 Test environment and result as below: +------------------------------+------------------------------+--------------+---------------------------+----------------+ | Environment | cryptodev_sw_snow3g_autotest | lpm_autotest | cryptodev_sw_zuc_autotest | dpdk_unit_test | +==============================+==============================+==============+===========================+================+ | Debian 12 (arm) | PASS | SKIPPED | PASS | SKIPPED | +------------------------------+------------------------------+--------------+---------------------------+----------------+ | Ubuntu 20.04 | SKIPPED | PASS | SKIPPED | PASS | +------------------------------+------------------------------+--------------+---------------------------+----------------+ | Ubuntu 22.04 | SKIPPED | SKIPPED | SKIPPED | PASS | +------------------------------+------------------------------+--------------+---------------------------+----------------+ | CentOS Stream 9 | SKIPPED | SKIPPED | SKIPPED | PASS | +------------------------------+------------------------------+--------------+---------------------------+----------------+ | CentOS Stream 10 | SKIPPED | SKIPPED | SKIPPED | PASS | +------------------------------+------------------------------+--------------+---------------------------+----------------+ | Fedora Linux 41 | SKIPPED | SKIPPED | SKIPPED | PASS | +------------------------------+------------------------------+--------------+---------------------------+----------------+ | Debian GNU/Linux 12 | SKIPPED | SKIPPED | SKIPPED | PASS | +------------------------------+------------------------------+--------------+---------------------------+----------------+ | Fedora Linux 42 | SKIPPED | SKIPPED | SKIPPED | PASS | +------------------------------+------------------------------+--------------+---------------------------+----------------+ | Fedora Linux 40 | SKIPPED | SKIPPED | SKIPPED | PASS | +------------------------------+------------------------------+--------------+---------------------------+----------------+ | Red Hat Enterprise Linux 9.5 | SKIPPED | SKIPPED | SKIPPED | PASS | +------------------------------+------------------------------+--------------+---------------------------+----------------+ | Ubuntu 24.04 | SKIPPED | SKIPPED | SKIPPED | PASS | +------------------------------+------------------------------+--------------+---------------------------+----------------+ Debian 12 (arm) Kernel: Depends on container host Compiler: gcc (Debian 12.2.0-14) 12.2.0 Ubuntu 20.04 Kernel: 5.4 Compiler: gcc gcc (Ubuntu 9.4.0-1ubuntu1~20.04.2) 9.4.0 Ubuntu 22.04 Kernel: 5.15 Compiler: gcc gcc (Ubuntu 11.4.0-1ubuntu1~22.04.2) 11.4.0 CentOS Stream 9 Kernel: 5.4 Compiler: gcc gcc (GCC) 11.5.0 20240719 (Red Hat 11.5.0-11) CentOS Stream 10 Kernel: 5.4 Compiler: gcc gcc (GCC) 14.2.1 20250110 (Red Hat 14.2.1-8) Fedora Linux 41 Kernel: 5.4 Compiler: clang gcc (GCC) 14.3.1 20250523 (Red Hat 14.3.1-1) Debian GNU/Linux 12 Kernel: 5.4 Compiler: gcc gcc (Debian 12.2.0-14+deb12u1) 12.2.0 Fedora Linux 42 Kernel: 5.4 Compiler: gcc gcc (GCC) 15.2.1 20250808 (Red Hat 15.2.1-1) Fedora Linux 40 Kernel: 5.4 Compiler: clang gcc (GCC) 14.2.1 20240912 (Red Hat 14.2.1-3) Red Hat Enterprise Linux 9.5 Kernel: 5.4 Compiler: gcc gcc (GCC) 11.5.0 20240719 (Red Hat 11.5.0-2) Ubuntu 24.04 Kernel: 5.4 Compiler: gcc gcc (Ubuntu 13.3.0-6ubuntu2~24.04) 13.3.0 To view detailed results, visit: https://lab.dpdk.org/results/dashboard/patchsets/34555/ UNH-IOL DPDK Community Lab To manage your email subscriptions, visit: https://lab.dpdk.org/results/dashboard/preferences/subscriptions/