From mboxrd@z Thu Jan 1 00:00:00 1970 Return-Path: Received: from mails.dpdk.org (mails.dpdk.org [217.70.189.124]) by inbox.dpdk.org (Postfix) with ESMTP id 467EF48AFC for ; Thu, 13 Nov 2025 18:26:56 +0100 (CET) Received: from mails.dpdk.org (localhost [127.0.0.1]) by mails.dpdk.org (Postfix) with ESMTP id 40DD140151; Thu, 13 Nov 2025 18:26:56 +0100 (CET) Received: from mail-il1-f225.google.com (mail-il1-f225.google.com [209.85.166.225]) by mails.dpdk.org (Postfix) with ESMTP id E50AF40151 for ; Thu, 13 Nov 2025 18:26:54 +0100 (CET) Received: by mail-il1-f225.google.com with SMTP id e9e14a558f8ab-433101f2032so5196825ab.1 for ; Thu, 13 Nov 2025 09:26:54 -0800 (PST) DKIM-Signature: v=1; a=rsa-sha256; c=relaxed/relaxed; d=iol.unh.edu; s=unh-iol; t=1763054814; x=1763659614; darn=dpdk.org; h=references:in-reply-to:cc:to:from:subject:message-id:date:from:to :cc:subject:date:message-id:reply-to; bh=fRTM1GCeoIKITDZhbK8D9fIyq/CerXnCp4fSjxNyk8E=; b=h2oqp6KR66smIJ54DQSsAbuW/AkKfhiM38cnYws9mcqezk3Yw+IJVllowtZE/cj+la VfOli9YtYLhxnoxr5nHIfmba498FA4KeZ6klH5p4MVEXiZLhwDBFQ1+v9gXFqgErePNF nPKLI6NNS4K5sfiIhf5Fc4x27VXG7S762lTyk= X-Google-DKIM-Signature: v=1; a=rsa-sha256; c=relaxed/relaxed; d=1e100.net; s=20230601; t=1763054814; x=1763659614; h=references:in-reply-to:cc:to:from:subject:message-id:date:x-gm-gg :x-gm-message-state:from:to:cc:subject:date:message-id:reply-to; bh=fRTM1GCeoIKITDZhbK8D9fIyq/CerXnCp4fSjxNyk8E=; b=Wgz3Iw3OdZOgvCbSgW21mJZfZBrVBegPckhXKytxD3scsQRJtlSmJxkfcYgou7GRar 3vrLP2rvrz/a3XMRbS2yTTO+dHcljkmY965+5KaFjD7INY8AuB2SGuLJLcPon0I1deZa ijH1S6Q2b1axpUANDtNzwKL/4WIUTyopV/74G/FebGgNukoZM45wdHNgo/jhx64sdwzT Y1Zu14nf0R69Vmm93Bp/msrcHf69cvgImJZ061CfhOz+bkBA6deEpgLDWu5fNt5vIyJL fZqbBAi8f0zXiBUN4Oa0T4pNQK2r19S7XFInD9lvnNkx24AtgJe3EVWyaVSyw80rbD4D mCLw== X-Gm-Message-State: AOJu0YyrHVvfXedfzWtuJRNVtctB2miTZ1fQKBlDVyvQCFocOdUvHbvn zy5VsRLdBrldz89/+od//qEeGYihM11/O6FkQnAxGUb/PwQtjhc4jKQbihxknX/0UlQVAE12mIu 1AVXLW/XVqoo0NBLX3ckeiwULXppt5CJfR5oV8qd8vumZbgvKumA96jH6QCdr X-Gm-Gg: ASbGncss+5RQrjsYZS1A1+ivW1vqnzqrMC66yxWoOLZsdsK8FK0toa0BvqGfU3zZ6iw rfZ141/Pz8qsZOfMejnZQDgGRKUE5rRJPt0XpSpVnnqpW3nZzccVxyuvKn6m3vKbj9EaYAFotly XivmLuKURlfKyVEs3jGVf0iwUtbG/sDRWkY+6k5MRHgpmX8+nANUHBUsWXIP5z59ngEo6FDq0Vd RD9ntYZ9u1GhUqQLDwDYS5n/lGi3QnQszPDgbc0Ku61sor8KnidPy4fXb1O7VJjCkjQsvNLnj/i UCuY8Rc7zHF850qT9wA9rcjM/LhVIJ6z2DVRl53nXC9odbLiZUgF32LS4BjNippjfwtklu/7P/N YO3d5COTN X-Google-Smtp-Source: AGHT+IEhgtbUU5rooooTNWBgbUieQbP0NfmlEa0/wCJ31998rLtzmu3WGiTlLBn6f9S8KJLQtq8KV6JShLPE X-Received: by 2002:a05:6e02:3e8d:b0:433:5736:96a2 with SMTP id e9e14a558f8ab-4348c8be27bmr5460515ab.12.1763054814232; Thu, 13 Nov 2025 09:26:54 -0800 (PST) Received: from postal.iol.unh.edu (postal.iol.unh.edu. [2606:4100:3880:1234::84]) by smtp-relay.gmail.com with ESMTPS id e9e14a558f8ab-43482bd5d66sm2175855ab.0.2025.11.13.09.26.54 (version=TLS1_2 cipher=ECDHE-ECDSA-AES128-GCM-SHA256 bits=128/128); Thu, 13 Nov 2025 09:26:54 -0800 (PST) X-Relaying-Domain: iol.unh.edu Date: Thu, 13 Nov 2025 09:26:54 -0800 (PST) Message-ID: <691614de.050a0220.147db7.9c01SMTPIN_ADDED_MISSING@mx.google.com> Received: from [172.21.0.3] (unknown [172.18.0.240]) by postal.iol.unh.edu (Postfix) with ESMTP id CA4156051830; Thu, 13 Nov 2025 12:26:53 -0500 (EST) Subject: |SUCCESS| pw158756-158759 [PATCH] [v4,4/4] bus/fslmc: add support fo From: dpdklab@iol.unh.edu To: Test Report Cc: dpdk-test-reports@iol.unh.edu, Stephen Hemminger In-Reply-To: <20251113114355.2027438-4-hemant.agrawal@nxp.com> References: <20251113114355.2027438-4-hemant.agrawal@nxp.com> Content-Type: text/plain X-BeenThere: test-report@dpdk.org X-Mailman-Version: 2.1.29 Precedence: list List-Id: automatic DPDK test reports List-Unsubscribe: , List-Archive: List-Post: List-Help: List-Subscribe: , Errors-To: test-report-bounces@dpdk.org Test-Label: iol-compile-amd64-testing Test-Status: SUCCESS http://dpdk.org/patch/158759 _Testing PASS_ Submitter: Hemant Agrawal Date: Thursday, November 13 2025 11:43:55 DPDK git baseline: Repo:dpdk-next-net Branch: master CommitID:29807269854f9bfc72f1323273de8e23adc724d4 158756-158759 --> testing pass Upstream job id: Generic-DPDK-Compile-Meson#443834 Test environment and result as below: +---------------------+--------------------+ | Environment | dpdk_meson_compile | +=====================+====================+ | Ubuntu 20.04 | PASS | +---------------------+--------------------+ | FreeBSD 14.2 | PASS | +---------------------+--------------------+ | Alpine Linux 3.22.0 | PASS | +---------------------+--------------------+ Ubuntu 20.04 Kernel: 4.19 Compiler: gcc gcc (Ubuntu 9.4.0-1ubuntu1~20.04.2) 9.4.0 FreeBSD 14.2 Kernel: 14.2-RELEASE Compiler: clang 18.1.6 Alpine Linux 3.22.0 Kernel: 5.15 Compiler: gcc gcc (Alpine 14.2.0) 14.2.0 To view detailed results, visit: https://lab.dpdk.org/results/dashboard/patchsets/34573/ UNH-IOL DPDK Community Lab To manage your email subscriptions, visit: https://lab.dpdk.org/results/dashboard/preferences/subscriptions/