From mboxrd@z Thu Jan 1 00:00:00 1970 Return-Path: Received: from mails.dpdk.org (mails.dpdk.org [217.70.189.124]) by inbox.dpdk.org (Postfix) with ESMTP id C25BB48AFC for ; Thu, 13 Nov 2025 18:32:15 +0100 (CET) Received: from mails.dpdk.org (localhost [127.0.0.1]) by mails.dpdk.org (Postfix) with ESMTP id BBBF240151; Thu, 13 Nov 2025 18:32:15 +0100 (CET) Received: from mail-yw1-f226.google.com (mail-yw1-f226.google.com [209.85.128.226]) by mails.dpdk.org (Postfix) with ESMTP id 5AFC440151 for ; Thu, 13 Nov 2025 18:32:14 +0100 (CET) Received: by mail-yw1-f226.google.com with SMTP id 00721157ae682-787e7aa1631so23120837b3.1 for ; Thu, 13 Nov 2025 09:32:14 -0800 (PST) DKIM-Signature: v=1; a=rsa-sha256; c=relaxed/relaxed; d=iol.unh.edu; s=unh-iol; t=1763055134; x=1763659934; darn=dpdk.org; h=references:in-reply-to:cc:to:from:subject:message-id:date:from:to :cc:subject:date:message-id:reply-to; bh=h+wC1ABaO1JZEU2RYKwhzr7Ou/rqZgmE7WTJg6B89nY=; b=g1uuGrrQbCXQgGe9FX+NPaCEH0hzIlxEADj14235uQWxhW3UC7J8kjsOYSrRKzYcfy I9KybmioQymVi3y5G6PgR5jMr3kKVF10GXlfrZ3lrxGtEAXUdpekOb0vkp9ZrFyCmiLZ StgftIOCAhb+iaUhPv5IoQ4ZIIszD2JHMekxE= X-Google-DKIM-Signature: v=1; a=rsa-sha256; c=relaxed/relaxed; d=1e100.net; s=20230601; t=1763055134; x=1763659934; h=references:in-reply-to:cc:to:from:subject:message-id:date:x-gm-gg :x-gm-message-state:from:to:cc:subject:date:message-id:reply-to; bh=h+wC1ABaO1JZEU2RYKwhzr7Ou/rqZgmE7WTJg6B89nY=; b=E9MbTEHar1H0eRXoHLt6lkDp837x0r4NDnfycZDs52imjdsNWV5drNM+U6fnlxvVJK cVPii3tSSEVch24AfKms3Kj7PhdjWS8JlWEFRz2IVDdw9O7aX/77CKi1lUgRKC4SWkZ0 hISgHiBiHdtopY2JDA/mFQ/kZIgAO1hWR2E0AENlCsg1OWUnZR55nwEXAHjrsm/rjdYY Tdp3noBNbwl5yRQuY8CgwdHchprO1kk6AOqO6tEBAHeJOl6uHkdOH2Nq1L3yUBGhQ4sd s4tHt9giuh8OhNoqwZdt4vR+BgjrmbvRI33/t822ngRX7sEfc+Ztf3QjE2zBP3hO3c01 fLEw== X-Gm-Message-State: AOJu0YwfOZOTsLf8atrdvmR8La3eH4FMgPyNIKGJpiwRs//ww137H976 Lg0L39OQX5A73ddNe6azxikX1bDX8jjRlViiEWAXisopNkPboXlD2ZusCDxaHdpoHlBfYzB+Ljl AglXAZ9Qr8Umm6EqFBYk+HhcTjYPTwQWwTcF14i+Dwy/naJ/DH20x8W3lTSnc X-Gm-Gg: ASbGncsIiKG0T3xynizkXjv85lLrxp88fZ2diKJ/K1QjmDR/hdQp1CyepyE0xOteX7d ZYNJzZq7gcn1GJTELRlZASwxDiUJOxtrA87SB4ZufX2JeU0WDkesH2S7byZ6OAf8zCKibww6s+q uVFaOKhtfolsXhMNyKpCFMojMIwYu36ll5duT2eLNTidq27+Vsd98QYrtBtNpimMLImm5RsTrWZ 8xN7frgH39JnSwfSgea7fWmOuKXZmRFRzuGiRMxSL56qtYj7hY8x2vYB7qsXl44OF8/xcNlXaFb W2V7/jPbc/NHspZgzPL0iTz2MWumUDjC6o7sKbKkEVXGs0IY+qo3UIvvdbOSWZASZC9pW08D7IZ BfGz7fmyz X-Google-Smtp-Source: AGHT+IHAddSjvkE+2vyyhjVAKr7czU+4i2VZUs0knKJzIxKRofBzPeGA3dR50bzysjF3IeTC/6ZxNxvLb7U8 X-Received: by 2002:a05:690c:3703:b0:786:5b30:7757 with SMTP id 00721157ae682-7892961f25dmr3408997b3.18.1763055133782; Thu, 13 Nov 2025 09:32:13 -0800 (PST) Received: from postal.iol.unh.edu (postal.iol.unh.edu. [2606:4100:3880:1234::84]) by smtp-relay.gmail.com with ESMTPS id 00721157ae682-78821dee4e6sm1437487b3.1.2025.11.13.09.32.13 (version=TLS1_2 cipher=ECDHE-ECDSA-AES128-GCM-SHA256 bits=128/128); Thu, 13 Nov 2025 09:32:13 -0800 (PST) X-Relaying-Domain: iol.unh.edu Date: Thu, 13 Nov 2025 09:32:13 -0800 (PST) Message-ID: <6916161d.050a0220.2c5cb9.6808SMTPIN_ADDED_MISSING@mx.google.com> Received: from [172.21.0.2] (unknown [172.18.0.240]) by postal.iol.unh.edu (Postfix) with ESMTP id 724F26050A61; Thu, 13 Nov 2025 12:32:13 -0500 (EST) Subject: |SUCCESS| pw158701 [PATCH] [V3] net/mlx5: fix IPv6 DSCP offset in HW From: dpdklab@iol.unh.edu To: Test Report Cc: dpdk-test-reports@iol.unh.edu In-Reply-To: <20251112134236.195614-1-gavinl@nvidia.com> References: <20251112134236.195614-1-gavinl@nvidia.com> Content-Type: text/plain X-BeenThere: test-report@dpdk.org X-Mailman-Version: 2.1.29 Precedence: list List-Id: automatic DPDK test reports List-Unsubscribe: , List-Archive: List-Post: List-Help: List-Subscribe: , Errors-To: test-report-bounces@dpdk.org Test-Label: iol-compile-amd64-testing Test-Status: SUCCESS http://dpdk.org/patch/158701 _Testing PASS_ Submitter: Gavin Li Date: Wednesday, November 12 2025 13:42:36 DPDK git baseline: Repo:dpdk-next-net-mlx Branch: master CommitID:ae657d56b1f0ea979b3f611edf28d773efc2ddcf 158701 --> testing pass Upstream job id: Windows-Compile-DPDK-VS#7517 Test environment and result as below: +-------------------------------+--------------------+------------------+-------------------+ | Environment | dpdk_meson_compile | dpdk_compile_ovs | dpdk_msvc_compile | +===============================+====================+==================+===================+ | Ubuntu 20.04 | PASS | SKIPPED | SKIPPED | +-------------------------------+--------------------+------------------+-------------------+ | FreeBSD 14.2 | PASS | SKIPPED | SKIPPED | +-------------------------------+--------------------+------------------+-------------------+ | CentOS Stream 9 | PASS | SKIPPED | SKIPPED | +-------------------------------+--------------------+------------------+-------------------+ | CentOS Stream 10 | PASS | SKIPPED | SKIPPED | +-------------------------------+--------------------+------------------+-------------------+ | Debian GNU/Linux 12 | PASS | SKIPPED | SKIPPED | +-------------------------------+--------------------+------------------+-------------------+ | Fedora Linux 42 | PASS | PASS | SKIPPED | +-------------------------------+--------------------+------------------+-------------------+ | openSUSE Leap 15.6 | PASS | SKIPPED | SKIPPED | +-------------------------------+--------------------+------------------+-------------------+ | Red Hat Enterprise Linux 8.10 | PASS | SKIPPED | SKIPPED | +-------------------------------+--------------------+------------------+-------------------+ | Red Hat Enterprise Linux 9.5 | PASS | SKIPPED | SKIPPED | +-------------------------------+--------------------+------------------+-------------------+ | Ubuntu 22.04 | PASS | SKIPPED | SKIPPED | +-------------------------------+--------------------+------------------+-------------------+ | Ubuntu 24.04 | PASS | PASS | SKIPPED | +-------------------------------+--------------------+------------------+-------------------+ | Alpine Linux 3.22.0 | PASS | SKIPPED | SKIPPED | +-------------------------------+--------------------+------------------+-------------------+ | Windows Server 2022 | SKIPPED | SKIPPED | PASS | +-------------------------------+--------------------+------------------+-------------------+ Ubuntu 20.04 Kernel: 4.19 Compiler: gcc gcc (Ubuntu 9.4.0-1ubuntu1~20.04.2) 9.4.0 FreeBSD 14.2 Kernel: 14.2-RELEASE Compiler: clang 18.1.6 CentOS Stream 9 Kernel: 5.15 Compiler: gcc gcc (GCC) 11.5.0 20240719 (Red Hat 11.5.0-11) CentOS Stream 10 Kernel: 5.15 Compiler: gcc gcc (GCC) 14.2.1 20250110 (Red Hat 14.2.1-8) Debian GNU/Linux 12 Kernel: 5.15 Compiler: gcc gcc (Debian 12.2.0-14+deb12u1) 12.2.0 Fedora Linux 42 Kernel: 5.15 Compiler: clang gcc (GCC) 15.2.1 20250808 (Red Hat 15.2.1-1) openSUSE Leap 15.6 Kernel: 5.15 Compiler: gcc gcc (SUSE Linux) 7.5.0 Red Hat Enterprise Linux 8.10 Kernel: 5.15 Compiler: gcc gcc (GCC) 8.5.0 20210514 (Red Hat 8.5.0-22) Red Hat Enterprise Linux 9.5 Kernel: 5.15 Compiler: gcc gcc (GCC) 11.5.0 20240719 (Red Hat 11.5.0-2) Ubuntu 22.04 Kernel: 5.15 Compiler: gcc gcc (Ubuntu 11.4.0-1ubuntu1~22.04) 11.4.0 Ubuntu 24.04 Kernel: 5.15 Compiler: gcc gcc (Ubuntu 13.3.0-6ubuntu2~24.04) 13.3.0 Alpine Linux 3.22.0 Kernel: 5.15 Compiler: gcc gcc (Alpine 14.2.0) 14.2.0 Windows Server 2022 Kernel: 10.0.20348.2031 Compiler: clang 15.0.7, gcc 14.1.0 (MinGW), and MSVC VS 19.39.33521 To view detailed results, visit: https://lab.dpdk.org/results/dashboard/patchsets/34550/ UNH-IOL DPDK Community Lab To manage your email subscriptions, visit: https://lab.dpdk.org/results/dashboard/preferences/subscriptions/