From mboxrd@z Thu Jan 1 00:00:00 1970 Return-Path: Received: from mails.dpdk.org (mails.dpdk.org [217.70.189.124]) by inbox.dpdk.org (Postfix) with ESMTP id 6790848AFC for ; Thu, 13 Nov 2025 18:34:37 +0100 (CET) Received: from mails.dpdk.org (localhost [127.0.0.1]) by mails.dpdk.org (Postfix) with ESMTP id 6124640151; Thu, 13 Nov 2025 18:34:37 +0100 (CET) Received: from mail-io1-f100.google.com (mail-io1-f100.google.com [209.85.166.100]) by mails.dpdk.org (Postfix) with ESMTP id 04E6C40151 for ; Thu, 13 Nov 2025 18:34:36 +0100 (CET) Received: by mail-io1-f100.google.com with SMTP id ca18e2360f4ac-948a4489a6dso47130839f.1 for ; Thu, 13 Nov 2025 09:34:35 -0800 (PST) DKIM-Signature: v=1; a=rsa-sha256; c=relaxed/relaxed; d=iol.unh.edu; s=unh-iol; t=1763055275; x=1763660075; darn=dpdk.org; h=references:in-reply-to:cc:to:from:subject:message-id:date:from:to :cc:subject:date:message-id:reply-to; bh=foBt5klnCAyRS4YtGOc7kaB4C0tOGgmfoKUQuGho6gg=; b=Nzl3Sjrmg5+8eMYmQ9f7nO7m4fJOrEurwsYs+WK6a9W4XN2xprYceJWKACmZkhWDqV 4mnOWdKF9TxRplcG/lpY1w+2lHMn3eI+2HOrybg54HtkIR/BygCDlbiuyc31Q8nAOmPH CmX0E9KY6Ey/mvowsnSqpIz17KqMjaj2dPrNU= X-Google-DKIM-Signature: v=1; a=rsa-sha256; c=relaxed/relaxed; d=1e100.net; s=20230601; t=1763055275; x=1763660075; h=references:in-reply-to:cc:to:from:subject:message-id:date:x-gm-gg :x-gm-message-state:from:to:cc:subject:date:message-id:reply-to; bh=foBt5klnCAyRS4YtGOc7kaB4C0tOGgmfoKUQuGho6gg=; b=EYpyYN/mngfCq8e85FPEpe0hM9f0t2faCEKeE1g7gG1O3UgQTryqgXKuVLkbfZ2YwD IOP3GxFBSjJ0DlRL+JQwcLkL9kgIpN+MwVhvoEAPVvEIfdM0ZCcYhEVQbBIW+jJF8Ekm 2jQqscxcii0h3Bzq/mQs1KYzNbwiKL2h6fVoDZm+gVB3YGzooNUzBhHEPdkSvyHJGrj7 +K/kXu4hd9lEiA20H5ALXtN5dcq1afVK8djn7H7G/08FHP2q6kGXgTqoLISoy7FN4Bnv B28VRUPNFH1hVlEMQklEH5tB/Nqw9a/4v7GELZalPpD3rz6YYcfzK/MY0dhZ/DSxES4D rRDQ== X-Gm-Message-State: AOJu0YwKhXRHYeV90uaPwdqA2xNntAanL1l70tXAyPHgP0NsK2Gw46JR 7EK8RmXj8tygLUwnq3DKrwu4Z8X0K8wqpzzvXdnGrlE6EmSgcAIvmNG29grz5aVDK/ecvFuVeyf k9/0bPTAnPWhHiJ7tw9803SSSzhpWqnmHcYtUVZhDUzjr X-Gm-Gg: ASbGncuWv5TFJAmQt1+lPazJzZdDvOI6VbO7Ic1txEfj4px4DnEqz5/L87NZQFBtVvs E2+Vo2QFyJwvUfq+UrTXAzt1KgbNg+ePpYM14cn9TGlOe2Oahi3SuPaWG79Ki7Y/+b+2URJYZZe viZt7A19WZv64nX6PRWX6rQIACnfW4g1jPkRlahJdKTYt4Xt4gknJ+jjZtYQGCXh8IRMb2W6H6i 9BswK/vnA7+ZOY3+ugVFjC13OuYYmBtbKQHrZoqvBeK3L5TUsI6i/gMjyozuYC3xm8XCrV7n787 NbBZO7IzqMocUz8DNN3E8vOcixTNM0FaQHZuSoIhjUUVix1eUYUo/QS0/FBZ7f9BTQStTb67cPm yv6yiFcgtzOSPHbny7G6e4RWh5TeUNn4= X-Google-Smtp-Source: AGHT+IFcG74ojGBaclziuhoNZjvgt2sEs5BkMEd/LI5bXH0jKqUkifDsUBBrjHESvjFYb2PEOijguN3mMIzI X-Received: by 2002:a05:6602:6d89:b0:948:cb8a:346e with SMTP id ca18e2360f4ac-948e0de0a2amr25718839f.18.1763055275309; Thu, 13 Nov 2025 09:34:35 -0800 (PST) Received: from postal.iol.unh.edu (postal.iol.unh.edu. [132.177.123.84]) by smtp-relay.gmail.com with ESMTPS id 8926c6da1cb9f-5b7bd246a41sm216380173.4.2025.11.13.09.34.35 (version=TLS1_2 cipher=ECDHE-ECDSA-AES128-GCM-SHA256 bits=128/128); Thu, 13 Nov 2025 09:34:35 -0800 (PST) X-Relaying-Domain: iol.unh.edu Date: Thu, 13 Nov 2025 09:34:35 -0800 (PST) Message-ID: <691616ab.050a0220.38e609.a04cSMTPIN_ADDED_MISSING@mx.google.com> Received: from [172.21.0.2] (unknown [172.18.0.240]) by postal.iol.unh.edu (Postfix) with ESMTP id CF3816050A61; Thu, 13 Nov 2025 12:34:34 -0500 (EST) Subject: |SUCCESS| pw158663-158667 [PATCH] [v4,5/5] vhost_user: Increase numb From: dpdklab@iol.unh.edu To: Test Report Cc: dpdk-test-reports@iol.unh.edu, Chenbo Xia , Maxime Coquelin In-Reply-To: <20251111114521.2902867-6-pravin.bathija@dell.com> References: <20251111114521.2902867-6-pravin.bathija@dell.com> Content-Type: text/plain X-BeenThere: test-report@dpdk.org X-Mailman-Version: 2.1.29 Precedence: list List-Id: automatic DPDK test reports List-Unsubscribe: , List-Archive: List-Post: List-Help: List-Subscribe: , Errors-To: test-report-bounces@dpdk.org Test-Label: iol-compile-amd64-testing Test-Status: SUCCESS http://dpdk.org/patch/158667 _Testing PASS_ Submitter: Bathija, Pravin Date: Tuesday, November 11 2025 11:45:21 DPDK git baseline: Repo:dpdk-next-virtio Branch: master CommitID:6b37c26a95388aa41bb5267c7c42f604fd571a38 158663-158667 --> testing pass Upstream job id: Windows-Compile-DPDK-Native#32295 Test environment and result as below: +-------------------------------+--------------------+------------------+-------------------+-------------------------+----------------------+ | Environment | dpdk_meson_compile | dpdk_compile_ovs | dpdk_msvc_compile | dpdk_llvm_clang_compile | dpdk_mingw64_compile | +===============================+====================+==================+===================+=========================+======================+ | Ubuntu 20.04 | PASS | SKIPPED | SKIPPED | SKIPPED | SKIPPED | +-------------------------------+--------------------+------------------+-------------------+-------------------------+----------------------+ | FreeBSD 14.2 | PASS | SKIPPED | SKIPPED | SKIPPED | SKIPPED | +-------------------------------+--------------------+------------------+-------------------+-------------------------+----------------------+ | CentOS Stream 9 | PASS | SKIPPED | SKIPPED | SKIPPED | SKIPPED | +-------------------------------+--------------------+------------------+-------------------+-------------------------+----------------------+ | CentOS Stream 10 | PASS | SKIPPED | SKIPPED | SKIPPED | SKIPPED | +-------------------------------+--------------------+------------------+-------------------+-------------------------+----------------------+ | Debian GNU/Linux 12 | PASS | SKIPPED | SKIPPED | SKIPPED | SKIPPED | +-------------------------------+--------------------+------------------+-------------------+-------------------------+----------------------+ | Fedora Linux 42 | PASS | PASS | SKIPPED | SKIPPED | SKIPPED | +-------------------------------+--------------------+------------------+-------------------+-------------------------+----------------------+ | openSUSE Leap 15.6 | PASS | SKIPPED | SKIPPED | SKIPPED | SKIPPED | +-------------------------------+--------------------+------------------+-------------------+-------------------------+----------------------+ | Red Hat Enterprise Linux 8.10 | PASS | SKIPPED | SKIPPED | SKIPPED | SKIPPED | +-------------------------------+--------------------+------------------+-------------------+-------------------------+----------------------+ | Red Hat Enterprise Linux 9.5 | PASS | SKIPPED | SKIPPED | SKIPPED | SKIPPED | +-------------------------------+--------------------+------------------+-------------------+-------------------------+----------------------+ | Ubuntu 22.04 | PASS | SKIPPED | SKIPPED | SKIPPED | SKIPPED | +-------------------------------+--------------------+------------------+-------------------+-------------------------+----------------------+ | Ubuntu 24.04 | PASS | PASS | SKIPPED | SKIPPED | SKIPPED | +-------------------------------+--------------------+------------------+-------------------+-------------------------+----------------------+ | Alpine Linux 3.22.0 | PASS | SKIPPED | SKIPPED | SKIPPED | SKIPPED | +-------------------------------+--------------------+------------------+-------------------+-------------------------+----------------------+ | Windows Server 2022 | SKIPPED | SKIPPED | PASS | PASS | PASS | +-------------------------------+--------------------+------------------+-------------------+-------------------------+----------------------+ Ubuntu 20.04 Kernel: 4.19 Compiler: gcc gcc (Ubuntu 9.4.0-1ubuntu1~20.04.2) 9.4.0 FreeBSD 14.2 Kernel: 14.2-RELEASE Compiler: clang 18.1.6 CentOS Stream 9 Kernel: 5.15 Compiler: gcc gcc (GCC) 11.5.0 20240719 (Red Hat 11.5.0-11) CentOS Stream 10 Kernel: 5.15 Compiler: gcc gcc (GCC) 14.2.1 20250110 (Red Hat 14.2.1-8) Debian GNU/Linux 12 Kernel: 5.15 Compiler: gcc gcc (Debian 12.2.0-14+deb12u1) 12.2.0 Fedora Linux 42 Kernel: 5.15 Compiler: clang gcc (GCC) 15.2.1 20250808 (Red Hat 15.2.1-1) openSUSE Leap 15.6 Kernel: 5.15 Compiler: gcc gcc (SUSE Linux) 7.5.0 Red Hat Enterprise Linux 8.10 Kernel: 5.15 Compiler: gcc gcc (GCC) 8.5.0 20210514 (Red Hat 8.5.0-22) Red Hat Enterprise Linux 9.5 Kernel: 5.15 Compiler: gcc gcc (GCC) 11.5.0 20240719 (Red Hat 11.5.0-2) Ubuntu 22.04 Kernel: 5.15 Compiler: gcc gcc (Ubuntu 11.4.0-1ubuntu1~22.04) 11.4.0 Ubuntu 24.04 Kernel: 5.15 Compiler: gcc gcc (Ubuntu 13.3.0-6ubuntu2~24.04) 13.3.0 Alpine Linux 3.22.0 Kernel: 5.15 Compiler: gcc gcc (Alpine 14.2.0) 14.2.0 Windows Server 2022 Kernel: 10.0.20348.2031 Compiler: clang 15.0.7, gcc 14.1.0 (MinGW), and MSVC VS 19.39.33521 To view detailed results, visit: https://lab.dpdk.org/results/dashboard/patchsets/34535/ UNH-IOL DPDK Community Lab To manage your email subscriptions, visit: https://lab.dpdk.org/results/dashboard/preferences/subscriptions/