From mboxrd@z Thu Jan 1 00:00:00 1970 Return-Path: Received: from mails.dpdk.org (mails.dpdk.org [217.70.189.124]) by inbox.dpdk.org (Postfix) with ESMTP id 41CBE48AFC for ; Thu, 13 Nov 2025 18:43:14 +0100 (CET) Received: from mails.dpdk.org (localhost [127.0.0.1]) by mails.dpdk.org (Postfix) with ESMTP id 3B72040151; Thu, 13 Nov 2025 18:43:14 +0100 (CET) Received: from mail-pl1-f226.google.com (mail-pl1-f226.google.com [209.85.214.226]) by mails.dpdk.org (Postfix) with ESMTP id 157F040151 for ; Thu, 13 Nov 2025 18:43:12 +0100 (CET) Received: by mail-pl1-f226.google.com with SMTP id d9443c01a7336-297dd95ffe4so9162835ad.3 for ; Thu, 13 Nov 2025 09:43:12 -0800 (PST) DKIM-Signature: v=1; a=rsa-sha256; c=relaxed/relaxed; d=iol.unh.edu; s=unh-iol; t=1763055791; x=1763660591; darn=dpdk.org; h=references:in-reply-to:cc:to:from:subject:message-id:date:from:to :cc:subject:date:message-id:reply-to; bh=T/63URZn4pFxdxGGNFjIKMZ1r2VucKIg+7mlA2pw7N0=; b=dzMBjKIHO5kKh3TIojHwBhSzzDC2nwYL6xhrLPTF8t8Vcq93OKvlwvWsq54dBSK2ow RtWC4+4q49aeNn3ITbWqgbuCbT2AL6TNZyjanchIrIFONNfkr1VQF4ruFIMhZWbzx3vV 45z5h56E6Wkd5EDwmTlzKT6bz5WcUlQkE1W08= X-Google-DKIM-Signature: v=1; a=rsa-sha256; c=relaxed/relaxed; d=1e100.net; s=20230601; t=1763055791; x=1763660591; h=references:in-reply-to:cc:to:from:subject:message-id:date:x-gm-gg :x-gm-message-state:from:to:cc:subject:date:message-id:reply-to; bh=T/63URZn4pFxdxGGNFjIKMZ1r2VucKIg+7mlA2pw7N0=; b=U2CPkVEOSNUZY65F/bAFfK8kzhWn279ysqP2LvBwOx/NQ0SGFmpRF4OGecC6r+dwau heM8/LjBDB4OTjfqghL4T0LxCV/do2b8sTuNKk6OAdVLYvRbhtMxXUDzIMuNMUvCJftQ XojrqdLBPsq4wxW6aesv95zh22kmuHxGZcoHnSh/+Jo+1Ju/DX/fn5ueHBjwxrdmdqpn WPM2HigXk31+TCC7gHcG5/Jk5di1GP6rQAkVwL8HmgZF8c+fa6IL5BjpbpqkjSjOf3sA L6SrqxPil1TV/6Rt0YUcc+Rr/+ifW65aj164OWa8h4F678L2L3TH/a6iFr5KdXW/sfVI Sz/Q== X-Gm-Message-State: AOJu0Yx5yyiOSCdlA1Jv3q6cXBoaf725Smv3opE+gLX/1NhC4TSOePoU 47ocAUPUWBlXDFc8wH4FJp4bFcOo8zDPrC0HpOsCtZH1uuyjZAJzQQBXRk25GeC96HzNQTTeDWY 5avGGIyq8Dcsp9zCEwpZ2gmRXchN2QZi+MaOfU/t+QjHX X-Gm-Gg: ASbGncuvTGaq7SDeVKLbzIEgcZL7JVj0rWkT2gTVPc4drxMc6K2erRQzSdv4hYEfCQ8 2U3J4zcY0Sxa1eB1L2T4NuRei6SyJGKuQwn1JM3D+8QGRFgBiHK1rK30DjZaBANPcpw2ySQJziR 7NQlb6wDd17F/U4enijuCZ0/lFmkO9hMLqH9FSFGKPQ7916YQIGFw1INgV7sfGDZp/9SWOufK0z MuITrcjN3+FrQAn3Q93LLrt7o1Jrfaz21jK5eUpYP/CTYp19CwVVwpwYhoS7losMi/QuBgMkZYh a1jlwfojelkga/ldybBiwkScS+gyOLYqHpPS9J+ajXGoNq1YIs5eEhiu8xGrkJYJhcExmMZGKyi tmx/VXe+Ku3cwZSXjtgaJ8zLF+l6bM0I= X-Google-Smtp-Source: AGHT+IEKT0L4U9gzS0TdcNahYTDgni8pD9iJF5VhcrC36hv3MXc+1emtVruPkEJgjzr0QbIHC6ruWV6RFgys X-Received: by 2002:a17:903:19cf:b0:294:fcae:826 with SMTP id d9443c01a7336-2984edeedffmr111017635ad.59.1763055790946; Thu, 13 Nov 2025 09:43:10 -0800 (PST) Received: from postal.iol.unh.edu (postal.iol.unh.edu. [132.177.123.84]) by smtp-relay.gmail.com with ESMTPS id d9443c01a7336-2985c234814sm2812975ad.8.2025.11.13.09.43.10 (version=TLS1_2 cipher=ECDHE-ECDSA-AES128-GCM-SHA256 bits=128/128); Thu, 13 Nov 2025 09:43:10 -0800 (PST) X-Relaying-Domain: iol.unh.edu Date: Thu, 13 Nov 2025 09:43:10 -0800 (PST) Message-ID: <691618ae.170a0220.c5523.da06SMTPIN_ADDED_MISSING@mx.google.com> Received: from [172.21.0.3] (unknown [172.18.0.240]) by postal.iol.unh.edu (Postfix) with ESMTP id 70E216050A61; Thu, 13 Nov 2025 12:43:10 -0500 (EST) Subject: |SUCCESS| pw158696-158697 [PATCH] [v3,2/2] test/crypto: add QAT AES- From: dpdklab@iol.unh.edu To: Test Report Cc: dpdk-test-reports@iol.unh.edu, Akhil Goyal In-Reply-To: <20251112101911.2377840-2-emma.finn@intel.com> References: <20251112101911.2377840-2-emma.finn@intel.com> Content-Type: text/plain X-BeenThere: test-report@dpdk.org X-Mailman-Version: 2.1.29 Precedence: list List-Id: automatic DPDK test reports List-Unsubscribe: , List-Archive: List-Post: List-Help: List-Subscribe: , Errors-To: test-report-bounces@dpdk.org Test-Label: iol-unit-amd64-testing Test-Status: SUCCESS http://dpdk.org/patch/158697 _Testing PASS_ Submitter: Emma Finn Date: Wednesday, November 12 2025 10:19:11 DPDK git baseline: Repo:dpdk-next-crypto Branch: master CommitID:8ae4f1d511226fd65a979e9f8a1e51835281a59b 158696-158697 --> testing pass Upstream job id: Generic-VM-Unit-Test-DPDK#32489 Test environment and result as below: +-------------------------------+----------------+ | Environment | dpdk_unit_test | +===============================+================+ | Fedora Linux 42 | PASS | +-------------------------------+----------------+ | CentOS Stream 9 | PASS | +-------------------------------+----------------+ | Fedora Linux 40 | PASS | +-------------------------------+----------------+ | Fedora Linux 41 | PASS | +-------------------------------+----------------+ | Debian GNU/Linux 12 | PASS | +-------------------------------+----------------+ | CentOS Stream 10 | PASS | +-------------------------------+----------------+ | Red Hat Enterprise Linux 9.5 | PASS | +-------------------------------+----------------+ | Ubuntu 22.04 | PASS | +-------------------------------+----------------+ | Ubuntu 24.04 | PASS | +-------------------------------+----------------+ | Ubuntu 20.04 | PASS | +-------------------------------+----------------+ | Red Hat Enterprise Linux 8.10 | PASS | +-------------------------------+----------------+ | Windows Server 2022 | PASS | +-------------------------------+----------------+ Fedora Linux 42 Kernel: 5.15 Compiler: clang gcc (GCC) 15.2.1 20250808 (Red Hat 15.2.1-1) CentOS Stream 9 Kernel: 5.15 Compiler: gcc gcc (GCC) 11.5.0 20240719 (Red Hat 11.5.0-11) Fedora Linux 40 Kernel: 5.15 Compiler: gcc gcc (GCC) 14.2.1 20240912 (Red Hat 14.2.1-3) Fedora Linux 41 Kernel: 5.15 Compiler: clang gcc (GCC) 14.3.1 20250523 (Red Hat 14.3.1-1) Debian GNU/Linux 12 Kernel: 5.15 Compiler: gcc gcc (Debian 12.2.0-14+deb12u1) 12.2.0 CentOS Stream 10 Kernel: 5.15 Compiler: gcc gcc (GCC) 14.2.1 20250110 (Red Hat 14.2.1-8) Red Hat Enterprise Linux 9.5 Kernel: 5.15 Compiler: gcc gcc (GCC) 11.5.0 20240719 (Red Hat 11.5.0-2) Ubuntu 22.04 Kernel: 5.15 Compiler: gcc gcc (Ubuntu 11.4.0-1ubuntu1~22.04) 11.4.0 Ubuntu 24.04 Kernel: 5.15 Compiler: gcc gcc (Ubuntu 13.3.0-6ubuntu2~24.04) 13.3.0 Ubuntu 20.04 Kernel: 5.15 Compiler: gcc gcc (Ubuntu 9.4.0-1ubuntu1~20.04.2) 9.4.0 Red Hat Enterprise Linux 8.10 Kernel: 5.15 Compiler: gcc gcc (GCC) 8.5.0 20210514 (Red Hat 8.5.0-22) Windows Server 2022 Kernel: 10.0.20348.2031 Compiler: clang 15.0.7, gcc 14.1.0 (MinGW), and MSVC VS 19.39.33521 To view detailed results, visit: https://lab.dpdk.org/results/dashboard/patchsets/34546/ UNH-IOL DPDK Community Lab To manage your email subscriptions, visit: https://lab.dpdk.org/results/dashboard/preferences/subscriptions/