From mboxrd@z Thu Jan 1 00:00:00 1970 Return-Path: Received: from mails.dpdk.org (mails.dpdk.org [217.70.189.124]) by inbox.dpdk.org (Postfix) with ESMTP id 81B9E48AFC for ; Thu, 13 Nov 2025 18:44:58 +0100 (CET) Received: from mails.dpdk.org (localhost [127.0.0.1]) by mails.dpdk.org (Postfix) with ESMTP id 63D7840151; Thu, 13 Nov 2025 18:44:58 +0100 (CET) Received: from mail-il1-f225.google.com (mail-il1-f225.google.com [209.85.166.225]) by mails.dpdk.org (Postfix) with ESMTP id 997FB40151 for ; Thu, 13 Nov 2025 18:44:56 +0100 (CET) Received: by mail-il1-f225.google.com with SMTP id e9e14a558f8ab-4330ef18d8aso5256615ab.0 for ; Thu, 13 Nov 2025 09:44:56 -0800 (PST) DKIM-Signature: v=1; a=rsa-sha256; c=relaxed/relaxed; d=iol.unh.edu; s=unh-iol; t=1763055896; x=1763660696; darn=dpdk.org; h=references:in-reply-to:cc:to:from:subject:message-id:date:from:to :cc:subject:date:message-id:reply-to; bh=hHOx0fNz7wgiH2GnHhqV2qqNSdxWMVgBgwR3knzoouI=; b=GXSR6/yLwgLRKfDwVP0WwPplR3cQdWpn3b77VerW1lli21BtdpSGwaMrghucHHS0mK 51M+5wuqlPXH9neGNmGyHVXbuTZn8si4s0r01A7wB4KS4iMHheNLdeZFy7NW+9jmw3XH rL5/pjNNdpRMAB9YIxPGIRxqc6laa7dWVWvcI= X-Google-DKIM-Signature: v=1; a=rsa-sha256; c=relaxed/relaxed; d=1e100.net; s=20230601; t=1763055896; x=1763660696; h=references:in-reply-to:cc:to:from:subject:message-id:date:x-gm-gg :x-gm-message-state:from:to:cc:subject:date:message-id:reply-to; bh=hHOx0fNz7wgiH2GnHhqV2qqNSdxWMVgBgwR3knzoouI=; b=cLo3lY7btr3rwMhRRMhzSf8q8OyAwNt+sZI9J23FezCCqtyZ4TqLape28oH0il4gHz 9VWzAYJ3PrfdPmAl1GMD0WccJmRJQ1JWCGuw81jaARKvFlDpTXn+uR6GKLBV9fZm2hyu tL0hfExI6bovV6yrzEInJCCzUwGjbWidLNDeF0wEMjS22PX+c0ALgS5zJLYBpCIPuwDa Adwfrq/nU/uO1nF6RGjJik3mZuyiWCTOmxHOWCub5IRVr2H05qth6W8SODzA2M8LjkWs WrYECa4Fal8kgDBP2HpUBADUUecW2vR81fYgeUVc6cL4mNxdpDoXCZGY/BhBEI20Yzkw f38w== X-Gm-Message-State: AOJu0Ywkt90qpZkpjkjT/QWRytn4tRBVZiG1PTW9ZBTb2RNryeEwQzt3 UfFbBNvIrwbThKqvTjb2VtxisbMQaIdxTs+eqcP4gBL3uRDP86PguesvbGZDIICltzYIPs3f/Ik gj8Ca9EyLuonJN2lzcP8eQBNERK6K0rInq4NXZqW9vArS X-Gm-Gg: ASbGncvuIMnFcBeSIobbZeBHiJoIADR1f6+Ilx54ccyN3RF8B3qbhYEcxjajUNfcrKG 1kYLclZfJFidxOluCPLTdCzCF3A16wSxCBvDgXoAdCM5ZR5ITe1emwskSjZSprRJs6S57yvRkeL L3gpdeqVuXc7Aa2wLG/s/WGfdBAFFlNgoj0AWtcWJ1HkVk29QsfCNvmmaKzmDUHw1gzYnauhOos 7aMDY/mN7RNGU7dPNnlhmVtn0KBHiteD/LNfWojEkdw9Rc3pImSbm8PzXND3IzLGAmasYiEdEjO NoVce44f3w3RCY4vUTBOJBWTIqYuFim7o9cKlK6wIHpsZ9pA9lpovqns79X6gEREhAOcBURePLS YnOtUYmXTOdd5NvHLorDUb2R2gNkAgCc= X-Google-Smtp-Source: AGHT+IE3wUJ96cxVBDSVZA1kZoX6b3cBXvcgGDui6GaVGqahfCAc/Ux4CMaYCGPnQiwv9sDTLWyrlM/09ZQH X-Received: by 2002:a05:6e02:3784:b0:433:2812:8066 with SMTP id e9e14a558f8ab-4348c91b9ecmr5348115ab.23.1763055895782; Thu, 13 Nov 2025 09:44:55 -0800 (PST) Received: from postal.iol.unh.edu (postal.iol.unh.edu. [132.177.123.84]) by smtp-relay.gmail.com with ESMTPS id e9e14a558f8ab-434838c4669sm2064465ab.15.2025.11.13.09.44.55 (version=TLS1_2 cipher=ECDHE-ECDSA-AES128-GCM-SHA256 bits=128/128); Thu, 13 Nov 2025 09:44:55 -0800 (PST) X-Relaying-Domain: iol.unh.edu Date: Thu, 13 Nov 2025 09:44:55 -0800 (PST) Message-ID: <69161917.050a0220.11415.9776SMTPIN_ADDED_MISSING@mx.google.com> Received: from [172.21.0.2] (unknown [172.18.0.240]) by postal.iol.unh.edu (Postfix) with ESMTP id 5DC7C6050A61; Thu, 13 Nov 2025 12:44:55 -0500 (EST) Subject: |SUCCESS| pw158746 [PATCH] app/proc-info: allow overriding defaults From: dpdklab@iol.unh.edu To: Test Report Cc: dpdk-test-reports@iol.unh.edu In-Reply-To: <20251112130326.2674728-1-mprajapat@marvell.com> References: <20251112130326.2674728-1-mprajapat@marvell.com> Content-Type: text/plain X-BeenThere: test-report@dpdk.org X-Mailman-Version: 2.1.29 Precedence: list List-Id: automatic DPDK test reports List-Unsubscribe: , List-Archive: List-Post: List-Help: List-Subscribe: , Errors-To: test-report-bounces@dpdk.org Test-Label: iol-compile-amd64-testing Test-Status: SUCCESS http://dpdk.org/patch/158746 _Testing PASS_ Submitter: Mohit Kumar Parjapat Date: Wednesday, November 12 2025 13:03:13 DPDK git baseline: Repo:dpdk Branch: master CommitID:be0112878b4fc3a1b918370ed2fe615c52039d77 158746 --> testing pass Upstream job id: Generic-DPDK-Compile-Meson#443836 Test environment and result as below: +-------------------------------+--------------------+------------------+ | Environment | dpdk_meson_compile | dpdk_compile_ovs | +===============================+====================+==================+ | Ubuntu 20.04 | PASS | SKIPPED | +-------------------------------+--------------------+------------------+ | FreeBSD 14.2 | PASS | SKIPPED | +-------------------------------+--------------------+------------------+ | CentOS Stream 9 | PASS | SKIPPED | +-------------------------------+--------------------+------------------+ | CentOS Stream 10 | PASS | SKIPPED | +-------------------------------+--------------------+------------------+ | Debian GNU/Linux 12 | PASS | SKIPPED | +-------------------------------+--------------------+------------------+ | Fedora Linux 42 | PASS | PASS | +-------------------------------+--------------------+------------------+ | openSUSE Leap 15.6 | PASS | SKIPPED | +-------------------------------+--------------------+------------------+ | Red Hat Enterprise Linux 8.10 | PASS | SKIPPED | +-------------------------------+--------------------+------------------+ | Red Hat Enterprise Linux 9.5 | PASS | SKIPPED | +-------------------------------+--------------------+------------------+ | Ubuntu 22.04 | PASS | SKIPPED | +-------------------------------+--------------------+------------------+ | Ubuntu 24.04 | PASS | PASS | +-------------------------------+--------------------+------------------+ | Alpine Linux 3.22.0 | PASS | SKIPPED | +-------------------------------+--------------------+------------------+ Ubuntu 20.04 Kernel: 4.19 Compiler: gcc gcc (Ubuntu 9.4.0-1ubuntu1~20.04.2) 9.4.0 FreeBSD 14.2 Kernel: 14.2-RELEASE Compiler: clang 18.1.6 CentOS Stream 9 Kernel: 5.15 Compiler: gcc gcc (GCC) 11.5.0 20240719 (Red Hat 11.5.0-11) CentOS Stream 10 Kernel: 5.15 Compiler: gcc gcc (GCC) 14.2.1 20250110 (Red Hat 14.2.1-8) Debian GNU/Linux 12 Kernel: 5.15 Compiler: gcc gcc (Debian 12.2.0-14+deb12u1) 12.2.0 Fedora Linux 42 Kernel: 5.15 Compiler: clang gcc (GCC) 15.2.1 20250808 (Red Hat 15.2.1-1) openSUSE Leap 15.6 Kernel: 5.15 Compiler: gcc gcc (SUSE Linux) 7.5.0 Red Hat Enterprise Linux 8.10 Kernel: 5.15 Compiler: gcc gcc (GCC) 8.5.0 20210514 (Red Hat 8.5.0-22) Red Hat Enterprise Linux 9.5 Kernel: 5.15 Compiler: gcc gcc (GCC) 11.5.0 20240719 (Red Hat 11.5.0-2) Ubuntu 22.04 Kernel: 5.15 Compiler: gcc gcc (Ubuntu 11.4.0-1ubuntu1~22.04) 11.4.0 Ubuntu 24.04 Kernel: 5.15 Compiler: gcc gcc (Ubuntu 13.3.0-6ubuntu2~24.04) 13.3.0 Alpine Linux 3.22.0 Kernel: 5.15 Compiler: gcc gcc (Alpine 14.2.0) 14.2.0 To view detailed results, visit: https://lab.dpdk.org/results/dashboard/patchsets/34566/ UNH-IOL DPDK Community Lab To manage your email subscriptions, visit: https://lab.dpdk.org/results/dashboard/preferences/subscriptions/