From mboxrd@z Thu Jan 1 00:00:00 1970 Return-Path: Received: from mails.dpdk.org (mails.dpdk.org [217.70.189.124]) by inbox.dpdk.org (Postfix) with ESMTP id 3A6A148AFC for ; Thu, 13 Nov 2025 18:52:36 +0100 (CET) Received: from mails.dpdk.org (localhost [127.0.0.1]) by mails.dpdk.org (Postfix) with ESMTP id 3402340151; Thu, 13 Nov 2025 18:52:36 +0100 (CET) Received: from mail-pj1-f100.google.com (mail-pj1-f100.google.com [209.85.216.100]) by mails.dpdk.org (Postfix) with ESMTP id DAC4040151 for ; Thu, 13 Nov 2025 18:52:35 +0100 (CET) Received: by mail-pj1-f100.google.com with SMTP id 98e67ed59e1d1-34182b1c64bso738701a91.3 for ; Thu, 13 Nov 2025 09:52:35 -0800 (PST) DKIM-Signature: v=1; a=rsa-sha256; c=relaxed/relaxed; d=iol.unh.edu; s=unh-iol; t=1763056355; x=1763661155; darn=dpdk.org; h=references:in-reply-to:cc:to:from:subject:message-id:date:from:to :cc:subject:date:message-id:reply-to; bh=QTiLC199rjkt2ISWV9+mYkYkmVujWEYq/SOZhCkf+GM=; b=CFBAm6983gWgHCdZ8OAelZoj4y7BSE+E7cJinUD96HbnnkjIEaCdVBYoN7ED2FCejJ ZmcAkvPcZvZQqXTWHhPYMtFVKN8aiMVQjNVJ6oisi7t/vyKm27hiX2c13cBzb1ZVyWwQ GA5CRYrPbidWKd4/hKOTeeoyiU5daTNnrwbPc= X-Google-DKIM-Signature: v=1; a=rsa-sha256; c=relaxed/relaxed; d=1e100.net; s=20230601; t=1763056355; x=1763661155; h=references:in-reply-to:cc:to:from:subject:message-id:date:x-gm-gg :x-gm-message-state:from:to:cc:subject:date:message-id:reply-to; bh=QTiLC199rjkt2ISWV9+mYkYkmVujWEYq/SOZhCkf+GM=; b=RCxk+C9VGtIeJCQrXBSkdyHbSllyzMuKOQyWOkRWE4jDx9HPUU1QlXt/idpmQM8p4C dTsmd+ysMPkeikf4CmjkXgOa0nvLtb5mzTA6Zxg4O8e1Le9v/mJRF1oiWJNgTSxKqKVX G418D9+QmYPv9H1n/7eKeK0757LNuF1Vw3V4S2KEI4nqeGIBFUqLqG8hP8Qb87Uv+e0P UM8kK4/1QIQqPGYMz1Sump9xuTK/SUMeFAlUprv/B7aohLYCC1c7aHRMVLwW5oy7Tj4A 1nHY+C8e/UmelcWBbYWlQsORPVBLqejbfKjSqwRrM1ThW3p3tccUOmSILzP+OJdyhFcT zbEg== X-Gm-Message-State: AOJu0Yz22rsMo7eRvkDga+NDAIvmDYEog4GDEcmUnZARVn27Db7P/k5m zJLudhUPh1wVq9ynq10uDWYaW+oOCgs1zVtrh6f9pmtEzNxr8MjYyVSPA00bBsQMeH0IpzQnXzu /pq/e71A7PcpIoin9YWDMjIexUsC7g50s2XBBXhLUK1IuXd9dv1K5jfbzHTx9 X-Gm-Gg: ASbGncvhndhgzq2YQWsbRyqRK/EbR3r0ZKHLeS9ydVoAlnDfNIDf5L/AVGmX9kg+yMf TbftF81yIQwErvMqioNiYi88kkxxo3mUrFRrrzENq/bMr26zkk6ACO6L65jYCFtNQsb1Lmn8qB0 0zRy5fEog9eo8LbAk7lm4v0hJZBfRhT6QJoZ/RvREDIdPSIw+X/a0KWftdNiJP2jtm5++CHI7aH 9QZ1YlItmhReva2HM9unbHaEKVyWOKPl22unK3bsVvYEG4JodS5JqoCjMqhCH3KFBp0eOIxSlH+ 3m1BqypD7HROpEXmsPCUKahusRAaIw5/vpXRXM1RF+ovKOm2MZ2rytLeQESXXn0afoR9zKPuL1m A9PeNz02l X-Google-Smtp-Source: AGHT+IEsMUhM4PBac7S9m32WmgvQDgzVdylBXU3qKADPUV2PKvmzakB88VFEq/kDI7D9f3FxwnsfqLyTa7C+ X-Received: by 2002:a17:90b:4e8b:b0:33e:2d0f:4793 with SMTP id 98e67ed59e1d1-343f9eb1cb4mr158384a91.11.1763056354981; Thu, 13 Nov 2025 09:52:34 -0800 (PST) Received: from postal.iol.unh.edu (postal.iol.unh.edu. [2606:4100:3880:1234::84]) by smtp-relay.gmail.com with ESMTPS id 98e67ed59e1d1-343ed4c95d5sm352344a91.2.2025.11.13.09.52.33 (version=TLS1_2 cipher=ECDHE-ECDSA-AES128-GCM-SHA256 bits=128/128); Thu, 13 Nov 2025 09:52:33 -0800 (PST) X-Relaying-Domain: iol.unh.edu Date: Thu, 13 Nov 2025 09:52:33 -0800 (PST) Message-ID: <69161ae1.170a0220.1a1beb.08d0SMTPIN_ADDED_MISSING@mx.google.com> Received: from [172.21.0.4] (unknown [172.18.0.240]) by postal.iol.unh.edu (Postfix) with ESMTP id BD22F6050A61; Thu, 13 Nov 2025 12:52:32 -0500 (EST) Subject: |SUCCESS| pw158696-158697 [PATCH] [v3,2/2] test/crypto: add QAT AES- From: dpdklab@iol.unh.edu To: Test Report Cc: dpdk-test-reports@iol.unh.edu, Akhil Goyal In-Reply-To: <20251112101911.2377840-2-emma.finn@intel.com> References: <20251112101911.2377840-2-emma.finn@intel.com> Content-Type: text/plain X-BeenThere: test-report@dpdk.org X-Mailman-Version: 2.1.29 Precedence: list List-Id: automatic DPDK test reports List-Unsubscribe: , List-Archive: List-Post: List-Help: List-Subscribe: , Errors-To: test-report-bounces@dpdk.org Test-Label: iol-unit-amd64-testing Test-Status: SUCCESS http://dpdk.org/patch/158697 _Testing PASS_ Submitter: Emma Finn Date: Wednesday, November 12 2025 10:19:11 DPDK git baseline: Repo:dpdk-next-crypto Branch: master CommitID:8ae4f1d511226fd65a979e9f8a1e51835281a59b 158696-158697 --> testing pass Upstream job id: Generic-VM-Unit-Test-DPDK#32490 Test environment and result as below: +-------------------------------+----------------+ | Environment | dpdk_unit_test | +===============================+================+ | Fedora Linux 42 | PASS | +-------------------------------+----------------+ | CentOS Stream 9 | PASS | +-------------------------------+----------------+ | Fedora Linux 40 | PASS | +-------------------------------+----------------+ | Fedora Linux 41 | PASS | +-------------------------------+----------------+ | Debian GNU/Linux 12 | PASS | +-------------------------------+----------------+ | CentOS Stream 10 | PASS | +-------------------------------+----------------+ | Red Hat Enterprise Linux 9.5 | PASS | +-------------------------------+----------------+ | Ubuntu 22.04 | PASS | +-------------------------------+----------------+ | Ubuntu 24.04 | PASS | +-------------------------------+----------------+ | Ubuntu 20.04 | PASS | +-------------------------------+----------------+ | Red Hat Enterprise Linux 8.10 | PASS | +-------------------------------+----------------+ | Windows Server 2022 | PASS | +-------------------------------+----------------+ Fedora Linux 42 Kernel: 5.15 Compiler: clang gcc (GCC) 15.2.1 20250808 (Red Hat 15.2.1-1) CentOS Stream 9 Kernel: 5.15 Compiler: gcc gcc (GCC) 11.5.0 20240719 (Red Hat 11.5.0-11) Fedora Linux 40 Kernel: 5.15 Compiler: gcc gcc (GCC) 14.2.1 20240912 (Red Hat 14.2.1-3) Fedora Linux 41 Kernel: 5.15 Compiler: clang gcc (GCC) 14.3.1 20250523 (Red Hat 14.3.1-1) Debian GNU/Linux 12 Kernel: 5.15 Compiler: gcc gcc (Debian 12.2.0-14+deb12u1) 12.2.0 CentOS Stream 10 Kernel: 5.15 Compiler: gcc gcc (GCC) 14.2.1 20250110 (Red Hat 14.2.1-8) Red Hat Enterprise Linux 9.5 Kernel: 5.15 Compiler: gcc gcc (GCC) 11.5.0 20240719 (Red Hat 11.5.0-2) Ubuntu 22.04 Kernel: 5.15 Compiler: gcc gcc (Ubuntu 11.4.0-1ubuntu1~22.04) 11.4.0 Ubuntu 24.04 Kernel: 5.15 Compiler: gcc gcc (Ubuntu 13.3.0-6ubuntu2~24.04) 13.3.0 Ubuntu 20.04 Kernel: 5.15 Compiler: gcc gcc (Ubuntu 9.4.0-1ubuntu1~20.04.2) 9.4.0 Red Hat Enterprise Linux 8.10 Kernel: 5.15 Compiler: gcc gcc (GCC) 8.5.0 20210514 (Red Hat 8.5.0-22) Windows Server 2022 Kernel: 10.0.20348.2031 Compiler: clang 15.0.7, gcc 14.1.0 (MinGW), and MSVC VS 19.39.33521 To view detailed results, visit: https://lab.dpdk.org/results/dashboard/patchsets/34546/ UNH-IOL DPDK Community Lab To manage your email subscriptions, visit: https://lab.dpdk.org/results/dashboard/preferences/subscriptions/