From mboxrd@z Thu Jan 1 00:00:00 1970 Return-Path: Received: from mails.dpdk.org (mails.dpdk.org [217.70.189.124]) by inbox.dpdk.org (Postfix) with ESMTP id 4479848AFC for ; Thu, 13 Nov 2025 19:13:37 +0100 (CET) Received: from mails.dpdk.org (localhost [127.0.0.1]) by mails.dpdk.org (Postfix) with ESMTP id 2114740151; Thu, 13 Nov 2025 19:13:37 +0100 (CET) Received: from mail-vk1-f225.google.com (mail-vk1-f225.google.com [209.85.221.225]) by mails.dpdk.org (Postfix) with ESMTP id 3AFFD40151 for ; Thu, 13 Nov 2025 19:13:36 +0100 (CET) Received: by mail-vk1-f225.google.com with SMTP id 71dfb90a1353d-5599688d06dso312216e0c.2 for ; Thu, 13 Nov 2025 10:13:36 -0800 (PST) DKIM-Signature: v=1; a=rsa-sha256; c=relaxed/relaxed; d=iol.unh.edu; s=unh-iol; t=1763057615; x=1763662415; darn=dpdk.org; h=references:in-reply-to:cc:to:from:subject:message-id:date:from:to :cc:subject:date:message-id:reply-to; bh=D96JMp94z55vsILoWsV8pD1/+KBM06OHyhmtVmQhZPc=; b=TgsavkH5t6Q3uLe4p2uhXyFmNHUOv1r8ASg5F2442U3A3hV53SgS9xvAC+BuSTfpb4 62JbmA56/5k5SMHyI0r3/sQlfLE5jDyR4j2tFQ8U7O8/ZB03ScKFoWEvoV9cLg+ruJqJ UZsRmc2Nfc19/dcQ6x5QtpOmGc0iJ3b21euOw= X-Google-DKIM-Signature: v=1; a=rsa-sha256; c=relaxed/relaxed; d=1e100.net; s=20230601; t=1763057615; x=1763662415; h=references:in-reply-to:cc:to:from:subject:message-id:date:x-gm-gg :x-gm-message-state:from:to:cc:subject:date:message-id:reply-to; bh=D96JMp94z55vsILoWsV8pD1/+KBM06OHyhmtVmQhZPc=; b=wy0j2tMy2n8WMcBptfXdF+m+5MdKN4ZEOESAIMFaJgibYWHdHxb/Z4VcfbwyYAK8Bc dBridxT7TU2AHimA1Irv92h0c+g+I8p8Z0vsniPY4MgZ7COYD3Ff7dx951M9Yy7lEOgT r3L6fWOEhR6xwJoGXgmqQkJBHuiiJi7YTGlFLwQtKc9VLwmNA+Z03jcrIxUn3xcgFjDy APZSuZ4sXhIACnN42075cIGBg8YbycHxzULZ88k3qsmDBoFA1AV+ArlQ/Ci1WuyAJArQ 8vUG09pjK6X2MIy7LYgqPv9Xz7zh7ENpDkA3m7uyx2Q6VSDQQuPM2TDELo21UY4FQc6O jKSw== X-Gm-Message-State: AOJu0YwXp1J52cT6q5FTXj6FvFMRxgATGyCfkHOegh/r+AuWT8sXso2I sy/LVTHKv9ut6xEeObN4LTlBO0kXWpl+iT744LLEMaO4ghk+SdwSPBXHEAD6fLMQCbf/Rck6Hyj +f124a5Fywp0BVTO7+yek9KNtxk1i7O21eO9E2PpJzU8o X-Gm-Gg: ASbGnctjPyZLvyjZDa/bGIpc4/dhfvaxYtZ4l2lpJHB8E5bPbxtUO+ilNQqxerMrKPi KgEz+JNLoen1N2OV7sh2tBIkPpFhCSmRsCRFbKjMzdnoX8yOz30j/8qSX+5AAMUNevp9ouFlsm7 19yXYRuDAn7SCgtfk3wjLVIAdukjLjF4G/yJgEiBix3eZNkgJ5+UF4JkpqTC0R4WSzbFO95gT6U ftVWY7tGFLctbWYEW33y/6uNKlll1xiO8A9mPKMgq/DASqxBhp4mT6Erjld0xZiqx9Fiq8K60JD ZjpIIOhbcJzrEoBTOVjkzbNI3pe3mk6VC+y7dx9OgtVXNIcNJXfedQlqH1eHGP8t0ELZ7K0xC9o viwv9fJWOUZB/49yebmmiBnLAo0jSAKk= X-Google-Smtp-Source: AGHT+IFhBzAKq6Hd/gVbW9OuV1zLO4Wz54S+TPoYLWxhYhYbu+Yjy3WzBnj9bmyXq3oUy+oq79JT3/bVHO+P X-Received: by 2002:a05:6122:c9d:b0:559:64fe:7d37 with SMTP id 71dfb90a1353d-55b1be0b60bmr315830e0c.7.1763057615544; Thu, 13 Nov 2025 10:13:35 -0800 (PST) Received: from postal.iol.unh.edu (postal.iol.unh.edu. [132.177.123.84]) by smtp-relay.gmail.com with ESMTPS id 71dfb90a1353d-55b0f48ca70sm309722e0c.7.2025.11.13.10.13.35 (version=TLS1_2 cipher=ECDHE-ECDSA-AES128-GCM-SHA256 bits=128/128); Thu, 13 Nov 2025 10:13:35 -0800 (PST) X-Relaying-Domain: iol.unh.edu Date: Thu, 13 Nov 2025 10:13:35 -0800 (PST) Message-ID: <69161fcf.050a0220.6358d.e8e7SMTPIN_ADDED_MISSING@mx.google.com> Received: from [172.21.0.2] (unknown [172.18.0.240]) by postal.iol.unh.edu (Postfix) with ESMTP id 33772604D420; Thu, 13 Nov 2025 13:13:35 -0500 (EST) Subject: |SUCCESS| pw158702-158704 [PATCH] [v2,3/3] net/fm10k: fix null packe From: dpdklab@iol.unh.edu To: Test Report Cc: dpdk-test-reports@iol.unh.edu, Bruce Richardson In-Reply-To: <20251112141059.1576919-4-bruce.richardson@intel.com> References: <20251112141059.1576919-4-bruce.richardson@intel.com> Content-Type: text/plain X-BeenThere: test-report@dpdk.org X-Mailman-Version: 2.1.29 Precedence: list List-Id: automatic DPDK test reports List-Unsubscribe: , List-Archive: List-Post: List-Help: List-Subscribe: , Errors-To: test-report-bounces@dpdk.org Test-Label: iol-compile-amd64-testing Test-Status: SUCCESS http://dpdk.org/patch/158704 _Testing PASS_ Submitter: Bruce Richardson Date: Wednesday, November 12 2025 14:10:59 DPDK git baseline: Repo:dpdk-next-net-intel Branch: master CommitID:be0112878b4fc3a1b918370ed2fe615c52039d77 158702-158704 --> testing pass Upstream job id: Windows-Compile-DPDK-VS#7518 Test environment and result as below: +-------------------------------+--------------------+------------------+-------------------+ | Environment | dpdk_meson_compile | dpdk_compile_ovs | dpdk_msvc_compile | +===============================+====================+==================+===================+ | FreeBSD 14.2 | PASS | SKIPPED | SKIPPED | +-------------------------------+--------------------+------------------+-------------------+ | Ubuntu 20.04 | PASS | SKIPPED | SKIPPED | +-------------------------------+--------------------+------------------+-------------------+ | CentOS Stream 9 | PASS | SKIPPED | SKIPPED | +-------------------------------+--------------------+------------------+-------------------+ | CentOS Stream 10 | PASS | SKIPPED | SKIPPED | +-------------------------------+--------------------+------------------+-------------------+ | Debian GNU/Linux 12 | PASS | SKIPPED | SKIPPED | +-------------------------------+--------------------+------------------+-------------------+ | Fedora Linux 42 | PASS | PASS | SKIPPED | +-------------------------------+--------------------+------------------+-------------------+ | openSUSE Leap 15.6 | PASS | SKIPPED | SKIPPED | +-------------------------------+--------------------+------------------+-------------------+ | Red Hat Enterprise Linux 8.10 | PASS | SKIPPED | SKIPPED | +-------------------------------+--------------------+------------------+-------------------+ | Red Hat Enterprise Linux 9.5 | PASS | SKIPPED | SKIPPED | +-------------------------------+--------------------+------------------+-------------------+ | Ubuntu 22.04 | PASS | SKIPPED | SKIPPED | +-------------------------------+--------------------+------------------+-------------------+ | Ubuntu 24.04 | PASS | PASS | SKIPPED | +-------------------------------+--------------------+------------------+-------------------+ | Alpine Linux 3.22.0 | PASS | SKIPPED | SKIPPED | +-------------------------------+--------------------+------------------+-------------------+ | Windows Server 2022 | SKIPPED | SKIPPED | PASS | +-------------------------------+--------------------+------------------+-------------------+ FreeBSD 14.2 Kernel: 14.2-RELEASE Compiler: clang 18.1.6 Ubuntu 20.04 Kernel: 4.19 Compiler: gcc gcc (Ubuntu 9.4.0-1ubuntu1~20.04.2) 9.4.0 CentOS Stream 9 Kernel: 5.15 Compiler: gcc gcc (GCC) 11.5.0 20240719 (Red Hat 11.5.0-11) CentOS Stream 10 Kernel: 5.15 Compiler: gcc gcc (GCC) 14.2.1 20250110 (Red Hat 14.2.1-8) Debian GNU/Linux 12 Kernel: 5.15 Compiler: gcc gcc (Debian 12.2.0-14+deb12u1) 12.2.0 Fedora Linux 42 Kernel: 5.15 Compiler: clang gcc (GCC) 15.2.1 20250808 (Red Hat 15.2.1-1) openSUSE Leap 15.6 Kernel: 5.15 Compiler: gcc gcc (SUSE Linux) 7.5.0 Red Hat Enterprise Linux 8.10 Kernel: 5.15 Compiler: gcc gcc (GCC) 8.5.0 20210514 (Red Hat 8.5.0-22) Red Hat Enterprise Linux 9.5 Kernel: 5.15 Compiler: gcc gcc (GCC) 11.5.0 20240719 (Red Hat 11.5.0-2) Ubuntu 22.04 Kernel: 5.15 Compiler: gcc gcc (Ubuntu 11.4.0-1ubuntu1~22.04) 11.4.0 Ubuntu 24.04 Kernel: 5.15 Compiler: gcc gcc (Ubuntu 13.3.0-6ubuntu2~24.04) 13.3.0 Alpine Linux 3.22.0 Kernel: 5.15 Compiler: gcc gcc (Alpine 14.2.0) 14.2.0 Windows Server 2022 Kernel: 10.0.20348.2031 Compiler: clang 15.0.7, gcc 14.1.0 (MinGW), and MSVC VS 19.39.33521 To view detailed results, visit: https://lab.dpdk.org/results/dashboard/patchsets/34551/ UNH-IOL DPDK Community Lab To manage your email subscriptions, visit: https://lab.dpdk.org/results/dashboard/preferences/subscriptions/