From mboxrd@z Thu Jan 1 00:00:00 1970 Return-Path: Received: from mails.dpdk.org (mails.dpdk.org [217.70.189.124]) by inbox.dpdk.org (Postfix) with ESMTP id 40A9248AFC for ; Thu, 13 Nov 2025 19:14:22 +0100 (CET) Received: from mails.dpdk.org (localhost [127.0.0.1]) by mails.dpdk.org (Postfix) with ESMTP id 38FA540151; Thu, 13 Nov 2025 19:14:22 +0100 (CET) Received: from mail-il1-f225.google.com (mail-il1-f225.google.com [209.85.166.225]) by mails.dpdk.org (Postfix) with ESMTP id 0FB4440151 for ; Thu, 13 Nov 2025 19:14:21 +0100 (CET) Received: by mail-il1-f225.google.com with SMTP id e9e14a558f8ab-43346da8817so6854885ab.0 for ; Thu, 13 Nov 2025 10:14:21 -0800 (PST) DKIM-Signature: v=1; a=rsa-sha256; c=relaxed/relaxed; d=iol.unh.edu; s=unh-iol; t=1763057660; x=1763662460; darn=dpdk.org; h=references:in-reply-to:cc:to:from:subject:message-id:date:from:to :cc:subject:date:message-id:reply-to; bh=KANLjyYP+XdQLVZ/NtErewFRTa9rF0Wli5q9yXVfRK0=; b=BNy4okR+1wcjVlWutJh6/xctbd02EA3CljE/13AU1z0ezKnZFdmEKUGY0OQLCeriA4 Q7fS4uEzOk0f/3upFQA/yoXlIYzLNmUCkSCzl4n+ZaQDYzstbOn6Y5wijJeh6ucoIb8s bCJZicadq6J10IEpz+rM5EaCSPnayiM65uJlA= X-Google-DKIM-Signature: v=1; a=rsa-sha256; c=relaxed/relaxed; d=1e100.net; s=20230601; t=1763057660; x=1763662460; h=references:in-reply-to:cc:to:from:subject:message-id:date:x-gm-gg :x-gm-message-state:from:to:cc:subject:date:message-id:reply-to; bh=KANLjyYP+XdQLVZ/NtErewFRTa9rF0Wli5q9yXVfRK0=; b=SpW/R178U/Edf17xTTy7K7ZFcar/l/rUi3w+bXA2vQA2aoGYBTJoCthIEZOjcbCKfj aa0YiroVm4bXwNrZCPeUYol6+FIKFMy3JV6bOXE/mOeinBeR3HARrlqF1l0z4uBeK8/A MZZ+icu+IopfcvwTUnF8Zf1bBdsAL7RaZswaZXZosDRXsYSBOYrNKVlMIf9J/SJJG9CI NPVkWA0XU4DzeWyKLM8evKrvQSvYOvCxWZfCeARuLMj6Ts1q1X485+RKdyC80k+9uUMy IbUXg8ny3r1vkVn94txAp6+ik55IqeN/HQI1pCXRhF6ybstV17CY5TbBViqqQTTXX6bb zvtA== X-Gm-Message-State: AOJu0Yy7E70YfysHWSKml+w3vetT01FRgJ++1jzYRKRw+oUB68eJ8wZe LCizyiedWElssBb53U5++A+7mBwROkt3mD6g4a1TfGf0CMAGlGxIQkSGCKZZmK9THKD5kJRkHSA qAD1h/2W0Z0KKwJddwDGvExIiXzYEY7HswtILP0VS/aEs X-Gm-Gg: ASbGncuD/GVKn4RAwrx0KtVHvdUAE4Of8qgF0TmERwa8spS6X6PkbH7CwKmfHBmsQKD b9HwaNSguTsfcbUUZgrUdWymapH9XqO7MqGFqPchkqCiexnK2SB2Q5+/N19N0zoel3wO/J8uRc1 oslWzrfI0CHiEZCA9hV5XkauBEwBLjr3hT5deLMcoDXtXaEcoaE0+RCFR/Oddzzj0WzHCGNjRzw jbAiOppDDZbQxG0gxUr6mV957GnjhrV2GCeR3KUgv6wTTjNOH3cCMoZ1EIrvljmoAqSI5yrvIfh u21ZSz3HzPX//k2DcigyWQw0JbAN/gsfI/5zKVwVxhS3gcCmzFJ9CFa+goVj8OtUyJwSVGmyPVl UlpMh+QeF47+EmK4VDBLYNn2fxXBQdI0= X-Google-Smtp-Source: AGHT+IHk753wiW7vTTvQ4auSRgT6SA8n/eIAQ9gFPTnIgaRdEs8Brwve2jCVwUqzGIMo53zMoIoNCUaIbXVr X-Received: by 2002:a05:6e02:4502:b0:433:7508:6a0d with SMTP id e9e14a558f8ab-4347c24725cmr56729485ab.0.1763057660322; Thu, 13 Nov 2025 10:14:20 -0800 (PST) Received: from postal.iol.unh.edu (postal.iol.unh.edu. [132.177.123.84]) by smtp-relay.gmail.com with ESMTPS id 8926c6da1cb9f-5b7bd3510ebsm230140173.35.2025.11.13.10.14.20 (version=TLS1_2 cipher=ECDHE-ECDSA-AES128-GCM-SHA256 bits=128/128); Thu, 13 Nov 2025 10:14:20 -0800 (PST) X-Relaying-Domain: iol.unh.edu Date: Thu, 13 Nov 2025 10:14:20 -0800 (PST) Message-ID: <69161ffc.020a0220.14a6fd.a90cSMTPIN_ADDED_MISSING@mx.google.com> Received: from [172.21.0.2] (unknown [172.18.0.240]) by postal.iol.unh.edu (Postfix) with ESMTP id D97C3604D420; Thu, 13 Nov 2025 13:14:19 -0500 (EST) Subject: |SUCCESS| pw158706 [PATCH] net/mlx5: fix send to kernel resources re From: dpdklab@iol.unh.edu To: Test Report Cc: dpdk-test-reports@iol.unh.edu In-Reply-To: <20251112162440.425611-1-getelson@nvidia.com> References: <20251112162440.425611-1-getelson@nvidia.com> Content-Type: text/plain X-BeenThere: test-report@dpdk.org X-Mailman-Version: 2.1.29 Precedence: list List-Id: automatic DPDK test reports List-Unsubscribe: , List-Archive: List-Post: List-Help: List-Subscribe: , Errors-To: test-report-bounces@dpdk.org Test-Label: iol-unit-arm64-testing Test-Status: SUCCESS http://dpdk.org/patch/158706 _Testing PASS_ Submitter: Gregory Etelson Date: Wednesday, November 12 2025 16:24:40 DPDK git baseline: Repo:dpdk-next-net-mlx Branch: master CommitID:ae657d56b1f0ea979b3f611edf28d773efc2ddcf 158706 --> testing pass Upstream job id: Generic-Unit-Test-DPDK#391653 Test environment and result as below: +------------------------------+----------------+------------------------------+--------------+---------------------------+ | Environment | dpdk_unit_test | cryptodev_sw_snow3g_autotest | lpm_autotest | cryptodev_sw_zuc_autotest | +==============================+================+==============================+==============+===========================+ | CentOS Stream 10 | PASS | SKIPPED | SKIPPED | SKIPPED | +------------------------------+----------------+------------------------------+--------------+---------------------------+ | Fedora Linux 42 | PASS | SKIPPED | SKIPPED | SKIPPED | +------------------------------+----------------+------------------------------+--------------+---------------------------+ | CentOS Stream 9 | PASS | SKIPPED | SKIPPED | SKIPPED | +------------------------------+----------------+------------------------------+--------------+---------------------------+ | Debian GNU/Linux 12 | PASS | SKIPPED | SKIPPED | SKIPPED | +------------------------------+----------------+------------------------------+--------------+---------------------------+ | Fedora Linux 40 | PASS | SKIPPED | SKIPPED | SKIPPED | +------------------------------+----------------+------------------------------+--------------+---------------------------+ | Ubuntu 22.04 | PASS | SKIPPED | SKIPPED | SKIPPED | +------------------------------+----------------+------------------------------+--------------+---------------------------+ | Fedora Linux 41 | PASS | SKIPPED | SKIPPED | SKIPPED | +------------------------------+----------------+------------------------------+--------------+---------------------------+ | Ubuntu 20.04 | PASS | SKIPPED | PASS | SKIPPED | +------------------------------+----------------+------------------------------+--------------+---------------------------+ | Red Hat Enterprise Linux 9.5 | PASS | SKIPPED | SKIPPED | SKIPPED | +------------------------------+----------------+------------------------------+--------------+---------------------------+ | Ubuntu 24.04 | PASS | SKIPPED | SKIPPED | SKIPPED | +------------------------------+----------------+------------------------------+--------------+---------------------------+ | Debian 12 (arm) | SKIPPED | PASS | SKIPPED | PASS | +------------------------------+----------------+------------------------------+--------------+---------------------------+ CentOS Stream 10 Kernel: 5.4 Compiler: gcc gcc (GCC) 14.2.1 20250110 (Red Hat 14.2.1-8) Fedora Linux 42 Kernel: 5.4 Compiler: gcc gcc (GCC) 15.2.1 20250808 (Red Hat 15.2.1-1) CentOS Stream 9 Kernel: 5.4 Compiler: gcc gcc (GCC) 11.5.0 20240719 (Red Hat 11.5.0-11) Debian GNU/Linux 12 Kernel: 5.4 Compiler: gcc gcc (Debian 12.2.0-14+deb12u1) 12.2.0 Fedora Linux 40 Kernel: 5.4 Compiler: gcc gcc (GCC) 14.2.1 20240912 (Red Hat 14.2.1-3) Ubuntu 22.04 Kernel: 5.15 Compiler: gcc gcc (Ubuntu 11.4.0-1ubuntu1~22.04.2) 11.4.0 Fedora Linux 41 Kernel: 5.4 Compiler: gcc gcc (GCC) 14.3.1 20250523 (Red Hat 14.3.1-1) Ubuntu 20.04 Kernel: 5.4 Compiler: gcc gcc (Ubuntu 9.4.0-1ubuntu1~20.04.2) 9.4.0 Red Hat Enterprise Linux 9.5 Kernel: 5.4 Compiler: gcc gcc (GCC) 11.5.0 20240719 (Red Hat 11.5.0-2) Ubuntu 24.04 Kernel: 5.4 Compiler: gcc gcc (Ubuntu 13.3.0-6ubuntu2~24.04) 13.3.0 Debian 12 (arm) Kernel: Depends on container host Compiler: gcc (Debian 12.2.0-14) 12.2.0 To view detailed results, visit: https://lab.dpdk.org/results/dashboard/patchsets/34558/ UNH-IOL DPDK Community Lab To manage your email subscriptions, visit: https://lab.dpdk.org/results/dashboard/preferences/subscriptions/